BEGIN:VCALENDAR
VERSION:2.0
PRODID:-//Guardian Angels Catholic Church - ECPv6.15.20//NONSGML v1.0//EN
CALSCALE:GREGORIAN
METHOD:PUBLISH
X-ORIGINAL-URL:https://meadangels.org
X-WR-CALDESC:Events for Guardian Angels Catholic Church
REFRESH-INTERVAL;VALUE=DURATION:PT1H
X-Robots-Tag:noindex
X-PUBLISHED-TTL:PT1H
BEGIN:VTIMEZONE
TZID:America/Denver
BEGIN:DAYLIGHT
TZOFFSETFROM:-0700
TZOFFSETTO:-0600
TZNAME:MDT
DTSTART:20230312T090000
END:DAYLIGHT
BEGIN:STANDARD
TZOFFSETFROM:-0600
TZOFFSETTO:-0700
TZNAME:MST
DTSTART:20231105T080000
END:STANDARD
BEGIN:DAYLIGHT
TZOFFSETFROM:-0700
TZOFFSETTO:-0600
TZNAME:MDT
DTSTART:20240310T090000
END:DAYLIGHT
BEGIN:STANDARD
TZOFFSETFROM:-0600
TZOFFSETTO:-0700
TZNAME:MST
DTSTART:20241103T080000
END:STANDARD
BEGIN:DAYLIGHT
TZOFFSETFROM:-0700
TZOFFSETTO:-0600
TZNAME:MDT
DTSTART:20250309T090000
END:DAYLIGHT
BEGIN:STANDARD
TZOFFSETFROM:-0600
TZOFFSETTO:-0700
TZNAME:MST
DTSTART:20251102T080000
END:STANDARD
BEGIN:DAYLIGHT
TZOFFSETFROM:-0700
TZOFFSETTO:-0600
TZNAME:MDT
DTSTART:20260308T090000
END:DAYLIGHT
BEGIN:STANDARD
TZOFFSETFROM:-0600
TZOFFSETTO:-0700
TZNAME:MST
DTSTART:20261101T080000
END:STANDARD
END:VTIMEZONE
BEGIN:VEVENT
DTSTART;TZID=America/Denver:20250409T180500
DTEND;TZID=America/Denver:20250409T191000
DTSTAMP:20260419T152951
CREATED:20250212T204600Z
LAST-MODIFIED:20250412T224223Z
UID:10002422-1744221900-1744225800@meadangels.org
SUMMARY:Adult / Teen Faith Formation Every Wednesday Night
DESCRIPTION:📅  When: Every Wednesday \n⏰  Time: 6:05 PM – 7:10 PM\n📍  Where: Bakihta Hall\n👩‍🏫  Led by: Sandy Gross \nJoin us for a meaningful evening of fellowship and learning as we explore the Word of God together. Led by Sandy Gross\, this weekly faith formation session provides an opportunity to grow in your faith\, reflect on scripture\, and connect with a welcoming community. \nAll are welcome. Bring your Bible\, your questions\, and an open heart. We look forward to growing in faith with you.
URL:https://meadangels.org/event/adult-teen-faith-formation-every-wednesday-night-2/2025-04-09/
LOCATION:Guardian Angels Catholic Church (Bakhita Hall)\, 109 S. 3rd Street\, Mead\, CO\, 80542\, United States
CATEGORIES:Faith Outreach,Youth Formation (9th-12th)
ORGANIZER;CN="Sandy Gross":MAILTO:faithOutreach@meadangels.org
END:VEVENT
BEGIN:VEVENT
DTSTART;TZID=America/Denver:20250402T180500
DTEND;TZID=America/Denver:20250402T191000
DTSTAMP:20260419T152951
CREATED:20250212T204600Z
LAST-MODIFIED:20250412T224223Z
UID:10002421-1743617100-1743621000@meadangels.org
SUMMARY:Adult / Teen Faith Formation Every Wednesday Night
DESCRIPTION:📅  When: Every Wednesday \n⏰  Time: 6:05 PM – 7:10 PM\n📍  Where: Bakihta Hall\n👩‍🏫  Led by: Sandy Gross \nJoin us for a meaningful evening of fellowship and learning as we explore the Word of God together. Led by Sandy Gross\, this weekly faith formation session provides an opportunity to grow in your faith\, reflect on scripture\, and connect with a welcoming community. \nAll are welcome. Bring your Bible\, your questions\, and an open heart. We look forward to growing in faith with you.
URL:https://meadangels.org/event/adult-teen-faith-formation-every-wednesday-night-2/2025-04-02/
LOCATION:Guardian Angels Catholic Church (Bakhita Hall)\, 109 S. 3rd Street\, Mead\, CO\, 80542\, United States
CATEGORIES:Faith Outreach,Youth Formation (9th-12th)
ORGANIZER;CN="Sandy Gross":MAILTO:faithOutreach@meadangels.org
END:VEVENT
BEGIN:VEVENT
DTSTART;TZID=America/Denver:20250326T180500
DTEND;TZID=America/Denver:20250326T191000
DTSTAMP:20260419T152951
CREATED:20250212T204600Z
LAST-MODIFIED:20250412T224223Z
UID:10002420-1743012300-1743016200@meadangels.org
SUMMARY:Adult / Teen Faith Formation Every Wednesday Night
DESCRIPTION:📅  When: Every Wednesday \n⏰  Time: 6:05 PM – 7:10 PM\n📍  Where: Bakihta Hall\n👩‍🏫  Led by: Sandy Gross \nJoin us for a meaningful evening of fellowship and learning as we explore the Word of God together. Led by Sandy Gross\, this weekly faith formation session provides an opportunity to grow in your faith\, reflect on scripture\, and connect with a welcoming community. \nAll are welcome. Bring your Bible\, your questions\, and an open heart. We look forward to growing in faith with you.
URL:https://meadangels.org/event/adult-teen-faith-formation-every-wednesday-night-2/2025-03-26/
LOCATION:Guardian Angels Catholic Church (Bakhita Hall)\, 109 S. 3rd Street\, Mead\, CO\, 80542\, United States
CATEGORIES:Faith Outreach,Youth Formation (9th-12th)
ORGANIZER;CN="Sandy Gross":MAILTO:faithOutreach@meadangels.org
END:VEVENT
BEGIN:VEVENT
DTSTART;TZID=America/Denver:20250319T180500
DTEND;TZID=America/Denver:20250319T191000
DTSTAMP:20260419T152951
CREATED:20250212T204600Z
LAST-MODIFIED:20250412T224223Z
UID:10002419-1742407500-1742411400@meadangels.org
SUMMARY:Adult / Teen Faith Formation Every Wednesday Night
DESCRIPTION:📅  When: Every Wednesday \n⏰  Time: 6:05 PM – 7:10 PM\n📍  Where: Bakihta Hall\n👩‍🏫  Led by: Sandy Gross \nJoin us for a meaningful evening of fellowship and learning as we explore the Word of God together. Led by Sandy Gross\, this weekly faith formation session provides an opportunity to grow in your faith\, reflect on scripture\, and connect with a welcoming community. \nAll are welcome. Bring your Bible\, your questions\, and an open heart. We look forward to growing in faith with you.
URL:https://meadangels.org/event/adult-teen-faith-formation-every-wednesday-night-2/2025-03-19/
LOCATION:Guardian Angels Catholic Church (Bakhita Hall)\, 109 S. 3rd Street\, Mead\, CO\, 80542\, United States
CATEGORIES:Faith Outreach,Youth Formation (9th-12th)
ORGANIZER;CN="Sandy Gross":MAILTO:faithOutreach@meadangels.org
END:VEVENT
BEGIN:VEVENT
DTSTART;TZID=America/Denver:20250312T180500
DTEND;TZID=America/Denver:20250312T191000
DTSTAMP:20260419T152951
CREATED:20250212T204600Z
LAST-MODIFIED:20250412T224223Z
UID:10002418-1741802700-1741806600@meadangels.org
SUMMARY:Adult / Teen Faith Formation Every Wednesday Night
DESCRIPTION:📅  When: Every Wednesday \n⏰  Time: 6:05 PM – 7:10 PM\n📍  Where: Bakihta Hall\n👩‍🏫  Led by: Sandy Gross \nJoin us for a meaningful evening of fellowship and learning as we explore the Word of God together. Led by Sandy Gross\, this weekly faith formation session provides an opportunity to grow in your faith\, reflect on scripture\, and connect with a welcoming community. \nAll are welcome. Bring your Bible\, your questions\, and an open heart. We look forward to growing in faith with you.
URL:https://meadangels.org/event/adult-teen-faith-formation-every-wednesday-night-2/2025-03-12/
LOCATION:Guardian Angels Catholic Church (Bakhita Hall)\, 109 S. 3rd Street\, Mead\, CO\, 80542\, United States
CATEGORIES:Faith Outreach,Youth Formation (9th-12th)
ORGANIZER;CN="Sandy Gross":MAILTO:faithOutreach@meadangels.org
END:VEVENT
BEGIN:VEVENT
DTSTART;TZID=America/Denver:20250305T180500
DTEND;TZID=America/Denver:20250305T191000
DTSTAMP:20260419T152951
CREATED:20250212T204600Z
LAST-MODIFIED:20250412T224223Z
UID:10002417-1741197900-1741201800@meadangels.org
SUMMARY:Adult / Teen Faith Formation Every Wednesday Night
DESCRIPTION:📅  When: Every Wednesday \n⏰  Time: 6:05 PM – 7:10 PM\n📍  Where: Bakihta Hall\n👩‍🏫  Led by: Sandy Gross \nJoin us for a meaningful evening of fellowship and learning as we explore the Word of God together. Led by Sandy Gross\, this weekly faith formation session provides an opportunity to grow in your faith\, reflect on scripture\, and connect with a welcoming community. \nAll are welcome. Bring your Bible\, your questions\, and an open heart. We look forward to growing in faith with you.
URL:https://meadangels.org/event/adult-teen-faith-formation-every-wednesday-night-2/2025-03-05/
LOCATION:Guardian Angels Catholic Church (Bakhita Hall)\, 109 S. 3rd Street\, Mead\, CO\, 80542\, United States
CATEGORIES:Faith Outreach,Youth Formation (9th-12th)
ORGANIZER;CN="Sandy Gross":MAILTO:faithOutreach@meadangels.org
END:VEVENT
BEGIN:VEVENT
DTSTART;TZID=America/Denver:20250226T180500
DTEND;TZID=America/Denver:20250226T191000
DTSTAMP:20260419T152951
CREATED:20250212T204600Z
LAST-MODIFIED:20250412T224223Z
UID:10002416-1740593100-1740597000@meadangels.org
SUMMARY:Adult / Teen Faith Formation Every Wednesday Night
DESCRIPTION:📅  When: Every Wednesday \n⏰  Time: 6:05 PM – 7:10 PM\n📍  Where: Bakihta Hall\n👩‍🏫  Led by: Sandy Gross \nJoin us for a meaningful evening of fellowship and learning as we explore the Word of God together. Led by Sandy Gross\, this weekly faith formation session provides an opportunity to grow in your faith\, reflect on scripture\, and connect with a welcoming community. \nAll are welcome. Bring your Bible\, your questions\, and an open heart. We look forward to growing in faith with you.
URL:https://meadangels.org/event/adult-teen-faith-formation-every-wednesday-night-2/2025-02-26/
LOCATION:Guardian Angels Catholic Church (Bakhita Hall)\, 109 S. 3rd Street\, Mead\, CO\, 80542\, United States
CATEGORIES:Faith Outreach,Youth Formation (9th-12th)
ORGANIZER;CN="Sandy Gross":MAILTO:faithOutreach@meadangels.org
END:VEVENT
BEGIN:VEVENT
DTSTART;TZID=America/Denver:20250219T180500
DTEND;TZID=America/Denver:20250219T191000
DTSTAMP:20260419T152951
CREATED:20250212T204600Z
LAST-MODIFIED:20250412T224223Z
UID:10002414-1739988300-1739992200@meadangels.org
SUMMARY:Adult / Teen Faith Formation Every Wednesday Night
DESCRIPTION:📅  When: Every Wednesday \n⏰  Time: 6:05 PM – 7:10 PM\n📍  Where: Bakihta Hall\n👩‍🏫  Led by: Sandy Gross \nJoin us for a meaningful evening of fellowship and learning as we explore the Word of God together. Led by Sandy Gross\, this weekly faith formation session provides an opportunity to grow in your faith\, reflect on scripture\, and connect with a welcoming community. \nAll are welcome. Bring your Bible\, your questions\, and an open heart. We look forward to growing in faith with you.
URL:https://meadangels.org/event/adult-teen-faith-formation-every-wednesday-night-2/2025-02-19/
LOCATION:Guardian Angels Catholic Church (Bakhita Hall)\, 109 S. 3rd Street\, Mead\, CO\, 80542\, United States
CATEGORIES:Faith Outreach,Youth Formation (9th-12th)
ORGANIZER;CN="Sandy Gross":MAILTO:faithOutreach@meadangels.org
END:VEVENT
BEGIN:VEVENT
DTSTART;TZID=America/Denver:20250205T180500
DTEND;TZID=America/Denver:20250205T191000
DTSTAMP:20260419T152951
CREATED:20250110T190335Z
LAST-MODIFIED:20250110T191537Z
UID:10002413-1738778700-1738782600@meadangels.org
SUMMARY:Adult / Teen Faith Formation Every Wednesday Night
DESCRIPTION:📅  When: Every Wednesday \n⏰  Time: 6:05 PM – 7:10 PM\n📍  Where: Bakihta Hall\n👩‍🏫  Led by: Sandy Gross \nJoin us for a meaningful evening of fellowship and learning as we explore the Word of God together. Led by Sandy Gross\, this weekly faith formation session provides an opportunity to grow in your faith\, reflect on scripture\, and connect with a welcoming community. \nAll are welcome. Bring your Bible\, your questions\, and an open heart. We look forward to growing in faith with you.
URL:https://meadangels.org/event/adult-teen-faith-formation-every-wednesday-night/2025-02-05/
LOCATION:Guardian Angels Catholic Church (Bakhita Hall)\, 109 S. 3rd Street\, Mead\, CO\, 80542\, United States
CATEGORIES:Faith Outreach,Youth Formation (9th-12th)
ATTACH;FMTTYPE=image/jpeg:https://meadangels.org/wp-content/uploads/IMG_7845.jpeg
ORGANIZER;CN="Sandy Gross":MAILTO:faithOutreach@meadangels.org
END:VEVENT
BEGIN:VEVENT
DTSTART;TZID=America/Denver:20250129T180500
DTEND;TZID=America/Denver:20250129T191000
DTSTAMP:20260419T152951
CREATED:20250110T190335Z
LAST-MODIFIED:20250110T191537Z
UID:10002412-1738173900-1738177800@meadangels.org
SUMMARY:Adult / Teen Faith Formation Every Wednesday Night
DESCRIPTION:📅  When: Every Wednesday \n⏰  Time: 6:05 PM – 7:10 PM\n📍  Where: Bakihta Hall\n👩‍🏫  Led by: Sandy Gross \nJoin us for a meaningful evening of fellowship and learning as we explore the Word of God together. Led by Sandy Gross\, this weekly faith formation session provides an opportunity to grow in your faith\, reflect on scripture\, and connect with a welcoming community. \nAll are welcome. Bring your Bible\, your questions\, and an open heart. We look forward to growing in faith with you.
URL:https://meadangels.org/event/adult-teen-faith-formation-every-wednesday-night/2025-01-29/
LOCATION:Guardian Angels Catholic Church (Bakhita Hall)\, 109 S. 3rd Street\, Mead\, CO\, 80542\, United States
CATEGORIES:Faith Outreach,Youth Formation (9th-12th)
ATTACH;FMTTYPE=image/jpeg:https://meadangels.org/wp-content/uploads/IMG_7845.jpeg
ORGANIZER;CN="Sandy Gross":MAILTO:faithOutreach@meadangels.org
END:VEVENT
BEGIN:VEVENT
DTSTART;TZID=America/Denver:20250122T180500
DTEND;TZID=America/Denver:20250122T191000
DTSTAMP:20260419T152951
CREATED:20250110T190335Z
LAST-MODIFIED:20250110T191537Z
UID:10002411-1737569100-1737573000@meadangels.org
SUMMARY:Adult / Teen Faith Formation Every Wednesday Night
DESCRIPTION:📅  When: Every Wednesday \n⏰  Time: 6:05 PM – 7:10 PM\n📍  Where: Bakihta Hall\n👩‍🏫  Led by: Sandy Gross \nJoin us for a meaningful evening of fellowship and learning as we explore the Word of God together. Led by Sandy Gross\, this weekly faith formation session provides an opportunity to grow in your faith\, reflect on scripture\, and connect with a welcoming community. \nAll are welcome. Bring your Bible\, your questions\, and an open heart. We look forward to growing in faith with you.
URL:https://meadangels.org/event/adult-teen-faith-formation-every-wednesday-night/2025-01-22/
LOCATION:Guardian Angels Catholic Church (Bakhita Hall)\, 109 S. 3rd Street\, Mead\, CO\, 80542\, United States
CATEGORIES:Faith Outreach,Youth Formation (9th-12th)
ATTACH;FMTTYPE=image/jpeg:https://meadangels.org/wp-content/uploads/IMG_7845.jpeg
ORGANIZER;CN="Sandy Gross":MAILTO:faithOutreach@meadangels.org
END:VEVENT
BEGIN:VEVENT
DTSTART;TZID=America/Denver:20250115T180500
DTEND;TZID=America/Denver:20250115T191000
DTSTAMP:20260419T152951
CREATED:20250110T190335Z
LAST-MODIFIED:20250110T191537Z
UID:10002410-1736964300-1736968200@meadangels.org
SUMMARY:Adult / Teen Faith Formation Every Wednesday Night
DESCRIPTION:📅  When: Every Wednesday \n⏰  Time: 6:05 PM – 7:10 PM\n📍  Where: Bakihta Hall\n👩‍🏫  Led by: Sandy Gross \nJoin us for a meaningful evening of fellowship and learning as we explore the Word of God together. Led by Sandy Gross\, this weekly faith formation session provides an opportunity to grow in your faith\, reflect on scripture\, and connect with a welcoming community. \nAll are welcome. Bring your Bible\, your questions\, and an open heart. We look forward to growing in faith with you.
URL:https://meadangels.org/event/adult-teen-faith-formation-every-wednesday-night/2025-01-15/
LOCATION:Guardian Angels Catholic Church (Bakhita Hall)\, 109 S. 3rd Street\, Mead\, CO\, 80542\, United States
CATEGORIES:Faith Outreach,Youth Formation (9th-12th)
ATTACH;FMTTYPE=image/jpeg:https://meadangels.org/wp-content/uploads/IMG_7845.jpeg
ORGANIZER;CN="Sandy Gross":MAILTO:faithOutreach@meadangels.org
END:VEVENT
BEGIN:VEVENT
DTSTART;TZID=America/Denver:20240618T191500
DTEND;TZID=America/Denver:20240618T210000
DTSTAMP:20260419T152951
CREATED:20240616T175607Z
LAST-MODIFIED:20240616T221019Z
UID:10001712-1718738100-1718744400@meadangels.org
SUMMARY:Join Us to Watch a Special Movie: JESUS THIRSTS: Miracle of the Eucharist
DESCRIPTION:Fr. Ron and Guardian Angels Catholic Church invite you to see: \n\n\n\n\n\n\n\n\n\nJESUS THIRSTS: Miracle of the Eucharist\nSecond Highest-Grossing Documentary of 2024 \n\n \n\nShowing:\nDate: Tuesday\, June 18\nTime: 7:15 pm\nLocation: Regal Village at the Peaks theater\, Longmont \n  \nMissed it the First Time?\nThe first 20 parishioners to sign up get FREE TICKETS! \n  \nContact Sandy Gross for Your Free Ticket:\n\nOne ticket per person\nDeadline: Noon\, Monday\, June 17\n\n  \nSee you at the movies!
URL:https://meadangels.org/event/join-us-to-watch-a-special-movie-jesus-thirsts-miracle-of-the-eucharist/
LOCATION:Regal Village at the Peaks\, 1230 S HOVER ROAD\, Longmont\, CO\, 80504\, United States
ORGANIZER;CN="Sandy Gross":MAILTO:faithOutreach@meadangels.org
END:VEVENT
BEGIN:VEVENT
DTSTART;TZID=America/Denver:20240603T113000
DTEND;TZID=America/Denver:20240603T130000
DTSTAMP:20260419T152951
CREATED:20240410T140927Z
LAST-MODIFIED:20240519T202846Z
UID:10001232-1717414200-1717419600@meadangels.org
SUMMARY:Bible Study Every Monday
DESCRIPTION:Join us for Bible study sessions led by Sandy Gross! On Mondays\, it’s from 11:30 am to 1 pm at the CC Center. Come and deepen your understanding of Scripture in a welcoming environment. \n  \nSpring Bible Study is focused on The Acts of the Apostles. \n  \nBible study is offered on:\n\nMondays\, 11:30 am – 1 pm\nCC Center\nLed by Sandy Gross\n\nNo Bible Study on May 27
URL:https://meadangels.org/event/bible-study-every-monday/2024-06-03/
LOCATION:Guardian Angels Catholic Church: Catechetical Center (CC Center)\, 109 S. 3rd Street\, Mead\, CO\, 80542\, United States
CATEGORIES:Faith Outreach
ATTACH;FMTTYPE=image/jpeg:https://meadangels.org/wp-content/uploads/SpringBibleStudy2024.jpg
ORGANIZER;CN="Sandy Gross":MAILTO:faithOutreach@meadangels.org
END:VEVENT
BEGIN:VEVENT
DTSTART;TZID=America/Denver:20240520T113000
DTEND;TZID=America/Denver:20240520T130000
DTSTAMP:20260419T152951
CREATED:20240410T140927Z
LAST-MODIFIED:20240519T202846Z
UID:10001614-1716204600-1716210000@meadangels.org
SUMMARY:Bible Study Every Monday
DESCRIPTION:Join us for Bible study sessions led by Sandy Gross! On Mondays\, it’s from 11:30 am to 1 pm at the CC Center. Come and deepen your understanding of Scripture in a welcoming environment. \n  \nSpring Bible Study is focused on The Acts of the Apostles. \n  \nBible study is offered on:\n\nMondays\, 11:30 am – 1 pm\nCC Center\nLed by Sandy Gross\n\nNo Bible Study on May 27
URL:https://meadangels.org/event/bible-study-every-monday/2024-05-20/
LOCATION:Guardian Angels Catholic Church: Catechetical Center (CC Center)\, 109 S. 3rd Street\, Mead\, CO\, 80542\, United States
CATEGORIES:Faith Outreach
ATTACH;FMTTYPE=image/jpeg:https://meadangels.org/wp-content/uploads/SpringBibleStudy2024.jpg
ORGANIZER;CN="Sandy Gross":MAILTO:faithOutreach@meadangels.org
END:VEVENT
BEGIN:VEVENT
DTSTART;TZID=America/Denver:20240513T113000
DTEND;TZID=America/Denver:20240513T130000
DTSTAMP:20260419T152951
CREATED:20240410T140927Z
LAST-MODIFIED:20240519T202846Z
UID:10001229-1715599800-1715605200@meadangels.org
SUMMARY:Bible Study Every Monday
DESCRIPTION:Join us for Bible study sessions led by Sandy Gross! On Mondays\, it’s from 11:30 am to 1 pm at the CC Center. Come and deepen your understanding of Scripture in a welcoming environment. \n  \nSpring Bible Study is focused on The Acts of the Apostles. \n  \nBible study is offered on:\n\nMondays\, 11:30 am – 1 pm\nCC Center\nLed by Sandy Gross\n\nNo Bible Study on May 27
URL:https://meadangels.org/event/bible-study-every-monday/2024-05-13/
LOCATION:Guardian Angels Catholic Church: Catechetical Center (CC Center)\, 109 S. 3rd Street\, Mead\, CO\, 80542\, United States
CATEGORIES:Faith Outreach
ATTACH;FMTTYPE=image/jpeg:https://meadangels.org/wp-content/uploads/SpringBibleStudy2024.jpg
ORGANIZER;CN="Sandy Gross":MAILTO:faithOutreach@meadangels.org
END:VEVENT
BEGIN:VEVENT
DTSTART;TZID=America/Denver:20240508T180500
DTEND;TZID=America/Denver:20240508T191500
DTSTAMP:20260419T152951
CREATED:20240410T141421Z
LAST-MODIFIED:20240507T205622Z
UID:10000164-1715191500-1715195700@meadangels.org
SUMMARY:Bible Study Every Wednesday
DESCRIPTION:Join us for Bible study sessions led by Sandy Gross! On Wednesdays\, it’s part of R.E. from 6:05 to 7:15 pm in Bakhita Hall. On Mondays\, it’s from 11:30 am to 1 pm at the CC Center. Come and deepen your understanding of Scripture in a welcoming environment. \n  \nSpring Bible Study is focused on The Acts of the Apostles. \n  \nBible study is offered on:\n\nWednesdays during R.E.\n6:05 – 7:15 pm\, Bakhita Hall\nLed by Sandy Gross\nMondays\, 11:30 am – 1 pm\nCC Center\nLed by Sandy Gross
URL:https://meadangels.org/event/bible-study-every-wednesday/
LOCATION:Guardian Angels Catholic Church (Bakhita Hall)\, 109 S. 3rd Street\, Mead\, CO\, 80542\, United States
CATEGORIES:Faith Outreach
ATTACH;FMTTYPE=image/jpeg:https://meadangels.org/wp-content/uploads/SpringBibleStudy2024.jpg
ORGANIZER;CN="Sandy Gross":MAILTO:faithOutreach@meadangels.org
END:VEVENT
BEGIN:VEVENT
DTSTART;TZID=America/Denver:20240506T113000
DTEND;TZID=America/Denver:20240506T130000
DTSTAMP:20260419T152951
CREATED:20240410T140927Z
LAST-MODIFIED:20240519T202846Z
UID:10000163-1714995000-1715000400@meadangels.org
SUMMARY:Bible Study Every Monday
DESCRIPTION:Join us for Bible study sessions led by Sandy Gross! On Mondays\, it’s from 11:30 am to 1 pm at the CC Center. Come and deepen your understanding of Scripture in a welcoming environment. \n  \nSpring Bible Study is focused on The Acts of the Apostles. \n  \nBible study is offered on:\n\nMondays\, 11:30 am – 1 pm\nCC Center\nLed by Sandy Gross\n\nNo Bible Study on May 27
URL:https://meadangels.org/event/bible-study-every-monday/2024-05-06/
LOCATION:Guardian Angels Catholic Church: Catechetical Center (CC Center)\, 109 S. 3rd Street\, Mead\, CO\, 80542\, United States
CATEGORIES:Faith Outreach
ATTACH;FMTTYPE=image/jpeg:https://meadangels.org/wp-content/uploads/SpringBibleStudy2024.jpg
ORGANIZER;CN="Sandy Gross":MAILTO:faithOutreach@meadangels.org
END:VEVENT
END:VCALENDAR