BEGIN:VCALENDAR
VERSION:2.0
PRODID:-//Guardian Angels Catholic Church - ECPv6.15.20//NONSGML v1.0//EN
CALSCALE:GREGORIAN
METHOD:PUBLISH
X-ORIGINAL-URL:https://meadangels.org
X-WR-CALDESC:Events for Guardian Angels Catholic Church
REFRESH-INTERVAL;VALUE=DURATION:PT1H
X-Robots-Tag:noindex
X-PUBLISHED-TTL:PT1H
BEGIN:VTIMEZONE
TZID:America/Denver
BEGIN:DAYLIGHT
TZOFFSETFROM:-0700
TZOFFSETTO:-0600
TZNAME:MDT
DTSTART:20250309T090000
END:DAYLIGHT
BEGIN:STANDARD
TZOFFSETFROM:-0600
TZOFFSETTO:-0700
TZNAME:MST
DTSTART:20251102T080000
END:STANDARD
BEGIN:DAYLIGHT
TZOFFSETFROM:-0700
TZOFFSETTO:-0600
TZNAME:MDT
DTSTART:20260308T090000
END:DAYLIGHT
BEGIN:STANDARD
TZOFFSETFROM:-0600
TZOFFSETTO:-0700
TZNAME:MST
DTSTART:20261101T080000
END:STANDARD
BEGIN:DAYLIGHT
TZOFFSETFROM:-0700
TZOFFSETTO:-0600
TZNAME:MDT
DTSTART:20270314T090000
END:DAYLIGHT
BEGIN:STANDARD
TZOFFSETFROM:-0600
TZOFFSETTO:-0700
TZNAME:MST
DTSTART:20271107T080000
END:STANDARD
END:VTIMEZONE
BEGIN:VEVENT
DTSTART;VALUE=DATE:20260228
DTEND;VALUE=DATE:20260405
DTSTAMP:20260419T131836
CREATED:20260220T171038Z
LAST-MODIFIED:20260220T171707Z
UID:10003048-1772236800-1775347199@meadangels.org
SUMMARY:Catholic Charities Diaper Drive
DESCRIPTION:February 28 through April 4\nAs a parish Lenten service project\, Guardian Angels will collect diapers\, wipes\, and adult incontinence supplies to support families in need through Catholic Charities of Denver. Your generosity helps provide essential items that many families struggle to afford. \nMost Needed Items\n\nDiapers sizes 5 and 6\n4T to 5T Pull ups\n\nHow to Donate\n\nPlace donations in the bin located in the narthex\nBring items to the parish office\nMail contributions to Catholic Charities Bottom Line Diaper Bank\, 6240 Smith Road\, Denver\, CO 80216\n\nThank you for serving our neighbors with compassion during this Lenten season.
URL:https://meadangels.org/event/catholic-charities-diaper-drive/
END:VEVENT
BEGIN:VEVENT
DTSTART;VALUE=DATE:20260307
DTEND;VALUE=DATE:20260401
DTSTAMP:20260419T131836
CREATED:20260307T220639Z
LAST-MODIFIED:20260313T060600Z
UID:10003055-1772841600-1775001599@meadangels.org
SUMMARY:Free FORMED Subscription
DESCRIPTION:Did you know that as a parishioner of Guardian Angels you have a free subscription to FORMED? \nVisit app.formed.org to explore a wide variety of Catholic content for the whole family\, including videos\, podcasts\, audiobooks\, movies\, and more. \nIf you need help logging in\, contact the parish office\, pick up a card from the hospitality carts and scan the code\, or sign up and search for Guardian Angels using zip code 80542. \n\nGo to formed.org/signup\nRegister with your email address and name\nSearch for your parish by Zip Code 80542 and select 109 S. 3rd Street\, Mead\nCreate a password to securely sign in to FORMED\n\nDo you enjoy listening while you walk? FORMED offers many audio options so you can listen to inspiring Catholic content while getting some fresh air. You may find yourself walking for miles.
URL:https://meadangels.org/event/free-formed-subscription/
END:VEVENT
BEGIN:VEVENT
DTSTART;VALUE=DATE:20260321
DTEND;VALUE=DATE:20260323
DTSTAMP:20260419T131836
CREATED:20260313T030138Z
LAST-MODIFIED:20260313T030258Z
UID:10003119-1774051200-1774223999@meadangels.org
SUMMARY:Giving Weekend Food Drive
DESCRIPTION:March 21 to March 22\n  \nJoin our parish community in supporting local families through our Giving Weekend Food Drive\, hosted by the Knight of Columbus. Your generosity will help provide essential food items to neighbors in need throughout our local communities. \n  \nFood Drive Beneficiaries\nDonations from this drive will support the following organizations that serve families facing food insecurity: \n\nFeed Mead Food Pantry\nHouse of Neighborly Service in Berthoud\nSt. Nicholas Food Bank in Platteville\n\nHow You Can Help\n\nPick up a donation bag after Mass this weekend (3/14-3/15)\nFill the bag with items listed on the wish lists available on the hospitality carts\nReturn your filled bag the following weekend (3/21-3/22)\n\nAdditional Ways to Give\n\n💵 Cash donations are welcome\n🛒 Grocery store 💳 gift cards are gratefully accepted\n\nYour support helps ensure that individuals and families in our neighboring communities have access to nutritious food. Thank you for your generosity and for living out the Gospel call to care for one another.
URL:https://meadangels.org/event/giving-weekend-food-drive/
LOCATION:Guardian Angels Catholic Church\, 109 S. 3rd Street\, Mead\, 80542\, United States
CATEGORIES:Knights of Columbus
END:VEVENT
BEGIN:VEVENT
DTSTART;TZID=America/Denver:20260322T143000
DTEND;TZID=America/Denver:20260322T153000
DTSTAMP:20260419T131836
CREATED:20260320T231913Z
LAST-MODIFIED:20260320T232237Z
UID:10003131-1774189800-1774193400@meadangels.org
SUMMARY:Mass of Thanksgiving for the Archbishop
DESCRIPTION:All are welcome to join in a joyful celebration of thanksgiving. \nEvent Details\n\n📆 Sunday\, March 22\n⏰ 2:30 pm\n📍 Light of the World Catholic Church\n\nCelebrant\n\nArchbishop Samuel J. Aquila\n\nCome together in gratitude and prayer as we celebrate this special Mass.
URL:https://meadangels.org/event/mass-of-thanksgiving-for-the-archbishop/
LOCATION:Light of the World Catholic Church\, 10306 W Bowles Ave\, Littleton\, CO\, 80127\, United States
CATEGORIES:Holy Orders
END:VEVENT
BEGIN:VEVENT
DTSTART;TZID=America/Denver:20260323T090000
DTEND;TZID=America/Denver:20260323T110000
DTSTAMP:20260419T131836
CREATED:20240409T214444Z
LAST-MODIFIED:20250110T183320Z
UID:10000306-1774256400-1774263600@meadangels.org
SUMMARY:Caring Hands Crafters Meeting
DESCRIPTION:We create handmade items with love and care to bring comfort and support to those in need within our Catholic community. Whether you’re an experienced crafter or just starting out\, there’s a place for you to make a difference in our community. New members of all ages (women and men) and talents (woodworkers\, metal workers\, artists\, crafters) are welcome. Caring Hands Crafters meet every Monday at 9 – 11 am in the Catechetical Center (CC Center). \n 
URL:https://meadangels.org/event/caring-hands-crafters-meeting/2026-03-23/
LOCATION:Guardian Angels Catholic Church: Catechetical Center (CC Center)\, 109 S. 3rd Street\, Mead\, CO\, 80542\, United States
CATEGORIES:Caring Hands Crafters
ATTACH;FMTTYPE=image/jpeg:https://meadangels.org/wp-content/uploads/IMG_7847.jpeg
END:VEVENT
BEGIN:VEVENT
DTSTART;TZID=America/Denver:20260323T113000
DTEND;TZID=America/Denver:20260323T130000
DTSTAMP:20260419T131836
CREATED:20251219T142330Z
LAST-MODIFIED:20260131T013447Z
UID:10002675-1774265400-1774270800@meadangels.org
SUMMARY:Bible Study Every Monday
DESCRIPTION:When: Mondays\, 11:30 AM – 1:00 PM\nWhere: CC Center\nLed by: Sandy Gross \nJoin us for an enriching time of fellowship and learning as we dive into the Word of God together. Led by Sandy Gross\, this weekly Bible study offers an opportunity to explore scripture\, deepen your faith\, and connect with others in a supportive and welcoming environment. \nWhether you’re new to Bible study or have been attending for years\, all are welcome to participate. Bring your Bible\, your questions\, and an open heart. We look forward to seeing you there.
URL:https://meadangels.org/event/bible-study-every-monday-3-2-2/2026-03-23/
LOCATION:Guardian Angels Catholic Church: Catechetical Center (CC Center)\, 109 S. 3rd Street\, Mead\, CO\, 80542\, United States
CATEGORIES:Faith Outreach
ATTACH;FMTTYPE=image/jpeg:https://meadangels.org/wp-content/uploads/Bible-Study-2026.jpg
ORGANIZER;CN="Sandy Gross":MAILTO:faithOutreach@meadangels.org
END:VEVENT
BEGIN:VEVENT
DTSTART;VALUE=DATE:20260324
DTEND;VALUE=DATE:20260326
DTSTAMP:20260419T131836
CREATED:20260320T073533Z
LAST-MODIFIED:20260320T083335Z
UID:10003125-1774310400-1774483199@meadangels.org
SUMMARY:Installation of the Archbishop
DESCRIPTION:You are invited to celebrate this historic moment in the life of the Church as we gather for the installation of the Archbishop. \n \nSolemn Vespers\n\n📆 Tuesday\, March 24 at 7:00 pm – 8:00 pm\n📍 CoBank Center at the Nation Western Center\n\n4850 National Western Drive\, Denver CO 80216\n\n\nRSVP to attend at www.archden.org/generaladmissionRSVP\nGeneral admission seating is first come\, first served\n\nInstallation Mass\n\n📆 Wednesday\, March 25 at 2:00 pm – 5:00 pm\n📍 CoBank Center at the National Western Center\n\n4850 National Western Drive\, Denver CO 80216\n\n\nLearn more at www.archden.org/installation-mass\n\nImportant Information\n\nYou will need two separate tickets with QR codes to attend both events.\nRegistration is required for entry to both Solemn Vespers and the Installation Mass.\nPlease complete your registration in advance and have your QR code ready (printed or on your mobile device) upon arrival.
URL:https://meadangels.org/event/installation-of-the-archbishop/
CATEGORIES:Holy Orders
END:VEVENT
BEGIN:VEVENT
DTSTART;TZID=America/Denver:20260324T070000
DTEND;TZID=America/Denver:20260324T080000
DTSTAMP:20260419T131836
CREATED:20260131T014209Z
LAST-MODIFIED:20260131T014209Z
UID:10002958-1774335600-1774339200@meadangels.org
SUMMARY:Mead Angels Men's Bible Study Every Tuesday
DESCRIPTION:Discover the Mead Angels Men’s Bible Study. Join us every Tuesday from 7-8 am in Bakhita Hall. Led by Deacon Chris\, this session is a chance for men to delve into Scripture\, grow in faith\, and build community. All are welcome\, whether you’re a seasoned Bible scholar or new to studying God’s Word. Come for engaging discussions\, prayer\, and fellowship as we strengthen our spiritual journey together.
URL:https://meadangels.org/event/mead-angels-mens-bible-study-every-tuesday-4/2026-03-24/
LOCATION:Guardian Angels Catholic Church (Bakhita Hall)\, 109 S. 3rd Street\, Mead\, CO\, 80542\, United States
CATEGORIES:Men's Group
ATTACH;FMTTYPE=image/jpeg:https://meadangels.org/wp-content/uploads/Mens-Bible-Study-2026.jpg
END:VEVENT
BEGIN:VEVENT
DTSTART;TZID=America/Denver:20260326T190000
DTEND;TZID=America/Denver:20260326T200000
DTSTAMP:20260419T131836
CREATED:20251003T154016Z
LAST-MODIFIED:20260320T082403Z
UID:10003128-1774551600-1774555200@meadangels.org
SUMMARY:Join Our Thursday Night 🎶 Choir Rehearsals
DESCRIPTION:Choir rehearsals are on Thursday evenings from 7:00 to 8:00 PM in the church. Whether you’re a seasoned singer or just starting out\, we warmly welcome you to join our choir. \n  \nRehearsals provide a wonderful opportunity to improve your vocal skills\, enjoy fellowship\, and contribute to our vibrant musical worship. No prior experience is necessary – all you need is a love for singing and a willingness to learn. \n  \nFor more information or to express your interest\, please reach out to Laura Davis at music@meadangels.org. \n  \nWe look forward to making beautiful music with you.
URL:https://meadangels.org/event/join-our-thursday-night-choir-rehearsals-2/2026-03-26/
LOCATION:Guardian Angels Catholic Church\, 109 S. 3rd Street\, Mead\, 80542\, United States
CATEGORIES:Music | Choir
ATTACH;FMTTYPE=image/jpeg:https://meadangels.org/wp-content/uploads/choir-small-scaled.jpg
END:VEVENT
BEGIN:VEVENT
DTSTART;TZID=America/Denver:20260326T190000
DTEND;TZID=America/Denver:20260326T201500
DTSTAMP:20260419T131836
CREATED:20260219T091943Z
LAST-MODIFIED:20260219T091957Z
UID:10002986-1774551600-1774556100@meadangels.org
SUMMARY:Mead Angels Men's Bible Study Every Thursday
DESCRIPTION:Men of the parish are invited to gather each week to grow in faith\, strengthen fellowship\, and deepen their understanding of Scripture. This dedicated time for men offers meaningful discussion\, prayer\, and encouragement in living out the Catholic faith. \nStudy Details\n\nThursdays from 7:00 pm to 8:00 pm\nLocation: Bakhita Hall\nOpen to men only\nLed by Tim Gross\nFocused on Scripture\, discussion\, and faith formation\n\nCome join other men of the parish as you grow together in faith and brotherhood.
URL:https://meadangels.org/event/mead-angels-mens-bible-study-every-thursday/2026-03-26/
LOCATION:Guardian Angels Catholic Church (Bakhita Hall)\, 109 S. 3rd Street\, Mead\, CO\, 80542\, United States
CATEGORIES:Men's Group
END:VEVENT
BEGIN:VEVENT
DTSTART;TZID=America/Denver:20260327T170000
DTEND;TZID=America/Denver:20260327T200000
DTSTAMP:20260419T131836
CREATED:20260219T075117Z
LAST-MODIFIED:20260307T232610Z
UID:10002977-1774630800-1774641600@meadangels.org
SUMMARY:🐟 Fish Fry Dinners and ✝️ Stations of the Cross
DESCRIPTION:Join your parish family every Friday evening during Lent for fellowship\, prayer\, and a delicious meal. The Knights of Columbus host our weekly Fish Fry Dinners\, followed by Stations of the Cross in the sanctuary. \nThere is no set price for dinner. A free will offering is accepted and appreciated. You are welcome to dine in or take your meal to go. \nWeekly Schedule\n\nFish fry or baked fish dinner served from 5:00 pm to 7:00 pm\nStations of the Cross at 7:00 pm in the sanctuary\n\nVarious parish ministries lead the Stations each week\n\n\n\nCome share a meal\, deepen your Lenten journey\, and pray together as a parish community.
URL:https://meadangels.org/event/%f0%9f%90%9f-fish-fry-dinners-and-%e2%9c%9d%ef%b8%8f-stations-of-the-cross/2026-03-27/
LOCATION:Guardian Angels Catholic Church\, 109 S. 3rd Street\, Mead\, 80542\, United States
CATEGORIES:Knights of Columbus,Women's Group,Youth Formation (6th-8th),Youth Formation (9th-12th)
END:VEVENT
BEGIN:VEVENT
DTSTART;VALUE=DATE:20260328
DTEND;VALUE=DATE:20260330
DTSTAMP:20260419T131836
CREATED:20260320T080305Z
LAST-MODIFIED:20260320T080305Z
UID:10003127-1774656000-1774828799@meadangels.org
SUMMARY:Bethlehem Handicrafts at Guardian Angels
DESCRIPTION:Bethlehem Handicrafts will be visiting Guardian Angels on March 28 and 29\, offering beautiful handmade items crafted by Christian artisans from the Holy Land. \nAbout Bethlehem Handicrafts\n\nSupports Christian families living in the Holy Land\nProvides handcrafted religious items made from olive wood and other materials\nHelps preserve a rich cultural and spiritual tradition\n\nTo learn more\, visit Bethlehem Handicrafts. \nWhat to Expect\n\nA selection of meaningful religious gifts and keepsakes\nAn opportunity to support artisans through your purchase\nA chance to connect with the history and faith of the Holy Land\n\nWe invite you to stop by and support this meaningful mission.
URL:https://meadangels.org/event/bethlehem-handicrafts-at-guardian-angels/
LOCATION:Guardian Angels Catholic Church (Bakhita Hall)\, 109 S. 3rd Street\, Mead\, CO\, 80542\, United States
END:VEVENT
END:VCALENDAR