BEGIN:VCALENDAR
VERSION:2.0
PRODID:-//Guardian Angels Catholic Church - ECPv6.15.20//NONSGML v1.0//EN
CALSCALE:GREGORIAN
METHOD:PUBLISH
X-ORIGINAL-URL:https://meadangels.org
X-WR-CALDESC:Events for Guardian Angels Catholic Church
REFRESH-INTERVAL;VALUE=DURATION:PT1H
X-Robots-Tag:noindex
X-PUBLISHED-TTL:PT1H
BEGIN:VTIMEZONE
TZID:America/Denver
BEGIN:DAYLIGHT
TZOFFSETFROM:-0700
TZOFFSETTO:-0600
TZNAME:MDT
DTSTART:20250309T090000
END:DAYLIGHT
BEGIN:STANDARD
TZOFFSETFROM:-0600
TZOFFSETTO:-0700
TZNAME:MST
DTSTART:20251102T080000
END:STANDARD
BEGIN:DAYLIGHT
TZOFFSETFROM:-0700
TZOFFSETTO:-0600
TZNAME:MDT
DTSTART:20260308T090000
END:DAYLIGHT
BEGIN:STANDARD
TZOFFSETFROM:-0600
TZOFFSETTO:-0700
TZNAME:MST
DTSTART:20261101T080000
END:STANDARD
BEGIN:DAYLIGHT
TZOFFSETFROM:-0700
TZOFFSETTO:-0600
TZNAME:MDT
DTSTART:20270314T090000
END:DAYLIGHT
BEGIN:STANDARD
TZOFFSETFROM:-0600
TZOFFSETTO:-0700
TZNAME:MST
DTSTART:20271107T080000
END:STANDARD
END:VTIMEZONE
BEGIN:VEVENT
DTSTART;VALUE=DATE:20260228
DTEND;VALUE=DATE:20260405
DTSTAMP:20260419T122724
CREATED:20260220T171038Z
LAST-MODIFIED:20260220T171707Z
UID:10003048-1772236800-1775347199@meadangels.org
SUMMARY:Catholic Charities Diaper Drive
DESCRIPTION:February 28 through April 4\nAs a parish Lenten service project\, Guardian Angels will collect diapers\, wipes\, and adult incontinence supplies to support families in need through Catholic Charities of Denver. Your generosity helps provide essential items that many families struggle to afford. \nMost Needed Items\n\nDiapers sizes 5 and 6\n4T to 5T Pull ups\n\nHow to Donate\n\nPlace donations in the bin located in the narthex\nBring items to the parish office\nMail contributions to Catholic Charities Bottom Line Diaper Bank\, 6240 Smith Road\, Denver\, CO 80216\n\nThank you for serving our neighbors with compassion during this Lenten season.
URL:https://meadangels.org/event/catholic-charities-diaper-drive/
END:VEVENT
BEGIN:VEVENT
DTSTART;VALUE=DATE:20260307
DTEND;VALUE=DATE:20260401
DTSTAMP:20260419T122724
CREATED:20260307T220639Z
LAST-MODIFIED:20260313T060600Z
UID:10003055-1772841600-1775001599@meadangels.org
SUMMARY:Free FORMED Subscription
DESCRIPTION:Did you know that as a parishioner of Guardian Angels you have a free subscription to FORMED? \nVisit app.formed.org to explore a wide variety of Catholic content for the whole family\, including videos\, podcasts\, audiobooks\, movies\, and more. \nIf you need help logging in\, contact the parish office\, pick up a card from the hospitality carts and scan the code\, or sign up and search for Guardian Angels using zip code 80542. \n\nGo to formed.org/signup\nRegister with your email address and name\nSearch for your parish by Zip Code 80542 and select 109 S. 3rd Street\, Mead\nCreate a password to securely sign in to FORMED\n\nDo you enjoy listening while you walk? FORMED offers many audio options so you can listen to inspiring Catholic content while getting some fresh air. You may find yourself walking for miles.
URL:https://meadangels.org/event/free-formed-subscription/
END:VEVENT
BEGIN:VEVENT
DTSTART;TZID=America/Denver:20260308T103000
DTEND;TZID=America/Denver:20260308T113000
DTSTAMP:20260419T122724
CREATED:20260307T215041Z
LAST-MODIFIED:20260307T215256Z
UID:10003054-1772965800-1772969400@meadangels.org
SUMMARY:Spiritual Bouquet for the Archbishop
DESCRIPTION:Sometimes the most meaningful gift is not something wrapped in paper but something offered in love. Give Archbishop Aquila the gift of prayer by offering Masses\, rosaries\, holy hours\, sacrifices\, and good works in gratitude for his service. \n\nYou are invited to fill out a spiritual bouquet card on the hospitality carts to share your prayers and intentions. \n\nSamuel J. Aquila will celebrate the 10:30 am Mass this Sunday\, March 8. A reception in his honor will follow.
URL:https://meadangels.org/event/spiritual-bouquet/
LOCATION:Guardian Angels Catholic Church\, 109 S. 3rd Street\, Mead\, 80542\, United States
END:VEVENT
BEGIN:VEVENT
DTSTART;TZID=America/Denver:20260309T090000
DTEND;TZID=America/Denver:20260309T110000
DTSTAMP:20260419T122724
CREATED:20240409T214444Z
LAST-MODIFIED:20250110T183320Z
UID:10000304-1773046800-1773054000@meadangels.org
SUMMARY:Caring Hands Crafters Meeting
DESCRIPTION:We create handmade items with love and care to bring comfort and support to those in need within our Catholic community. Whether you’re an experienced crafter or just starting out\, there’s a place for you to make a difference in our community. New members of all ages (women and men) and talents (woodworkers\, metal workers\, artists\, crafters) are welcome. Caring Hands Crafters meet every Monday at 9 – 11 am in the Catechetical Center (CC Center). \n 
URL:https://meadangels.org/event/caring-hands-crafters-meeting/2026-03-09/
LOCATION:Guardian Angels Catholic Church: Catechetical Center (CC Center)\, 109 S. 3rd Street\, Mead\, CO\, 80542\, United States
CATEGORIES:Caring Hands Crafters
ATTACH;FMTTYPE=image/jpeg:https://meadangels.org/wp-content/uploads/IMG_7847.jpeg
END:VEVENT
BEGIN:VEVENT
DTSTART;TZID=America/Denver:20260309T113000
DTEND;TZID=America/Denver:20260309T130000
DTSTAMP:20260419T122724
CREATED:20251219T142330Z
LAST-MODIFIED:20260131T013447Z
UID:10002673-1773055800-1773061200@meadangels.org
SUMMARY:Bible Study Every Monday
DESCRIPTION:When: Mondays\, 11:30 AM – 1:00 PM\nWhere: CC Center\nLed by: Sandy Gross \nJoin us for an enriching time of fellowship and learning as we dive into the Word of God together. Led by Sandy Gross\, this weekly Bible study offers an opportunity to explore scripture\, deepen your faith\, and connect with others in a supportive and welcoming environment. \nWhether you’re new to Bible study or have been attending for years\, all are welcome to participate. Bring your Bible\, your questions\, and an open heart. We look forward to seeing you there.
URL:https://meadangels.org/event/bible-study-every-monday-3-2-2/2026-03-09/
LOCATION:Guardian Angels Catholic Church: Catechetical Center (CC Center)\, 109 S. 3rd Street\, Mead\, CO\, 80542\, United States
CATEGORIES:Faith Outreach
ATTACH;FMTTYPE=image/jpeg:https://meadangels.org/wp-content/uploads/Bible-Study-2026.jpg
ORGANIZER;CN="Sandy Gross":MAILTO:faithOutreach@meadangels.org
END:VEVENT
BEGIN:VEVENT
DTSTART;TZID=America/Denver:20260310T070000
DTEND;TZID=America/Denver:20260310T080000
DTSTAMP:20260419T122724
CREATED:20260131T014209Z
LAST-MODIFIED:20260131T014209Z
UID:10002956-1773126000-1773129600@meadangels.org
SUMMARY:Mead Angels Men's Bible Study Every Tuesday
DESCRIPTION:Discover the Mead Angels Men’s Bible Study. Join us every Tuesday from 7-8 am in Bakhita Hall. Led by Deacon Chris\, this session is a chance for men to delve into Scripture\, grow in faith\, and build community. All are welcome\, whether you’re a seasoned Bible scholar or new to studying God’s Word. Come for engaging discussions\, prayer\, and fellowship as we strengthen our spiritual journey together.
URL:https://meadangels.org/event/mead-angels-mens-bible-study-every-tuesday-4/2026-03-10/
LOCATION:Guardian Angels Catholic Church (Bakhita Hall)\, 109 S. 3rd Street\, Mead\, CO\, 80542\, United States
CATEGORIES:Men's Group
ATTACH;FMTTYPE=image/jpeg:https://meadangels.org/wp-content/uploads/Mens-Bible-Study-2026.jpg
END:VEVENT
BEGIN:VEVENT
DTSTART;TZID=America/Denver:20260312T190000
DTEND;TZID=America/Denver:20260312T201500
DTSTAMP:20260419T122724
CREATED:20260219T091943Z
LAST-MODIFIED:20260219T091957Z
UID:10002984-1773342000-1773346500@meadangels.org
SUMMARY:Mead Angels Men's Bible Study Every Thursday
DESCRIPTION:Men of the parish are invited to gather each week to grow in faith\, strengthen fellowship\, and deepen their understanding of Scripture. This dedicated time for men offers meaningful discussion\, prayer\, and encouragement in living out the Catholic faith. \nStudy Details\n\nThursdays from 7:00 pm to 8:00 pm\nLocation: Bakhita Hall\nOpen to men only\nLed by Tim Gross\nFocused on Scripture\, discussion\, and faith formation\n\nCome join other men of the parish as you grow together in faith and brotherhood.
URL:https://meadangels.org/event/mead-angels-mens-bible-study-every-thursday/2026-03-12/
LOCATION:Guardian Angels Catholic Church (Bakhita Hall)\, 109 S. 3rd Street\, Mead\, CO\, 80542\, United States
CATEGORIES:Men's Group
END:VEVENT
BEGIN:VEVENT
DTSTART;TZID=America/Denver:20260313T170000
DTEND;TZID=America/Denver:20260313T200000
DTSTAMP:20260419T122724
CREATED:20260219T075117Z
LAST-MODIFIED:20260307T232610Z
UID:10002975-1773421200-1773432000@meadangels.org
SUMMARY:🐟 Fish Fry Dinners and ✝️ Stations of the Cross
DESCRIPTION:Join your parish family every Friday evening during Lent for fellowship\, prayer\, and a delicious meal. The Knights of Columbus host our weekly Fish Fry Dinners\, followed by Stations of the Cross in the sanctuary. \nThere is no set price for dinner. A free will offering is accepted and appreciated. You are welcome to dine in or take your meal to go. \nWeekly Schedule\n\nFish fry or baked fish dinner served from 5:00 pm to 7:00 pm\nStations of the Cross at 7:00 pm in the sanctuary\n\nVarious parish ministries lead the Stations each week\n\n\n\nCome share a meal\, deepen your Lenten journey\, and pray together as a parish community.
URL:https://meadangels.org/event/%f0%9f%90%9f-fish-fry-dinners-and-%e2%9c%9d%ef%b8%8f-stations-of-the-cross/2026-03-13/
LOCATION:Guardian Angels Catholic Church\, 109 S. 3rd Street\, Mead\, 80542\, United States
CATEGORIES:Knights of Columbus,Women's Group,Youth Formation (6th-8th),Youth Formation (9th-12th)
END:VEVENT
BEGIN:VEVENT
DTSTART;VALUE=DATE:20260314
DTEND;VALUE=DATE:20260316
DTSTAMP:20260419T122724
CREATED:20260313T031626Z
LAST-MODIFIED:20260313T031626Z
UID:10003120-1773446400-1773619199@meadangels.org
SUMMARY:Catholic Relief Services Collection
DESCRIPTION:This weekend (3/14-3/15)\, a portion of our parish offertory will support the important humanitarian work of Catholic Relief Services. \nAs a tithing community\, we share our blessing with those who are most in need. Through this special collection\, our parish helps reveal Christ’s love to our brothers and sisters who are experiencing hardship both in the United States and around the world. \n  \nHow Your Support Helps\nFunds from this collection provide grants to Catholic organizations that serve vulnerable and struggling communities. \n\nSupports humanitarian relief efforts\nAssists facilities and communities facing poverty and crisis\nPromotes peace and reconciliation among marginalized communities\nProvides aid to people both locally and globally\n\nThese funds are distributed through Catholic agencies supported by the United States Conference of Catholic Bishops that work to bring hope\, healing\, and stability to those in need. \n  \nLearn More\nTO learn more about ore about the mission and impact of Catholic Relief Services\, visit www.usccb.org/catholic-relief. \n  \nPlease Be Generous\nYour generosity allows the Church to extend Christ’s compassion and care to people who need it most.
URL:https://meadangels.org/event/catholic-relief-services-collection/
LOCATION:Guardian Angels Catholic Church\, 109 S. 3rd Street\, Mead\, 80542\, United States
END:VEVENT
END:VCALENDAR