BEGIN:VCALENDAR
VERSION:2.0
PRODID:-//Guardian Angels Catholic Church - ECPv6.15.20//NONSGML v1.0//EN
CALSCALE:GREGORIAN
METHOD:PUBLISH
X-WR-CALNAME:Guardian Angels Catholic Church
X-ORIGINAL-URL:https://meadangels.org
X-WR-CALDESC:Events for Guardian Angels Catholic Church
REFRESH-INTERVAL;VALUE=DURATION:PT1H
X-Robots-Tag:noindex
X-PUBLISHED-TTL:PT1H
BEGIN:VTIMEZONE
TZID:America/Denver
BEGIN:DAYLIGHT
TZOFFSETFROM:-0700
TZOFFSETTO:-0600
TZNAME:MDT
DTSTART:20250309T090000
END:DAYLIGHT
BEGIN:STANDARD
TZOFFSETFROM:-0600
TZOFFSETTO:-0700
TZNAME:MST
DTSTART:20251102T080000
END:STANDARD
BEGIN:DAYLIGHT
TZOFFSETFROM:-0700
TZOFFSETTO:-0600
TZNAME:MDT
DTSTART:20260308T090000
END:DAYLIGHT
BEGIN:STANDARD
TZOFFSETFROM:-0600
TZOFFSETTO:-0700
TZNAME:MST
DTSTART:20261101T080000
END:STANDARD
BEGIN:DAYLIGHT
TZOFFSETFROM:-0700
TZOFFSETTO:-0600
TZNAME:MDT
DTSTART:20270314T090000
END:DAYLIGHT
BEGIN:STANDARD
TZOFFSETFROM:-0600
TZOFFSETTO:-0700
TZNAME:MST
DTSTART:20271107T080000
END:STANDARD
END:VTIMEZONE
BEGIN:VEVENT
DTSTART;VALUE=DATE:20260227
DTEND;VALUE=DATE:20260302
DTSTAMP:20260419T214606
CREATED:20260220T173700Z
LAST-MODIFIED:20260220T174329Z
UID:10003050-1772150400-1772409599@meadangels.org
SUMMARY:Retrouvaille 💍: Rekindle Your Love 💕
DESCRIPTION:If your marriage is struggling\, Retrouvaille offers hope and healing. This program has helped countless couples restore trust\, improve communication\, and rediscover the love that first brought them together. Even couples who are separated or divorced have found renewal through this ministry. \n  \nIt is never too late to seek healing and take steps toward a stronger future together. Guardian Angels will share the cost of the program to support couples who wish to attend. \n  \nProgram Details\n\nDates: February 27 through March 1\nDesigned for couples experiencing serious challenges in their marriage\nConfidential and compassionate support\nHosted by Retrouvaille of Denver\n\n  \nRegister or Learn More\n\nCall 720.257.9016\nEmail info@retrouvailleofdenver.org\nVisit www.RetrouvailleOfDenver.org\n\nTake the first step toward healing and renewed hope in your marriage.
URL:https://meadangels.org/event/retrouvaille-%f0%9f%92%8d-rekindle-your-love-%f0%9f%92%95/
CATEGORIES:Marriage
END:VEVENT
BEGIN:VEVENT
DTSTART;VALUE=DATE:20260228
DTEND;VALUE=DATE:20260405
DTSTAMP:20260419T214606
CREATED:20260220T171038Z
LAST-MODIFIED:20260220T171707Z
UID:10003048-1772236800-1775347199@meadangels.org
SUMMARY:Catholic Charities Diaper Drive
DESCRIPTION:February 28 through April 4\nAs a parish Lenten service project\, Guardian Angels will collect diapers\, wipes\, and adult incontinence supplies to support families in need through Catholic Charities of Denver. Your generosity helps provide essential items that many families struggle to afford. \nMost Needed Items\n\nDiapers sizes 5 and 6\n4T to 5T Pull ups\n\nHow to Donate\n\nPlace donations in the bin located in the narthex\nBring items to the parish office\nMail contributions to Catholic Charities Bottom Line Diaper Bank\, 6240 Smith Road\, Denver\, CO 80216\n\nThank you for serving our neighbors with compassion during this Lenten season.
URL:https://meadangels.org/event/catholic-charities-diaper-drive/
END:VEVENT
BEGIN:VEVENT
DTSTART;TZID=America/Denver:20260301T100000
DTEND;TZID=America/Denver:20260301T103000
DTSTAMP:20260419T214606
CREATED:20260219T075854Z
LAST-MODIFIED:20260219T075854Z
UID:10002978-1772359200-1772361000@meadangels.org
SUMMARY:9 AM Families Gathering
DESCRIPTION:Would you like to get to know other young families you see each week at the 9 am Mass? Join us after Mass for fellowship and conversation while the little ones enjoy time to play together in the CC Center. \nThis is a wonderful opportunity to build friendships\, strengthen community\, and connect with other families in our parish. \nGathering Details \n\nImmediately following the 9 am Mass\nLocation: CC Center\nFellowship for parents and playtime for children\n\nUpcoming Dates \n\nMarch 1\nMarch 29\n\nWe look forward to seeing you and your family there. All are welcome.
URL:https://meadangels.org/event/9-am-families-gathering/2026-03-01/
LOCATION:Guardian Angels Catholic Church: Catechetical Center (CC Center)\, 109 S. 3rd Street\, Mead\, CO\, 80542\, United States
END:VEVENT
BEGIN:VEVENT
DTSTART;TZID=America/Denver:20260302T090000
DTEND;TZID=America/Denver:20260302T110000
DTSTAMP:20260419T214606
CREATED:20240409T214444Z
LAST-MODIFIED:20250110T183320Z
UID:10000303-1772442000-1772449200@meadangels.org
SUMMARY:Caring Hands Crafters Meeting
DESCRIPTION:We create handmade items with love and care to bring comfort and support to those in need within our Catholic community. Whether you’re an experienced crafter or just starting out\, there’s a place for you to make a difference in our community. New members of all ages (women and men) and talents (woodworkers\, metal workers\, artists\, crafters) are welcome. Caring Hands Crafters meet every Monday at 9 – 11 am in the Catechetical Center (CC Center). \n 
URL:https://meadangels.org/event/caring-hands-crafters-meeting/2026-03-02/
LOCATION:Guardian Angels Catholic Church: Catechetical Center (CC Center)\, 109 S. 3rd Street\, Mead\, CO\, 80542\, United States
CATEGORIES:Caring Hands Crafters
ATTACH;FMTTYPE=image/jpeg:https://meadangels.org/wp-content/uploads/IMG_7847.jpeg
END:VEVENT
BEGIN:VEVENT
DTSTART;TZID=America/Denver:20260302T113000
DTEND;TZID=America/Denver:20260302T130000
DTSTAMP:20260419T214606
CREATED:20251219T142330Z
LAST-MODIFIED:20260131T013447Z
UID:10002672-1772451000-1772456400@meadangels.org
SUMMARY:Bible Study Every Monday
DESCRIPTION:When: Mondays\, 11:30 AM – 1:00 PM\nWhere: CC Center\nLed by: Sandy Gross \nJoin us for an enriching time of fellowship and learning as we dive into the Word of God together. Led by Sandy Gross\, this weekly Bible study offers an opportunity to explore scripture\, deepen your faith\, and connect with others in a supportive and welcoming environment. \nWhether you’re new to Bible study or have been attending for years\, all are welcome to participate. Bring your Bible\, your questions\, and an open heart. We look forward to seeing you there.
URL:https://meadangels.org/event/bible-study-every-monday-3-2-2/2026-03-02/
LOCATION:Guardian Angels Catholic Church: Catechetical Center (CC Center)\, 109 S. 3rd Street\, Mead\, CO\, 80542\, United States
CATEGORIES:Faith Outreach
ATTACH;FMTTYPE=image/jpeg:https://meadangels.org/wp-content/uploads/Bible-Study-2026.jpg
ORGANIZER;CN="Sandy Gross":MAILTO:faithOutreach@meadangels.org
END:VEVENT
BEGIN:VEVENT
DTSTART;TZID=America/Denver:20260303T070000
DTEND;TZID=America/Denver:20260303T080000
DTSTAMP:20260419T214606
CREATED:20260131T014209Z
LAST-MODIFIED:20260131T014209Z
UID:10002955-1772521200-1772524800@meadangels.org
SUMMARY:Mead Angels Men's Bible Study Every Tuesday
DESCRIPTION:Discover the Mead Angels Men’s Bible Study. Join us every Tuesday from 7-8 am in Bakhita Hall. Led by Deacon Chris\, this session is a chance for men to delve into Scripture\, grow in faith\, and build community. All are welcome\, whether you’re a seasoned Bible scholar or new to studying God’s Word. Come for engaging discussions\, prayer\, and fellowship as we strengthen our spiritual journey together.
URL:https://meadangels.org/event/mead-angels-mens-bible-study-every-tuesday-4/2026-03-03/
LOCATION:Guardian Angels Catholic Church (Bakhita Hall)\, 109 S. 3rd Street\, Mead\, CO\, 80542\, United States
CATEGORIES:Men's Group
ATTACH;FMTTYPE=image/jpeg:https://meadangels.org/wp-content/uploads/Mens-Bible-Study-2026.jpg
END:VEVENT
BEGIN:VEVENT
DTSTART;TZID=America/Denver:20260303T181500
DTEND;TZID=America/Denver:20260303T200000
DTSTAMP:20260419T214606
CREATED:20250428T152656Z
LAST-MODIFIED:20251003T163004Z
UID:10002795-1772561700-1772568000@meadangels.org
SUMMARY:Women's Group Meeting
DESCRIPTION:All ladies of the parish are welcome to attend the Women’s Group Meeting. Every woman in the parish is an automatic member. The Women’s Group meets the 1st Tuesdays monthly from 6:15 – 8:00 pm (September – May). \n\nGather with other GA women to pray the rosary. Women’s Group rosary begins at 6:15 pm\nWomen’s Group social begins at 6:30 pm\nWomen’s Group meeting begins at 7:00 pm
URL:https://meadangels.org/event/womens-group-meeting-2/2026-03-03/
LOCATION:Guardian Angels Catholic Church\, 109 S. 3rd Street\, Mead\, 80542\, United States
CATEGORIES:Women's Group
END:VEVENT
BEGIN:VEVENT
DTSTART;TZID=America/Denver:20260305T190000
DTEND;TZID=America/Denver:20260305T201500
DTSTAMP:20260419T214606
CREATED:20260219T091943Z
LAST-MODIFIED:20260219T091957Z
UID:10002983-1772737200-1772741700@meadangels.org
SUMMARY:Mead Angels Men's Bible Study Every Thursday
DESCRIPTION:Men of the parish are invited to gather each week to grow in faith\, strengthen fellowship\, and deepen their understanding of Scripture. This dedicated time for men offers meaningful discussion\, prayer\, and encouragement in living out the Catholic faith. \nStudy Details\n\nThursdays from 7:00 pm to 8:00 pm\nLocation: Bakhita Hall\nOpen to men only\nLed by Tim Gross\nFocused on Scripture\, discussion\, and faith formation\n\nCome join other men of the parish as you grow together in faith and brotherhood.
URL:https://meadangels.org/event/mead-angels-mens-bible-study-every-thursday/2026-03-05/
LOCATION:Guardian Angels Catholic Church (Bakhita Hall)\, 109 S. 3rd Street\, Mead\, CO\, 80542\, United States
CATEGORIES:Men's Group
END:VEVENT
BEGIN:VEVENT
DTSTART;TZID=America/Denver:20260305T190000
DTEND;TZID=America/Denver:20260305T203000
DTSTAMP:20260419T214606
CREATED:20241205T224349Z
LAST-MODIFIED:20241205T224349Z
UID:10001511-1772737200-1772742600@meadangels.org
SUMMARY:Society of St. Vincent de Paul Meeting
DESCRIPTION:The St. Vincent de Paul Society conference at Guardian Angels was formed in October 2021. Since that time our group has learned much about each other and our neighbors in need. We continue to provide assistance to neighbors in Mead\, Berthoud\, Longmont\, Platteville\, and other nearby communities. We provide not only material assistance such as rent\, utilities\, telephone bills\, fuel\, and groceries but also offer friendship\, understanding\, and prayer. \n  \nMost of the financial assistance we provide comes from the generosity of Guardian Angels parishioners. We provided almost $8000 in rent assistance locally over the previous year thanks\, in large part to the generosity of Guardian Angels parishioners. With growing needs\, we have already exceeded $8000 in rent assistance in the six months of the current fiscal year. \n  \nAttend this meeting to join our Society of St. Vincent de Paul at Guardian Angels so we can do more for those in need in our community. We meet on the first and third Thursdays of each month at 7 pm in the parish conference room and on Zoom.
URL:https://meadangels.org/event/society-of-st-vincent-de-paul-meeting-3-2/2026-03-05/
LOCATION:Guardian Angels Catholic Church (Parish Conference Room)\, 109 S. 3rd Street\, Mead\, CO\, 10016\, United States
CATEGORIES:St. Vincent de Paul Society
ATTACH;FMTTYPE=image/jpeg:https://meadangels.org/wp-content/uploads/svdp-pink-small-scaled.jpg
ORGANIZER;CN="Rich Chopyak":MAILTO:svdp@meadangels.org
END:VEVENT
BEGIN:VEVENT
DTSTART;TZID=America/Denver:20260306T170000
DTEND;TZID=America/Denver:20260306T200000
DTSTAMP:20260419T214606
CREATED:20260219T075117Z
LAST-MODIFIED:20260307T232610Z
UID:10002974-1772816400-1772827200@meadangels.org
SUMMARY:🐟 Fish Fry Dinners and ✝️ Stations of the Cross
DESCRIPTION:Join your parish family every Friday evening during Lent for fellowship\, prayer\, and a delicious meal. The Knights of Columbus host our weekly Fish Fry Dinners\, followed by Stations of the Cross in the sanctuary. \nThere is no set price for dinner. A free will offering is accepted and appreciated. You are welcome to dine in or take your meal to go. \nWeekly Schedule\n\nFish fry or baked fish dinner served from 5:00 pm to 7:00 pm\nStations of the Cross at 7:00 pm in the sanctuary\n\nVarious parish ministries lead the Stations each week\n\n\n\nCome share a meal\, deepen your Lenten journey\, and pray together as a parish community.
URL:https://meadangels.org/event/%f0%9f%90%9f-fish-fry-dinners-and-%e2%9c%9d%ef%b8%8f-stations-of-the-cross/2026-03-06/
LOCATION:Guardian Angels Catholic Church\, 109 S. 3rd Street\, Mead\, 80542\, United States
CATEGORIES:Knights of Columbus,Women's Group,Youth Formation (6th-8th),Youth Formation (9th-12th)
END:VEVENT
BEGIN:VEVENT
DTSTART;VALUE=DATE:20260307
DTEND;VALUE=DATE:20260401
DTSTAMP:20260419T214606
CREATED:20260307T220639Z
LAST-MODIFIED:20260313T060600Z
UID:10003055-1772841600-1775001599@meadangels.org
SUMMARY:Free FORMED Subscription
DESCRIPTION:Did you know that as a parishioner of Guardian Angels you have a free subscription to FORMED? \nVisit app.formed.org to explore a wide variety of Catholic content for the whole family\, including videos\, podcasts\, audiobooks\, movies\, and more. \nIf you need help logging in\, contact the parish office\, pick up a card from the hospitality carts and scan the code\, or sign up and search for Guardian Angels using zip code 80542. \n\nGo to formed.org/signup\nRegister with your email address and name\nSearch for your parish by Zip Code 80542 and select 109 S. 3rd Street\, Mead\nCreate a password to securely sign in to FORMED\n\nDo you enjoy listening while you walk? FORMED offers many audio options so you can listen to inspiring Catholic content while getting some fresh air. You may find yourself walking for miles.
URL:https://meadangels.org/event/free-formed-subscription/
END:VEVENT
END:VCALENDAR