BEGIN:VCALENDAR
VERSION:2.0
PRODID:-//Guardian Angels Catholic Church - ECPv6.15.20//NONSGML v1.0//EN
CALSCALE:GREGORIAN
METHOD:PUBLISH
X-ORIGINAL-URL:https://meadangels.org
X-WR-CALDESC:Events for Guardian Angels Catholic Church
REFRESH-INTERVAL;VALUE=DURATION:PT1H
X-Robots-Tag:noindex
X-PUBLISHED-TTL:PT1H
BEGIN:VTIMEZONE
TZID:America/Denver
BEGIN:DAYLIGHT
TZOFFSETFROM:-0700
TZOFFSETTO:-0600
TZNAME:MDT
DTSTART:20250309T090000
END:DAYLIGHT
BEGIN:STANDARD
TZOFFSETFROM:-0600
TZOFFSETTO:-0700
TZNAME:MST
DTSTART:20251102T080000
END:STANDARD
BEGIN:DAYLIGHT
TZOFFSETFROM:-0700
TZOFFSETTO:-0600
TZNAME:MDT
DTSTART:20260308T090000
END:DAYLIGHT
BEGIN:STANDARD
TZOFFSETFROM:-0600
TZOFFSETTO:-0700
TZNAME:MST
DTSTART:20261101T080000
END:STANDARD
BEGIN:DAYLIGHT
TZOFFSETFROM:-0700
TZOFFSETTO:-0600
TZNAME:MDT
DTSTART:20270314T090000
END:DAYLIGHT
BEGIN:STANDARD
TZOFFSETFROM:-0600
TZOFFSETTO:-0700
TZNAME:MST
DTSTART:20271107T080000
END:STANDARD
END:VTIMEZONE
BEGIN:VEVENT
DTSTART;VALUE=DATE:20260130
DTEND;VALUE=DATE:20260301
DTSTAMP:20260419T161116
CREATED:20260131T003417Z
LAST-MODIFIED:20260131T003417Z
UID:10002944-1769731200-1772323199@meadangels.org
SUMMARY:St. Francis of Assisi Jubilee Year Pilgrimage Site
DESCRIPTION:In honor of the 800th anniversary of the death of St. Francis of Assisi\, the Church is celebrating a special Jubilee Year dedicated to his life and legacy. Pope Leo XIV has designated 2026 as a Jubilee Year of St. Francis\, inviting the faithful to deeper conversion\, prayer\, and renewal. \n  \n\nSt. Francis of Assisi Catholic Church in Longmont has once again been named an official pilgrimage site for the Archdiocese of Denver\nPilgrims are invited to visit the church throughout the Jubilee Year to pray and reflect on the witness of St. Francis\nThe Jubilee Year is a special opportunity to receive abundant graces through pilgrimage\, prayer\, and the sacraments\nInformation on how to obtain a plenary indulgence is available in the guide located on the hospitality cart
URL:https://meadangels.org/event/st-francis-of-assisi-jubilee-year-pilgrimage-site/
LOCATION:St. Francis of Assisi Roman Catholic Church\, 3791 Pike Rd\, Longmont\, CO\, 80503\, United States
END:VEVENT
BEGIN:VEVENT
DTSTART;TZID=America/Denver:20260209T090000
DTEND;TZID=America/Denver:20260209T110000
DTSTAMP:20260419T161116
CREATED:20240409T214444Z
LAST-MODIFIED:20250110T183320Z
UID:10000300-1770627600-1770634800@meadangels.org
SUMMARY:Caring Hands Crafters Meeting
DESCRIPTION:We create handmade items with love and care to bring comfort and support to those in need within our Catholic community. Whether you’re an experienced crafter or just starting out\, there’s a place for you to make a difference in our community. New members of all ages (women and men) and talents (woodworkers\, metal workers\, artists\, crafters) are welcome. Caring Hands Crafters meet every Monday at 9 – 11 am in the Catechetical Center (CC Center). \n 
URL:https://meadangels.org/event/caring-hands-crafters-meeting/2026-02-09/
LOCATION:Guardian Angels Catholic Church: Catechetical Center (CC Center)\, 109 S. 3rd Street\, Mead\, CO\, 80542\, United States
CATEGORIES:Caring Hands Crafters
ATTACH;FMTTYPE=image/jpeg:https://meadangels.org/wp-content/uploads/IMG_7847.jpeg
END:VEVENT
BEGIN:VEVENT
DTSTART;TZID=America/Denver:20260209T113000
DTEND;TZID=America/Denver:20260209T130000
DTSTAMP:20260419T161116
CREATED:20251219T142330Z
LAST-MODIFIED:20260131T013447Z
UID:10002669-1770636600-1770642000@meadangels.org
SUMMARY:Bible Study Every Monday
DESCRIPTION:When: Mondays\, 11:30 AM – 1:00 PM\nWhere: CC Center\nLed by: Sandy Gross \nJoin us for an enriching time of fellowship and learning as we dive into the Word of God together. Led by Sandy Gross\, this weekly Bible study offers an opportunity to explore scripture\, deepen your faith\, and connect with others in a supportive and welcoming environment. \nWhether you’re new to Bible study or have been attending for years\, all are welcome to participate. Bring your Bible\, your questions\, and an open heart. We look forward to seeing you there.
URL:https://meadangels.org/event/bible-study-every-monday-3-2-2/2026-02-09/
LOCATION:Guardian Angels Catholic Church: Catechetical Center (CC Center)\, 109 S. 3rd Street\, Mead\, CO\, 80542\, United States
CATEGORIES:Faith Outreach
ATTACH;FMTTYPE=image/jpeg:https://meadangels.org/wp-content/uploads/Bible-Study-2026.jpg
ORGANIZER;CN="Sandy Gross":MAILTO:faithOutreach@meadangels.org
END:VEVENT
BEGIN:VEVENT
DTSTART;TZID=America/Denver:20260210T070000
DTEND;TZID=America/Denver:20260210T080000
DTSTAMP:20260419T161116
CREATED:20260131T014209Z
LAST-MODIFIED:20260131T014209Z
UID:10002952-1770706800-1770710400@meadangels.org
SUMMARY:Mead Angels Men's Bible Study Every Tuesday
DESCRIPTION:Discover the Mead Angels Men’s Bible Study. Join us every Tuesday from 7-8 am in Bakhita Hall. Led by Deacon Chris\, this session is a chance for men to delve into Scripture\, grow in faith\, and build community. All are welcome\, whether you’re a seasoned Bible scholar or new to studying God’s Word. Come for engaging discussions\, prayer\, and fellowship as we strengthen our spiritual journey together.
URL:https://meadangels.org/event/mead-angels-mens-bible-study-every-tuesday-4/2026-02-10/
LOCATION:Guardian Angels Catholic Church (Bakhita Hall)\, 109 S. 3rd Street\, Mead\, CO\, 80542\, United States
CATEGORIES:Men's Group
ATTACH;FMTTYPE=image/jpeg:https://meadangels.org/wp-content/uploads/Mens-Bible-Study-2026.jpg
END:VEVENT
BEGIN:VEVENT
DTSTART;TZID=America/Denver:20260210T132000
DTEND;TZID=America/Denver:20260210T153000
DTSTAMP:20260419T161116
CREATED:20260126T015632Z
LAST-MODIFIED:20260126T020330Z
UID:10002942-1770729600-1770737400@meadangels.org
SUMMARY:Silvers Is Going to the Movies 🍿 and You're Invited
DESCRIPTION:Join other Guardian Angels parishioners for a fun afternoon of lunch and a movie featuring the uplifting Angel Studios film “Solo Mio” starring Kevin James and Jonathan Roumie. \nDETAILS:\n\n📆 Tuesday\, February 10\n⏰ 1:20 pm\n📍 Village of the Peaks movie theater in Longmont.\n\n  \nSandy Gross at faithoutreach@meadangels.org has all the details. \n 
URL:https://meadangels.org/event/silvers-is-going-to-the-movies-%f0%9f%8d%bf-and-youre-invited/
END:VEVENT
BEGIN:VEVENT
DTSTART;VALUE=DATE:20260214
DTEND;VALUE=DATE:20260216
DTSTAMP:20260419T161116
CREATED:20251225T221057Z
LAST-MODIFIED:20251225T222742Z
UID:10002887-1771027200-1771199999@meadangels.org
SUMMARY:Breakfast Burritos 🌯
DESCRIPTION:Breakfast burritos are available every 2nd weekend of the month. The Knights of Columbus will be in the narthex after Masses selling homemade breakfast burritos. Burritos are $4 each or 5 for $18 and are available gluten free\, regular\, spicy\, frozen\, or hot and ready to enjoy. Proceeds benefit the Knights of Columbus charities.
URL:https://meadangels.org/event/breakfast-burritos-%f0%9f%8c%af/2026-02-14/
LOCATION:Guardian Angels Catholic Church\, 109 S. 3rd Street\, Mead\, 80542\, United States
CATEGORIES:Knights of Columbus
END:VEVENT
END:VCALENDAR