BEGIN:VCALENDAR
VERSION:2.0
PRODID:-//Guardian Angels Catholic Church - ECPv6.15.20//NONSGML v1.0//EN
CALSCALE:GREGORIAN
METHOD:PUBLISH
X-WR-CALNAME:Guardian Angels Catholic Church
X-ORIGINAL-URL:https://meadangels.org
X-WR-CALDESC:Events for Guardian Angels Catholic Church
REFRESH-INTERVAL;VALUE=DURATION:PT1H
X-Robots-Tag:noindex
X-PUBLISHED-TTL:PT1H
BEGIN:VTIMEZONE
TZID:America/Denver
BEGIN:DAYLIGHT
TZOFFSETFROM:-0700
TZOFFSETTO:-0600
TZNAME:MDT
DTSTART:20250309T090000
END:DAYLIGHT
BEGIN:STANDARD
TZOFFSETFROM:-0600
TZOFFSETTO:-0700
TZNAME:MST
DTSTART:20251102T080000
END:STANDARD
BEGIN:DAYLIGHT
TZOFFSETFROM:-0700
TZOFFSETTO:-0600
TZNAME:MDT
DTSTART:20260308T090000
END:DAYLIGHT
BEGIN:STANDARD
TZOFFSETFROM:-0600
TZOFFSETTO:-0700
TZNAME:MST
DTSTART:20261101T080000
END:STANDARD
BEGIN:DAYLIGHT
TZOFFSETFROM:-0700
TZOFFSETTO:-0600
TZNAME:MDT
DTSTART:20270314T090000
END:DAYLIGHT
BEGIN:STANDARD
TZOFFSETFROM:-0600
TZOFFSETTO:-0700
TZNAME:MST
DTSTART:20271107T080000
END:STANDARD
END:VTIMEZONE
BEGIN:VEVENT
DTSTART;VALUE=DATE:20260120
DTEND;VALUE=DATE:20260201
DTSTAMP:20260419T193546
CREATED:20260110T032744Z
LAST-MODIFIED:20260121T162857Z
UID:10002907-1768867200-1769903999@meadangels.org
SUMMARY:Grow Deeper in Your Faith This New Year 🎉
DESCRIPTION:Give one of our Bible Studies a try and deepen your understanding of the faith while growing closer to God. Bible Studies are offered throughout the week and provide an opportunity to ask questions and build community. \n  \nMeeting times include: \n\nMondays at 11:30 am\nTuesdays at 7 am for men only\nWednesdays at 6:05 pm\nThursdays at 7 pm for men only\n\n  \nFor more information please contact Sandy at faithoutreach@meadangels.org. \n  \n \n 
URL:https://meadangels.org/event/grow-deeper-in-your-faith-this-new-year-%f0%9f%8e%89/
END:VEVENT
BEGIN:VEVENT
DTSTART;VALUE=DATE:20260124
DTEND;VALUE=DATE:20260126
DTSTAMP:20260419T193546
CREATED:20260117T203739Z
LAST-MODIFIED:20260117T204655Z
UID:10002910-1769212800-1769385599@meadangels.org
SUMMARY:Shroud of Turin Presentations
DESCRIPTION:Join us for a special presentation on the Shroud of Turin with Fr. Andrew Dalton on Sunday\, January 25. The event begins with 1 pm Mass at Holy Family High School Chapel\, followed by an in depth presentation from 2 to 4 pm in the Holy Family Theater. Registration is required. Please see the flyer in the hallway for additional details. \n\nThe Shroud of Turin will also be displayed on Saturday\, January 24 at 1 pm at Sacred Heart of Jesus in Boulder.
URL:https://meadangels.org/event/shroud-of-turin-presentations/
END:VEVENT
BEGIN:VEVENT
DTSTART;TZID=America/Denver:20260125T100000
DTEND;TZID=America/Denver:20260125T130000
DTSTAMP:20260419T193546
CREATED:20260121T161051Z
LAST-MODIFIED:20260121T161217Z
UID:10002911-1769335200-1769346000@meadangels.org
SUMMARY:St. John the Baptist Preschool and Pre-K Open House
DESCRIPTION:Are you exploring early learning options for your child this fall? We invite families to learn more about the St. John the Baptist Preschool and Pre-K program during our upcoming Open House. \n\nJoin us on Sunday\, January 25 from 10 am to 1 pm at 350 Emery St.\, Longmont to meet our team tour the classrooms and discover how our program supports faith based learning academic readiness and social development in a nurturing environment. \n\nFor more information please email kareng@johnthebaptist.org.
URL:https://meadangels.org/event/st-john-the-baptist-preschool-and-pre-k-open-house/
LOCATION:St. John the Baptist Catholic Church\, 323 Collyer Street\, Longmont\, CO\, 80501\, United States
END:VEVENT
BEGIN:VEVENT
DTSTART;TZID=America/Denver:20260126T090000
DTEND;TZID=America/Denver:20260126T110000
DTSTAMP:20260419T193546
CREATED:20240409T214444Z
LAST-MODIFIED:20250110T183320Z
UID:10000298-1769418000-1769425200@meadangels.org
SUMMARY:Caring Hands Crafters Meeting
DESCRIPTION:We create handmade items with love and care to bring comfort and support to those in need within our Catholic community. Whether you’re an experienced crafter or just starting out\, there’s a place for you to make a difference in our community. New members of all ages (women and men) and talents (woodworkers\, metal workers\, artists\, crafters) are welcome. Caring Hands Crafters meet every Monday at 9 – 11 am in the Catechetical Center (CC Center). \n 
URL:https://meadangels.org/event/caring-hands-crafters-meeting/2026-01-26/
LOCATION:Guardian Angels Catholic Church: Catechetical Center (CC Center)\, 109 S. 3rd Street\, Mead\, CO\, 80542\, United States
CATEGORIES:Caring Hands Crafters
ATTACH;FMTTYPE=image/jpeg:https://meadangels.org/wp-content/uploads/IMG_7847.jpeg
END:VEVENT
BEGIN:VEVENT
DTSTART;TZID=America/Denver:20260126T113000
DTEND;TZID=America/Denver:20260126T130000
DTSTAMP:20260419T193546
CREATED:20251219T142330Z
LAST-MODIFIED:20260131T013447Z
UID:10002667-1769427000-1769432400@meadangels.org
SUMMARY:Bible Study Every Monday
DESCRIPTION:When: Mondays\, 11:30 AM – 1:00 PM\nWhere: CC Center\nLed by: Sandy Gross \nJoin us for an enriching time of fellowship and learning as we dive into the Word of God together. Led by Sandy Gross\, this weekly Bible study offers an opportunity to explore scripture\, deepen your faith\, and connect with others in a supportive and welcoming environment. \nWhether you’re new to Bible study or have been attending for years\, all are welcome to participate. Bring your Bible\, your questions\, and an open heart. We look forward to seeing you there.
URL:https://meadangels.org/event/bible-study-every-monday-3-2-2/2026-01-26/
LOCATION:Guardian Angels Catholic Church: Catechetical Center (CC Center)\, 109 S. 3rd Street\, Mead\, CO\, 80542\, United States
CATEGORIES:Faith Outreach
ATTACH;FMTTYPE=image/jpeg:https://meadangels.org/wp-content/uploads/Bible-Study-2026.jpg
ORGANIZER;CN="Sandy Gross":MAILTO:faithOutreach@meadangels.org
END:VEVENT
BEGIN:VEVENT
DTSTART;VALUE=DATE:20260130
DTEND;VALUE=DATE:20260202
DTSTAMP:20260419T193546
CREATED:20251206T183336Z
LAST-MODIFIED:20260126T210232Z
UID:10002865-1769731200-1769990399@meadangels.org
SUMMARY:Rachel’s Vineyard Healing Retreat
DESCRIPTION:Rachel’s Vineyard Colorado is offering a confidential Catholic healing retreat January 30 to February 1\, 2026. If you or someone you know carries the hidden pain of a past abortion\, this weekend offers a powerful opportunity to encounter God’s mercy and begin healing. \nThe retreat will be held at St. Mary Parish in Littleton and provides a safe and prayerful space for women and men to experience grace\, peace\, and renewal. Learn more at rvrcolorado.org or call Lori at 303.904.7414.
URL:https://meadangels.org/event/rachels-vineyard-healing-retreat/
END:VEVENT
BEGIN:VEVENT
DTSTART;VALUE=DATE:20260130
DTEND;VALUE=DATE:20260301
DTSTAMP:20260419T193546
CREATED:20260131T003417Z
LAST-MODIFIED:20260131T003417Z
UID:10002944-1769731200-1772323199@meadangels.org
SUMMARY:St. Francis of Assisi Jubilee Year Pilgrimage Site
DESCRIPTION:In honor of the 800th anniversary of the death of St. Francis of Assisi\, the Church is celebrating a special Jubilee Year dedicated to his life and legacy. Pope Leo XIV has designated 2026 as a Jubilee Year of St. Francis\, inviting the faithful to deeper conversion\, prayer\, and renewal. \n  \n\nSt. Francis of Assisi Catholic Church in Longmont has once again been named an official pilgrimage site for the Archdiocese of Denver\nPilgrims are invited to visit the church throughout the Jubilee Year to pray and reflect on the witness of St. Francis\nThe Jubilee Year is a special opportunity to receive abundant graces through pilgrimage\, prayer\, and the sacraments\nInformation on how to obtain a plenary indulgence is available in the guide located on the hospitality cart
URL:https://meadangels.org/event/st-francis-of-assisi-jubilee-year-pilgrimage-site/
LOCATION:St. Francis of Assisi Roman Catholic Church\, 3791 Pike Rd\, Longmont\, CO\, 80503\, United States
END:VEVENT
END:VCALENDAR