BEGIN:VCALENDAR
VERSION:2.0
PRODID:-//Guardian Angels Catholic Church - ECPv6.15.20//NONSGML v1.0//EN
CALSCALE:GREGORIAN
METHOD:PUBLISH
X-ORIGINAL-URL:https://meadangels.org
X-WR-CALDESC:Events for Guardian Angels Catholic Church
REFRESH-INTERVAL;VALUE=DURATION:PT1H
X-Robots-Tag:noindex
X-PUBLISHED-TTL:PT1H
BEGIN:VTIMEZONE
TZID:America/Denver
BEGIN:DAYLIGHT
TZOFFSETFROM:-0700
TZOFFSETTO:-0600
TZNAME:MDT
DTSTART:20240310T090000
END:DAYLIGHT
BEGIN:STANDARD
TZOFFSETFROM:-0600
TZOFFSETTO:-0700
TZNAME:MST
DTSTART:20241103T080000
END:STANDARD
BEGIN:DAYLIGHT
TZOFFSETFROM:-0700
TZOFFSETTO:-0600
TZNAME:MDT
DTSTART:20250309T090000
END:DAYLIGHT
BEGIN:STANDARD
TZOFFSETFROM:-0600
TZOFFSETTO:-0700
TZNAME:MST
DTSTART:20251102T080000
END:STANDARD
BEGIN:DAYLIGHT
TZOFFSETFROM:-0700
TZOFFSETTO:-0600
TZNAME:MDT
DTSTART:20260308T090000
END:DAYLIGHT
BEGIN:STANDARD
TZOFFSETFROM:-0600
TZOFFSETTO:-0700
TZNAME:MST
DTSTART:20261101T080000
END:STANDARD
BEGIN:DAYLIGHT
TZOFFSETFROM:-0700
TZOFFSETTO:-0600
TZNAME:MDT
DTSTART:20270314T090000
END:DAYLIGHT
BEGIN:STANDARD
TZOFFSETFROM:-0600
TZOFFSETTO:-0700
TZNAME:MST
DTSTART:20271107T080000
END:STANDARD
END:VTIMEZONE
BEGIN:VEVENT
DTSTART;VALUE=DATE:20251225
DTEND;VALUE=DATE:20260105
DTSTAMP:20260420T070734
CREATED:20251211T020435Z
LAST-MODIFIED:20251219T152001Z
UID:10002867-1766620800-1767571199@meadangels.org
SUMMARY:⛪️ Parish Office Closed
DESCRIPTION:The parish office will be closed from December 25 through January 4. From all of us on the parish staff\, we extend our warmest Christmas 🎄 wishes to you and your loved ones. May the joy of Christ’s birth ✨ fill your hearts with peace\, hope\, and renewed faith throughout the coming year. Thank you for being such a cherished part of our parish family.
URL:https://meadangels.org/event/%e2%9b%aa%ef%b8%8f-parish-office-closed/
END:VEVENT
BEGIN:VEVENT
DTSTART;TZID=America/Denver:20260105T090000
DTEND;TZID=America/Denver:20260105T110000
DTSTAMP:20260420T070734
CREATED:20240409T214444Z
LAST-MODIFIED:20250110T183320Z
UID:10000295-1767603600-1767610800@meadangels.org
SUMMARY:Caring Hands Crafters Meeting
DESCRIPTION:We create handmade items with love and care to bring comfort and support to those in need within our Catholic community. Whether you’re an experienced crafter or just starting out\, there’s a place for you to make a difference in our community. New members of all ages (women and men) and talents (woodworkers\, metal workers\, artists\, crafters) are welcome. Caring Hands Crafters meet every Monday at 9 – 11 am in the Catechetical Center (CC Center). \n 
URL:https://meadangels.org/event/caring-hands-crafters-meeting/2026-01-05/
LOCATION:Guardian Angels Catholic Church: Catechetical Center (CC Center)\, 109 S. 3rd Street\, Mead\, CO\, 80542\, United States
CATEGORIES:Caring Hands Crafters
ATTACH;FMTTYPE=image/jpeg:https://meadangels.org/wp-content/uploads/IMG_7847.jpeg
END:VEVENT
BEGIN:VEVENT
DTSTART;TZID=America/Denver:20260105T113000
DTEND;TZID=America/Denver:20260105T130000
DTSTAMP:20260420T070734
CREATED:20251219T142330Z
LAST-MODIFIED:20260131T013447Z
UID:10002664-1767612600-1767618000@meadangels.org
SUMMARY:Bible Study Every Monday
DESCRIPTION:When: Mondays\, 11:30 AM – 1:00 PM\nWhere: CC Center\nLed by: Sandy Gross \nJoin us for an enriching time of fellowship and learning as we dive into the Word of God together. Led by Sandy Gross\, this weekly Bible study offers an opportunity to explore scripture\, deepen your faith\, and connect with others in a supportive and welcoming environment. \nWhether you’re new to Bible study or have been attending for years\, all are welcome to participate. Bring your Bible\, your questions\, and an open heart. We look forward to seeing you there.
URL:https://meadangels.org/event/bible-study-every-monday-3-2-2/2026-01-05/
LOCATION:Guardian Angels Catholic Church: Catechetical Center (CC Center)\, 109 S. 3rd Street\, Mead\, CO\, 80542\, United States
CATEGORIES:Faith Outreach
ATTACH;FMTTYPE=image/jpeg:https://meadangels.org/wp-content/uploads/Bible-Study-2026.jpg
ORGANIZER;CN="Sandy Gross":MAILTO:faithOutreach@meadangels.org
END:VEVENT
BEGIN:VEVENT
DTSTART;TZID=America/Denver:20260106T181500
DTEND;TZID=America/Denver:20260106T200000
DTSTAMP:20260420T070734
CREATED:20250428T152656Z
LAST-MODIFIED:20251003T163004Z
UID:10002793-1767723300-1767729600@meadangels.org
SUMMARY:Women's Group Meeting
DESCRIPTION:All ladies of the parish are welcome to attend the Women’s Group Meeting. Every woman in the parish is an automatic member. The Women’s Group meets the 1st Tuesdays monthly from 6:15 – 8:00 pm (September – May). \n\nGather with other GA women to pray the rosary. Women’s Group rosary begins at 6:15 pm\nWomen’s Group social begins at 6:30 pm\nWomen’s Group meeting begins at 7:00 pm
URL:https://meadangels.org/event/womens-group-meeting-2/2026-01-06/
LOCATION:Guardian Angels Catholic Church\, 109 S. 3rd Street\, Mead\, 80542\, United States
CATEGORIES:Women's Group
END:VEVENT
BEGIN:VEVENT
DTSTART;VALUE=DATE:20260110
DTEND;VALUE=DATE:20260112
DTSTAMP:20260420T070734
CREATED:20251225T221057Z
LAST-MODIFIED:20251225T222742Z
UID:10002886-1768003200-1768175999@meadangels.org
SUMMARY:Breakfast Burritos 🌯
DESCRIPTION:Breakfast burritos are available every 2nd weekend of the month. The Knights of Columbus will be in the narthex after Masses selling homemade breakfast burritos. Burritos are $4 each or 5 for $18 and are available gluten free\, regular\, spicy\, frozen\, or hot and ready to enjoy. Proceeds benefit the Knights of Columbus charities.
URL:https://meadangels.org/event/breakfast-burritos-%f0%9f%8c%af/2026-01-10/
LOCATION:Guardian Angels Catholic Church\, 109 S. 3rd Street\, Mead\, 80542\, United States
CATEGORIES:Knights of Columbus
END:VEVENT
BEGIN:VEVENT
DTSTART;VALUE=DATE:20260110
DTEND;VALUE=DATE:20260112
DTSTAMP:20260420T070734
CREATED:20260110T030206Z
LAST-MODIFIED:20260110T030653Z
UID:10002906-1768003200-1768175999@meadangels.org
SUMMARY:✍🏼 Signature Collection This Weekend
DESCRIPTION:Volunteers will be collecting signatures after all Masses this weekend to place three measures on the 2026 ballot. These initiatives focus on protecting children from sex trafficking\, protecting kids from irreversible sex change procedures\, and protecting girls’ single sex sports and locker rooms. \n  \nArchbishop Aquila urges Colorado Catholics who are registered voters to sign the petitions. Please stop by the table in Bakhita Hall if you have not yet signed. Learn more about the initiatives at protectkidscolorado.org.
URL:https://meadangels.org/event/signature-collection-this-weekend/
LOCATION:Guardian Angels Catholic Church (Bakhita Hall)\, 109 S. 3rd Street\, Mead\, CO\, 80542\, United States
END:VEVENT
END:VCALENDAR