BEGIN:VCALENDAR
VERSION:2.0
PRODID:-//Guardian Angels Catholic Church - ECPv6.15.20//NONSGML v1.0//EN
CALSCALE:GREGORIAN
METHOD:PUBLISH
X-ORIGINAL-URL:https://meadangels.org
X-WR-CALDESC:Events for Guardian Angels Catholic Church
REFRESH-INTERVAL;VALUE=DURATION:PT1H
X-Robots-Tag:noindex
X-PUBLISHED-TTL:PT1H
BEGIN:VTIMEZONE
TZID:America/Denver
BEGIN:DAYLIGHT
TZOFFSETFROM:-0700
TZOFFSETTO:-0600
TZNAME:MDT
DTSTART:20240310T090000
END:DAYLIGHT
BEGIN:STANDARD
TZOFFSETFROM:-0600
TZOFFSETTO:-0700
TZNAME:MST
DTSTART:20241103T080000
END:STANDARD
BEGIN:DAYLIGHT
TZOFFSETFROM:-0700
TZOFFSETTO:-0600
TZNAME:MDT
DTSTART:20250309T090000
END:DAYLIGHT
BEGIN:STANDARD
TZOFFSETFROM:-0600
TZOFFSETTO:-0700
TZNAME:MST
DTSTART:20251102T080000
END:STANDARD
BEGIN:DAYLIGHT
TZOFFSETFROM:-0700
TZOFFSETTO:-0600
TZNAME:MDT
DTSTART:20260308T090000
END:DAYLIGHT
BEGIN:STANDARD
TZOFFSETFROM:-0600
TZOFFSETTO:-0700
TZNAME:MST
DTSTART:20261101T080000
END:STANDARD
BEGIN:DAYLIGHT
TZOFFSETFROM:-0700
TZOFFSETTO:-0600
TZNAME:MDT
DTSTART:20270314T090000
END:DAYLIGHT
BEGIN:STANDARD
TZOFFSETFROM:-0600
TZOFFSETTO:-0700
TZNAME:MST
DTSTART:20271107T080000
END:STANDARD
END:VTIMEZONE
BEGIN:VEVENT
DTSTART;VALUE=DATE:20251225
DTEND;VALUE=DATE:20260105
DTSTAMP:20260419T161109
CREATED:20251211T020435Z
LAST-MODIFIED:20251219T152001Z
UID:10002867-1766620800-1767571199@meadangels.org
SUMMARY:⛪️ Parish Office Closed
DESCRIPTION:The parish office will be closed from December 25 through January 4. From all of us on the parish staff\, we extend our warmest Christmas 🎄 wishes to you and your loved ones. May the joy of Christ’s birth ✨ fill your hearts with peace\, hope\, and renewed faith throughout the coming year. Thank you for being such a cherished part of our parish family.
URL:https://meadangels.org/event/%e2%9b%aa%ef%b8%8f-parish-office-closed/
END:VEVENT
BEGIN:VEVENT
DTSTART;TZID=America/Denver:20251229T090000
DTEND;TZID=America/Denver:20251229T110000
DTSTAMP:20260419T161109
CREATED:20240409T214444Z
LAST-MODIFIED:20250110T183320Z
UID:10000294-1766998800-1767006000@meadangels.org
SUMMARY:Caring Hands Crafters Meeting
DESCRIPTION:We create handmade items with love and care to bring comfort and support to those in need within our Catholic community. Whether you’re an experienced crafter or just starting out\, there’s a place for you to make a difference in our community. New members of all ages (women and men) and talents (woodworkers\, metal workers\, artists\, crafters) are welcome. Caring Hands Crafters meet every Monday at 9 – 11 am in the Catechetical Center (CC Center). \n 
URL:https://meadangels.org/event/caring-hands-crafters-meeting/2025-12-29/
LOCATION:Guardian Angels Catholic Church: Catechetical Center (CC Center)\, 109 S. 3rd Street\, Mead\, CO\, 80542\, United States
CATEGORIES:Caring Hands Crafters
ATTACH;FMTTYPE=image/jpeg:https://meadangels.org/wp-content/uploads/IMG_7847.jpeg
END:VEVENT
BEGIN:VEVENT
DTSTART;VALUE=DATE:20251231
DTEND;VALUE=DATE:20260102
DTSTAMP:20260419T161109
CREATED:20251219T152959Z
LAST-MODIFIED:20251219T153225Z
UID:10002885-1767139200-1767311999@meadangels.org
SUMMARY:Ring in the New Year 🥳 by Going to Mass ⛪️
DESCRIPTION:Begin the New Year in prayer and thanksgiving by celebrating Mass with your family. Join us as we welcome the New Year and honor Mary\, Mother of God\, a Holy Day of Obligation. \n\nNew Year’s Eve MassWednesday\, December 31 at 11:30 pm\n\n  \n\nHoly Day of Obligation MassMary\, Mother of God\n\nVigil Mass: Wednesday\, December 31 at 6:00 pm\nHoly Day Mass: Thursday\, January 1 at 9:00 am\n\n\n\nAll are welcome. Bring your family and start the New Year rooted in faith and grace.
URL:https://meadangels.org/event/ring-in-the-new-year-%f0%9f%a5%b3-by-going-to-mass-%e2%9b%aa%ef%b8%8f/
LOCATION:Guardian Angels Catholic Church\, 109 S. 3rd Street\, Mead\, 80542\, United States
END:VEVENT
BEGIN:VEVENT
DTSTART;TZID=America/Denver:20260102T180000
DTEND;TZID=America/Denver:20260102T200000
DTSTAMP:20260419T161109
CREATED:20251219T145830Z
LAST-MODIFIED:20251219T162457Z
UID:10002881-1767376800-1767384000@meadangels.org
SUMMARY:♟️Game Night
DESCRIPTION:Join the Knights for Game Night at Guardian Angels. This is a quarterly event\, so be sure to save the dates on your calendar: \n\n📆 January 2\, April 3\, July 3\, and October 2\n⏰ After 5:15 pm Mass\n\n  \nFollowing First Friday Mass at 5:15 pm\, gather with your parish family for a potluck and an evening of games in Bakhita Hall. This free event is open to all ages and is a great opportunity to build fellowship\, share food\, and enjoy time together. Bring the whole family.
URL:https://meadangels.org/event/%e2%99%9f%ef%b8%8fgame-night/2026-01-02/
LOCATION:Guardian Angels Catholic Church (Bakhita Hall)\, 109 S. 3rd Street\, Mead\, CO\, 80542\, United States
CATEGORIES:Knights of Columbus
ATTACH;FMTTYPE=image/jpeg:https://meadangels.org/wp-content/uploads/game-night.jpeg
END:VEVENT
END:VCALENDAR