BEGIN:VCALENDAR
VERSION:2.0
PRODID:-//Guardian Angels Catholic Church - ECPv6.15.20//NONSGML v1.0//EN
CALSCALE:GREGORIAN
METHOD:PUBLISH
X-ORIGINAL-URL:https://meadangels.org
X-WR-CALDESC:Events for Guardian Angels Catholic Church
REFRESH-INTERVAL;VALUE=DURATION:PT1H
X-Robots-Tag:noindex
X-PUBLISHED-TTL:PT1H
BEGIN:VTIMEZONE
TZID:America/Denver
BEGIN:DAYLIGHT
TZOFFSETFROM:-0700
TZOFFSETTO:-0600
TZNAME:MDT
DTSTART:20240310T090000
END:DAYLIGHT
BEGIN:STANDARD
TZOFFSETFROM:-0600
TZOFFSETTO:-0700
TZNAME:MST
DTSTART:20241103T080000
END:STANDARD
BEGIN:DAYLIGHT
TZOFFSETFROM:-0700
TZOFFSETTO:-0600
TZNAME:MDT
DTSTART:20250309T090000
END:DAYLIGHT
BEGIN:STANDARD
TZOFFSETFROM:-0600
TZOFFSETTO:-0700
TZNAME:MST
DTSTART:20251102T080000
END:STANDARD
BEGIN:DAYLIGHT
TZOFFSETFROM:-0700
TZOFFSETTO:-0600
TZNAME:MDT
DTSTART:20260308T090000
END:DAYLIGHT
BEGIN:STANDARD
TZOFFSETFROM:-0600
TZOFFSETTO:-0700
TZNAME:MST
DTSTART:20261101T080000
END:STANDARD
END:VTIMEZONE
BEGIN:VEVENT
DTSTART;VALUE=DATE:20251025
DTEND;VALUE=DATE:20251202
DTSTAMP:20260419T193736
CREATED:20251025T071513Z
LAST-MODIFIED:20251025T071608Z
UID:10002844-1761350400-1764633599@meadangels.org
SUMMARY:Calling All Kids Ages 5–14: Keep Christ in Christmas 🎄 Poster Contest
DESCRIPTION:The Knights of Columbus invite all children ages 5 through 14 to share their creativity and faith by entering the Keep Christ in Christmas Poster Contest! Participants will use their artistic talents to express the true meaning of Christmas. \nThree winners will be selected in three age categories\, and winners may advance to district\, regional\, state\, and even international levels! \nSubmissions are due to Guardian Angels by December 1\, and winners will be announced December 14. More details coming soon. \nFor more information\, contact Tommy Thoene at tommythoene@gmail.com.Sharpen your pencils and start creating!
URL:https://meadangels.org/event/calling-all-kids-ages-5-14-keep-christ-in-christmas-%f0%9f%8e%84-poster-contest/
CATEGORIES:Children Formation,Knights of Columbus,Youth Formation (6th-8th)
END:VEVENT
BEGIN:VEVENT
DTSTART;VALUE=DATE:20251129
DTEND;VALUE=DATE:20251215
DTSTAMP:20260419T193736
CREATED:20251115T220736Z
LAST-MODIFIED:20251115T222133Z
UID:10002853-1764374400-1765756799@meadangels.org
SUMMARY:Giving Tree 🌲
DESCRIPTION:Ornaments for this year’s Giving Tree will be available to sign out November 29–30 in Bakhita Hall. We are blessed to support the residents of Berthoud Care & Rehab Center\, children from local schools\, Marisol Health of Northern Colorado\, and the St. Vincent de Paul Society of Guardian Angels. \nPlease return all gifts unwrapped\, with the ornament attached\, by Sunday\, December 14. \nIf you have any questions\, please contact Susie at smf224@msn.com. \nThank you for helping make Christmas a little brighter for those in need!
URL:https://meadangels.org/event/giving-tree-%f0%9f%8c%b2/
LOCATION:Guardian Angels Catholic Church (Bakhita Hall)\, 109 S. 3rd Street\, Mead\, CO\, 80542\, United States
END:VEVENT
BEGIN:VEVENT
DTSTART;TZID=America/Denver:20251130T180000
DTEND;TZID=America/Denver:20251130T193000
DTSTAMP:20260419T193736
CREATED:20250826T223903Z
LAST-MODIFIED:20251025T070909Z
UID:10002724-1764525600-1764531000@meadangels.org
SUMMARY:Grades 6–12 Youth Group: Faith\, Fun\, and Fellowship
DESCRIPTION:Be a faithful and impactful Catholic youth in the modern world \n📅 Sundays | 6 – 7:30 PM📍 Bakhita Hall \n✨ Each month\, look forward to: \n\n\nFaith\, Prayer & Confession \n\n\nService Project \n\n\nSocial Gathering \n\n\nFun Outing (Corn Maze\, Laser Tag & more!) \n\n\n🍪 Snacks always provided!👥 Small groups split into Middle & High School. \n💲 $100 per family (Scholarships available)🍽️ Kick-off Dinner: September 7 \n📧 Questions? Email Deacon Tim at deacon.tim@meadangels.org
URL:https://meadangels.org/event/grades-6-12-youth-group-faith-fun-and-fellowship/2025-11-30/
LOCATION:Guardian Angels Catholic Church (Bakhita Hall)\, 109 S. 3rd Street\, Mead\, CO\, 80542\, United States
CATEGORIES:Youth Formation (6th-8th),Youth Formation (9th-12th)
ATTACH;FMTTYPE=image/png:https://meadangels.org/wp-content/uploads/image-1.png
END:VEVENT
BEGIN:VEVENT
DTSTART;TZID=America/Denver:20251201T090000
DTEND;TZID=America/Denver:20251201T110000
DTSTAMP:20260419T193736
CREATED:20240409T214444Z
LAST-MODIFIED:20250110T183320Z
UID:10000290-1764579600-1764586800@meadangels.org
SUMMARY:Caring Hands Crafters Meeting
DESCRIPTION:We create handmade items with love and care to bring comfort and support to those in need within our Catholic community. Whether you’re an experienced crafter or just starting out\, there’s a place for you to make a difference in our community. New members of all ages (women and men) and talents (woodworkers\, metal workers\, artists\, crafters) are welcome. Caring Hands Crafters meet every Monday at 9 – 11 am in the Catechetical Center (CC Center). \n 
URL:https://meadangels.org/event/caring-hands-crafters-meeting/2025-12-01/
LOCATION:Guardian Angels Catholic Church: Catechetical Center (CC Center)\, 109 S. 3rd Street\, Mead\, CO\, 80542\, United States
CATEGORIES:Caring Hands Crafters
ATTACH;FMTTYPE=image/jpeg:https://meadangels.org/wp-content/uploads/IMG_7847.jpeg
END:VEVENT
BEGIN:VEVENT
DTSTART;TZID=America/Denver:20251201T113000
DTEND;TZID=America/Denver:20251201T130000
DTSTAMP:20260419T193736
CREATED:20250628T233827Z
LAST-MODIFIED:20250628T234044Z
UID:10002659-1764588600-1764594000@meadangels.org
SUMMARY:Bible Study Every Monday
DESCRIPTION:When: Mondays\, 11:30 AM – 1:00 PM\nWhere: CC Center\nLed by: Sandy Gross \nJoin us for an enriching time of fellowship and learning as we dive into the Word of God together. Led by Sandy Gross\, this weekly Bible study offers an opportunity to explore scripture\, deepen your faith\, and connect with others in a supportive and welcoming environment. \nWhether you’re new to Bible study or have been attending for years\, all are welcome to participate. Bring your Bible\, your questions\, and an open heart. We look forward to seeing you there.
URL:https://meadangels.org/event/bible-study-every-monday-3/2025-12-01/
LOCATION:Guardian Angels Catholic Church: Catechetical Center (CC Center)\, 109 S. 3rd Street\, Mead\, CO\, 80542\, United States
CATEGORIES:Faith Outreach
ATTACH;FMTTYPE=image/jpeg:https://meadangels.org/wp-content/uploads/IMG_8145.jpeg
ORGANIZER;CN="Sandy Gross":MAILTO:faithOutreach@meadangels.org
END:VEVENT
BEGIN:VEVENT
DTSTART;TZID=America/Denver:20251201T183000
DTEND;TZID=America/Denver:20251201T200000
DTSTAMP:20260419T193736
CREATED:20250908T160228Z
LAST-MODIFIED:20250908T160755Z
UID:10002739-1764613800-1764619200@meadangels.org
SUMMARY:O.C.I.A (Order of Christian Initiation of Adults)
DESCRIPTION:Are you seeking to deepen your faith or begin your journey in the Catholic Church? \n\n\nNeed to prepare to receive a sacrament? \n\n\nInterested in becoming Catholic? \n\n\nWant to learn more about the Catholic faith? \n\n\nThe Order of Christian Initiation of Adults (O.C.I.A.) is for you. \n\n📅 Mondays\, 6:30 – 8:00 PM\n📍 Bakhita Hall\n🗓 Beginning September 8\n\nSessions are led by Deacon Tim McCann and provide an opportunity to grow in faith\, ask questions\, and walk with others on the same journey. \n👉 For more information\, please email Deacon Tim.
URL:https://meadangels.org/event/o-c-i-a-order-of-christian-initiation-of-adults/2025-12-01/
LOCATION:Guardian Angels Catholic Church (Bakhita Hall)\, 109 S. 3rd Street\, Mead\, CO\, 80542\, United States
CATEGORIES:OCIA (Order of Christian Initiation for Adults)
END:VEVENT
BEGIN:VEVENT
DTSTART;TZID=America/Denver:20251202T181500
DTEND;TZID=America/Denver:20251202T200000
DTSTAMP:20260419T193736
CREATED:20250428T152656Z
LAST-MODIFIED:20251003T163004Z
UID:10002792-1764699300-1764705600@meadangels.org
SUMMARY:Women's Group Meeting
DESCRIPTION:All ladies of the parish are welcome to attend the Women’s Group Meeting. Every woman in the parish is an automatic member. The Women’s Group meets the 1st Tuesdays monthly from 6:15 – 8:00 pm (September – May). \n\nGather with other GA women to pray the rosary. Women’s Group rosary begins at 6:15 pm\nWomen’s Group social begins at 6:30 pm\nWomen’s Group meeting begins at 7:00 pm
URL:https://meadangels.org/event/womens-group-meeting-2/2025-12-02/
LOCATION:Guardian Angels Catholic Church\, 109 S. 3rd Street\, Mead\, 80542\, United States
CATEGORIES:Women's Group
END:VEVENT
BEGIN:VEVENT
DTSTART;TZID=America/Denver:20251203T180500
DTEND;TZID=America/Denver:20251203T191000
DTSTAMP:20260419T193736
CREATED:20250908T162857Z
LAST-MODIFIED:20250908T164846Z
UID:10002768-1764785100-1764789000@meadangels.org
SUMMARY:New Fall Bible Studies for Adults
DESCRIPTION:Discover the richness of Scripture and grow in your relationship with Christ this fall. Join us for an engaging Bible study led by Sandy Gross. \n\n📅 Wednesdays\, 6:05 – 7:10 PM\n🗓 Beginning September 10\n\nAll are welcome—whether you are new to Bible study or have been attending for years. \n📩 Questions? Email: faithoutreach@meadangels.org
URL:https://meadangels.org/event/new-fall-bible-studies-2/2025-12-03/
LOCATION:Guardian Angels Catholic Church\, 109 S. 3rd Street\, Mead\, 80542\, United States
CATEGORIES:Faith Outreach
END:VEVENT
BEGIN:VEVENT
DTSTART;TZID=America/Denver:20251204T190000
DTEND;TZID=America/Denver:20251204T201500
DTSTAMP:20260419T193736
CREATED:20250908T162340Z
LAST-MODIFIED:20250908T164747Z
UID:10002754-1764874800-1764879300@meadangels.org
SUMMARY:New Fall Bible Studies for Men
DESCRIPTION:Looking to deepen your faith this fall? Join us for an enriching Bible study led by Tim Gross. Together\, we’ll discover deeper insights into Scripture\, grow spiritually\, and connect with a supportive community of faith. \n\n📅 Thursdays\, 7:00 – 8:15 PM\n🗓 Beginning September 11\n\nAll are welcome—whether you are new to Bible study or have been attending for years. \n📩 Questions? Email: faithoutreach@meadangels.org
URL:https://meadangels.org/event/new-fall-bible-studies/2025-12-04/
LOCATION:Guardian Angels Catholic Church\, 109 S. 3rd Street\, Mead\, 80542\, United States
CATEGORIES:Faith Outreach
END:VEVENT
BEGIN:VEVENT
DTSTART;TZID=America/Denver:20251204T190000
DTEND;TZID=America/Denver:20251204T203000
DTSTAMP:20260419T193736
CREATED:20241205T224349Z
LAST-MODIFIED:20241205T224349Z
UID:10001508-1764874800-1764880200@meadangels.org
SUMMARY:Society of St. Vincent de Paul Meeting
DESCRIPTION:The St. Vincent de Paul Society conference at Guardian Angels was formed in October 2021. Since that time our group has learned much about each other and our neighbors in need. We continue to provide assistance to neighbors in Mead\, Berthoud\, Longmont\, Platteville\, and other nearby communities. We provide not only material assistance such as rent\, utilities\, telephone bills\, fuel\, and groceries but also offer friendship\, understanding\, and prayer. \n  \nMost of the financial assistance we provide comes from the generosity of Guardian Angels parishioners. We provided almost $8000 in rent assistance locally over the previous year thanks\, in large part to the generosity of Guardian Angels parishioners. With growing needs\, we have already exceeded $8000 in rent assistance in the six months of the current fiscal year. \n  \nAttend this meeting to join our Society of St. Vincent de Paul at Guardian Angels so we can do more for those in need in our community. We meet on the first and third Thursdays of each month at 7 pm in the parish conference room and on Zoom.
URL:https://meadangels.org/event/society-of-st-vincent-de-paul-meeting-3-2/2025-12-04/
LOCATION:Guardian Angels Catholic Church (Parish Conference Room)\, 109 S. 3rd Street\, Mead\, CO\, 10016\, United States
CATEGORIES:St. Vincent de Paul Society
ATTACH;FMTTYPE=image/jpeg:https://meadangels.org/wp-content/uploads/svdp-pink-small-scaled.jpg
ORGANIZER;CN="Rich Chopyak":MAILTO:svdp@meadangels.org
END:VEVENT
BEGIN:VEVENT
DTSTART;VALUE=DATE:20251205
DTEND;VALUE=DATE:20251208
DTSTAMP:20260419T193736
CREATED:20251205T232757Z
LAST-MODIFIED:20251205T232757Z
UID:10002862-1764892800-1765151999@meadangels.org
SUMMARY:Experience the SJB Christmas 🎄🎁🍭 Market
DESCRIPTION:Discover the charm of the 5th Annual SJB Christmas Market\, an authentic European style holiday experience that is free and open to the public. \n  \nExplore festive gifts\, treats\, and handcrafted goods December 5 to 7. \n\nVisit Friday from 4 to 8 pm\nSaturday from 12 to 7:30 pm\nSunday from 9:30 am to 6 pm\n\n  \nLocation: 323 Collyer Street in Longmont (St. John the Baptist Catholic Church)
URL:https://meadangels.org/event/experience-the-sjb-christmas-%f0%9f%8e%84%f0%9f%8e%81%f0%9f%8d%ad-market/
LOCATION:St. John the Baptist Catholic Church\, 323 Collyer Street\, Longmont\, CO\, 80501\, United States
END:VEVENT
BEGIN:VEVENT
DTSTART;VALUE=DATE:20251206
DTEND;VALUE=DATE:20251208
DTSTAMP:20260419T193736
CREATED:20251205T233739Z
LAST-MODIFIED:20251205T233927Z
UID:10002863-1764979200-1765151999@meadangels.org
SUMMARY:Experience the Camp St. Malo Advent 🎄☕️🎁 Market
DESCRIPTION:The third annual Camp St. Malo Advent Market will take place December 6 and 7 from 10 am to 3 pm. \n  \nCelebrate the beauty of Advent in the mountains and enjoy delicious food\, warm drinks\, festive snacks\, and unique gifts in a stunning winter setting. Encounter Christ in the peaceful quiet of St. Malo as we prepare our hearts for His coming.
URL:https://meadangels.org/event/experience-the-camp-st-malo-advent-%f0%9f%8e%84%e2%98%95%ef%b8%8f%f0%9f%8e%81-market/
LOCATION:Camp St. Malo\, 10758 CO-7\, Allenspark\, CO\, 80510\, United States
END:VEVENT
END:VCALENDAR