BEGIN:VCALENDAR
VERSION:2.0
PRODID:-//Guardian Angels Catholic Church - ECPv6.15.20//NONSGML v1.0//EN
CALSCALE:GREGORIAN
METHOD:PUBLISH
X-ORIGINAL-URL:https://meadangels.org
X-WR-CALDESC:Events for Guardian Angels Catholic Church
REFRESH-INTERVAL;VALUE=DURATION:PT1H
X-Robots-Tag:noindex
X-PUBLISHED-TTL:PT1H
BEGIN:VTIMEZONE
TZID:America/Denver
BEGIN:DAYLIGHT
TZOFFSETFROM:-0700
TZOFFSETTO:-0600
TZNAME:MDT
DTSTART:20240310T090000
END:DAYLIGHT
BEGIN:STANDARD
TZOFFSETFROM:-0600
TZOFFSETTO:-0700
TZNAME:MST
DTSTART:20241103T080000
END:STANDARD
BEGIN:DAYLIGHT
TZOFFSETFROM:-0700
TZOFFSETTO:-0600
TZNAME:MDT
DTSTART:20250309T090000
END:DAYLIGHT
BEGIN:STANDARD
TZOFFSETFROM:-0600
TZOFFSETTO:-0700
TZNAME:MST
DTSTART:20251102T080000
END:STANDARD
BEGIN:DAYLIGHT
TZOFFSETFROM:-0700
TZOFFSETTO:-0600
TZNAME:MDT
DTSTART:20260308T090000
END:DAYLIGHT
BEGIN:STANDARD
TZOFFSETFROM:-0600
TZOFFSETTO:-0700
TZNAME:MST
DTSTART:20261101T080000
END:STANDARD
END:VTIMEZONE
BEGIN:VEVENT
DTSTART;VALUE=DATE:20251025
DTEND;VALUE=DATE:20251202
DTSTAMP:20260419T225510
CREATED:20251025T071513Z
LAST-MODIFIED:20251025T071608Z
UID:10002844-1761350400-1764633599@meadangels.org
SUMMARY:Calling All Kids Ages 5–14: Keep Christ in Christmas 🎄 Poster Contest
DESCRIPTION:The Knights of Columbus invite all children ages 5 through 14 to share their creativity and faith by entering the Keep Christ in Christmas Poster Contest! Participants will use their artistic talents to express the true meaning of Christmas. \nThree winners will be selected in three age categories\, and winners may advance to district\, regional\, state\, and even international levels! \nSubmissions are due to Guardian Angels by December 1\, and winners will be announced December 14. More details coming soon. \nFor more information\, contact Tommy Thoene at tommythoene@gmail.com.Sharpen your pencils and start creating!
URL:https://meadangels.org/event/calling-all-kids-ages-5-14-keep-christ-in-christmas-%f0%9f%8e%84-poster-contest/
CATEGORIES:Children Formation,Knights of Columbus,Youth Formation (6th-8th)
END:VEVENT
BEGIN:VEVENT
DTSTART;VALUE=DATE:20251108
DTEND;VALUE=DATE:20251110
DTSTAMP:20260419T225510
CREATED:20250110T193424Z
LAST-MODIFIED:20251107T211512Z
UID:10002522-1762560000-1762732799@meadangels.org
SUMMARY:Get your Breakfast Burritos 🌯 this weekend
DESCRIPTION:Get Your Breakfast Burritos 🌯 after each Mass in the Narthex \n\n$4 each or 5 for $18\n\nThe Knights of Columbus have been busy making delicious breakfast burritos this week. Don’t miss out—get them while they last this weekend. \n  \nYummy and made with care. Perfect for breakfast or a quick snack—grab yours before they’re gone. Enjoy and support a great cause.
URL:https://meadangels.org/event/get-your-breakfast-burritos-%f0%9f%8c%af/
LOCATION:Guardian Angels Catholic Church\, 109 S. 3rd Street\, Mead\, 80542\, United States
CATEGORIES:Knights of Columbus
ATTACH;FMTTYPE=image/jpeg:https://meadangels.org/wp-content/uploads/knights-burritos-scaled.jpeg
END:VEVENT
BEGIN:VEVENT
DTSTART;VALUE=DATE:20251108
DTEND;VALUE=DATE:20251110
DTSTAMP:20260419T225510
CREATED:20251003T161659Z
LAST-MODIFIED:20251008T191541Z
UID:10002807-1762560000-1762732799@meadangels.org
SUMMARY:Guardian Angels Ministry Fair
DESCRIPTION:November 8 – 9 | After All Masses | Bakhita Hall \nDiscover the many ways you can share your time\, talents\, and gifts at Guardian Angels. \nJoin us after all Masses the weekend of November 8–9 in Bakhita Hall for our annual Ministry Fair. Representatives from a variety of ministries will be on hand to answer questions\, provide information\, and help you find opportunities to get involved. Whether you’re looking to grow in faith\, serve others\, or build community\, there’s a place for you. \nCome\, explore\, and see where God is calling you to serve.
URL:https://meadangels.org/event/guardian-angels-ministry-fair/
LOCATION:Guardian Angels Catholic Church (Bakhita Hall)\, 109 S. 3rd Street\, Mead\, CO\, 80542\, United States
ATTACH;FMTTYPE=image/jpeg:https://meadangels.org/wp-content/uploads/IMG_0216.jpeg
END:VEVENT
BEGIN:VEVENT
DTSTART;VALUE=DATE:20251108
DTEND;VALUE=DATE:20251117
DTSTAMP:20260419T225510
CREATED:20251107T215908Z
LAST-MODIFIED:20251107T220059Z
UID:10002847-1762560000-1763337599@meadangels.org
SUMMARY:Annual Seminaries' Appeal
DESCRIPTION:The Annual Seminaries’ Appeal is taking place this weekend and next. We are invited to support the formation of future priests who will guide and serve our parishes as tomorrow’s shepherds. Your generosity helps prepare faithful men to lead the Church with devotion and love. \nDonate today at archden.org/futurepriests or call 303-867-0614.
URL:https://meadangels.org/event/annual-seminaries-appeal/
END:VEVENT
BEGIN:VEVENT
DTSTART;TZID=America/Denver:20251109T180000
DTEND;TZID=America/Denver:20251109T193000
DTSTAMP:20260419T225510
CREATED:20250826T223903Z
LAST-MODIFIED:20251025T070909Z
UID:10002721-1762711200-1762716600@meadangels.org
SUMMARY:Grades 6–12 Youth Group: Faith\, Fun\, and Fellowship
DESCRIPTION:Be a faithful and impactful Catholic youth in the modern world \n📅 Sundays | 6 – 7:30 PM📍 Bakhita Hall \n✨ Each month\, look forward to: \n\n\nFaith\, Prayer & Confession \n\n\nService Project \n\n\nSocial Gathering \n\n\nFun Outing (Corn Maze\, Laser Tag & more!) \n\n\n🍪 Snacks always provided!👥 Small groups split into Middle & High School. \n💲 $100 per family (Scholarships available)🍽️ Kick-off Dinner: September 7 \n📧 Questions? Email Deacon Tim at deacon.tim@meadangels.org
URL:https://meadangels.org/event/grades-6-12-youth-group-faith-fun-and-fellowship/2025-11-09/
LOCATION:Guardian Angels Catholic Church (Bakhita Hall)\, 109 S. 3rd Street\, Mead\, CO\, 80542\, United States
CATEGORIES:Youth Formation (6th-8th),Youth Formation (9th-12th)
ATTACH;FMTTYPE=image/png:https://meadangels.org/wp-content/uploads/image-1.png
END:VEVENT
BEGIN:VEVENT
DTSTART;TZID=America/Denver:20251110T090000
DTEND;TZID=America/Denver:20251110T110000
DTSTAMP:20260419T225510
CREATED:20240409T214444Z
LAST-MODIFIED:20250110T183320Z
UID:10000287-1762765200-1762772400@meadangels.org
SUMMARY:Caring Hands Crafters Meeting
DESCRIPTION:We create handmade items with love and care to bring comfort and support to those in need within our Catholic community. Whether you’re an experienced crafter or just starting out\, there’s a place for you to make a difference in our community. New members of all ages (women and men) and talents (woodworkers\, metal workers\, artists\, crafters) are welcome. Caring Hands Crafters meet every Monday at 9 – 11 am in the Catechetical Center (CC Center). \n 
URL:https://meadangels.org/event/caring-hands-crafters-meeting/2025-11-10/
LOCATION:Guardian Angels Catholic Church: Catechetical Center (CC Center)\, 109 S. 3rd Street\, Mead\, CO\, 80542\, United States
CATEGORIES:Caring Hands Crafters
ATTACH;FMTTYPE=image/jpeg:https://meadangels.org/wp-content/uploads/IMG_7847.jpeg
END:VEVENT
BEGIN:VEVENT
DTSTART;TZID=America/Denver:20251110T113000
DTEND;TZID=America/Denver:20251110T130000
DTSTAMP:20260419T225510
CREATED:20250628T233827Z
LAST-MODIFIED:20250628T234044Z
UID:10002656-1762774200-1762779600@meadangels.org
SUMMARY:Bible Study Every Monday
DESCRIPTION:When: Mondays\, 11:30 AM – 1:00 PM\nWhere: CC Center\nLed by: Sandy Gross \nJoin us for an enriching time of fellowship and learning as we dive into the Word of God together. Led by Sandy Gross\, this weekly Bible study offers an opportunity to explore scripture\, deepen your faith\, and connect with others in a supportive and welcoming environment. \nWhether you’re new to Bible study or have been attending for years\, all are welcome to participate. Bring your Bible\, your questions\, and an open heart. We look forward to seeing you there.
URL:https://meadangels.org/event/bible-study-every-monday-3/2025-11-10/
LOCATION:Guardian Angels Catholic Church: Catechetical Center (CC Center)\, 109 S. 3rd Street\, Mead\, CO\, 80542\, United States
CATEGORIES:Faith Outreach
ATTACH;FMTTYPE=image/jpeg:https://meadangels.org/wp-content/uploads/IMG_8145.jpeg
ORGANIZER;CN="Sandy Gross":MAILTO:faithOutreach@meadangels.org
END:VEVENT
BEGIN:VEVENT
DTSTART;TZID=America/Denver:20251110T183000
DTEND;TZID=America/Denver:20251110T200000
DTSTAMP:20260419T225510
CREATED:20250908T160228Z
LAST-MODIFIED:20250908T160755Z
UID:10002736-1762799400-1762804800@meadangels.org
SUMMARY:O.C.I.A (Order of Christian Initiation of Adults)
DESCRIPTION:Are you seeking to deepen your faith or begin your journey in the Catholic Church? \n\n\nNeed to prepare to receive a sacrament? \n\n\nInterested in becoming Catholic? \n\n\nWant to learn more about the Catholic faith? \n\n\nThe Order of Christian Initiation of Adults (O.C.I.A.) is for you. \n\n📅 Mondays\, 6:30 – 8:00 PM\n📍 Bakhita Hall\n🗓 Beginning September 8\n\nSessions are led by Deacon Tim McCann and provide an opportunity to grow in faith\, ask questions\, and walk with others on the same journey. \n👉 For more information\, please email Deacon Tim.
URL:https://meadangels.org/event/o-c-i-a-order-of-christian-initiation-of-adults/2025-11-10/
LOCATION:Guardian Angels Catholic Church (Bakhita Hall)\, 109 S. 3rd Street\, Mead\, CO\, 80542\, United States
CATEGORIES:OCIA (Order of Christian Initiation for Adults)
END:VEVENT
BEGIN:VEVENT
DTSTART;TZID=America/Denver:20251111T100000
DTEND;TZID=America/Denver:20251111T120000
DTSTAMP:20260419T225510
CREATED:20241205T225804Z
LAST-MODIFIED:20260131T013224Z
UID:10002196-1762855200-1762862400@meadangels.org
SUMMARY:Silvers: A Social Group for Ages 60+
DESCRIPTION:📅 When: 2nd and 4th Tuesdays of the month\n⏰ Time: 10 am\n\nSilvers is a welcoming group for anyone aged 60 and up. Join us for coffee ☕️\, card games\, and plenty of laughter. Connect with friends and enjoy a relaxing morning in great company.
URL:https://meadangels.org/event/silvers-a-social-group-for-ages-60-2/2025-11-11/
ATTACH;FMTTYPE=image/jpeg:https://meadangels.org/wp-content/uploads/IMG_8031.jpeg
END:VEVENT
BEGIN:VEVENT
DTSTART;TZID=America/Denver:20251111T183000
DTEND;TZID=America/Denver:20251111T203000
DTSTAMP:20260419T225510
CREATED:20251107T222001Z
LAST-MODIFIED:20251107T222001Z
UID:10002852-1762885800-1762893000@meadangels.org
SUMMARY:Knights Business Meeting
DESCRIPTION:The Knights of Columbus will hold their business meeting on Tuesday\, November 11\, from 6:30 to 8:30 pm. The meeting begins with a rosary at 6:40 pm\, followed by the business meeting at 7 pm. All members are encouraged to attend.
URL:https://meadangels.org/event/knights-business-meeting/
CATEGORIES:Knights of Columbus
END:VEVENT
BEGIN:VEVENT
DTSTART;TZID=America/Denver:20251112T180500
DTEND;TZID=America/Denver:20251112T191000
DTSTAMP:20260419T225510
CREATED:20250908T162857Z
LAST-MODIFIED:20250908T164846Z
UID:10002765-1762970700-1762974600@meadangels.org
SUMMARY:New Fall Bible Studies for Adults
DESCRIPTION:Discover the richness of Scripture and grow in your relationship with Christ this fall. Join us for an engaging Bible study led by Sandy Gross. \n\n📅 Wednesdays\, 6:05 – 7:10 PM\n🗓 Beginning September 10\n\nAll are welcome—whether you are new to Bible study or have been attending for years. \n📩 Questions? Email: faithoutreach@meadangels.org
URL:https://meadangels.org/event/new-fall-bible-studies-2/2025-11-12/
LOCATION:Guardian Angels Catholic Church\, 109 S. 3rd Street\, Mead\, 80542\, United States
CATEGORIES:Faith Outreach
END:VEVENT
BEGIN:VEVENT
DTSTART;TZID=America/Denver:20251112T190000
DTEND;TZID=America/Denver:20251112T193000
DTSTAMP:20260419T225510
CREATED:20251107T212431Z
LAST-MODIFIED:20251107T212447Z
UID:10002845-1762974000-1762975800@meadangels.org
SUMMARY:St. Martin of Tours Procession
DESCRIPTION:Join us for a festive St. Martin of Tours Procession on Wednesday\, November 12 at 7:00 p.m. outside the church. Gather with our community as we celebrate the spirit of St. Martin who is known for his kindness\, humility\, and generosity. Together\, we’ll share songs\, light\, and joy in honor of this beloved saint whose example inspires us to shine Christ’s love to others.
URL:https://meadangels.org/event/st-martin-of-tours-procession-2/
END:VEVENT
BEGIN:VEVENT
DTSTART;TZID=America/Denver:20251113T190000
DTEND;TZID=America/Denver:20251113T201500
DTSTAMP:20260419T225510
CREATED:20250908T162340Z
LAST-MODIFIED:20250908T164747Z
UID:10002751-1763060400-1763064900@meadangels.org
SUMMARY:New Fall Bible Studies for Men
DESCRIPTION:Looking to deepen your faith this fall? Join us for an enriching Bible study led by Tim Gross. Together\, we’ll discover deeper insights into Scripture\, grow spiritually\, and connect with a supportive community of faith. \n\n📅 Thursdays\, 7:00 – 8:15 PM\n🗓 Beginning September 11\n\nAll are welcome—whether you are new to Bible study or have been attending for years. \n📩 Questions? Email: faithoutreach@meadangels.org
URL:https://meadangels.org/event/new-fall-bible-studies/2025-11-13/
LOCATION:Guardian Angels Catholic Church\, 109 S. 3rd Street\, Mead\, 80542\, United States
CATEGORIES:Faith Outreach
END:VEVENT
BEGIN:VEVENT
DTSTART;VALUE=DATE:20251115
DTEND;VALUE=DATE:20251117
DTSTAMP:20260419T225510
CREATED:20251107T214551Z
LAST-MODIFIED:20251107T214551Z
UID:10002846-1763164800-1763337599@meadangels.org
SUMMARY:Giving Weekend: Food Drive for Local Food Banks
DESCRIPTION:In celebration of Giving Weekend\, the Knights of Columbus are hosting a Food Drive to help stock the shelves of our local food banks. \n  \nJoin us in supporting our community by helping stock the shelves at three local food banks. Bring your nonperishable food item donations next weekend\, and the Knights of Columbus will be in the parking lots to assist with collection. Cash and gift cards are also welcome. \n\nMost needed items include:Cereal (nonsugared)\, hearty soups\, stews\, chili\, pasta and pasta sauce\, canned proteins\, dried or canned beans\, canned fruits and vegetables\, jelly\, rice\, granola bars\, healthy snacks\, toilet paper (4–6 roll packs)\, shampoo and conditioner (family and travel size)\, toothpaste\, deodorant\, shaving cream\, razors\, women’s personal hygiene products\, diapers and wipes\, chapstick\, sunscreen\, mouthwash\, toothbrushes\, body lotion\, and body wash. \nThank you for your generosity and for helping families in need.
URL:https://meadangels.org/event/giving-weekend-food-drive-for-local-food-banks/
CATEGORIES:Knights of Columbus
END:VEVENT
BEGIN:VEVENT
DTSTART;TZID=America/Denver:20251115T100000
DTEND;TZID=America/Denver:20251115T170000
DTSTAMP:20260419T225510
CREATED:20251107T220838Z
LAST-MODIFIED:20251107T220838Z
UID:10002850-1763200800-1763226000@meadangels.org
SUMMARY:St. John the Baptist Advent and Christmas Open House
DESCRIPTION:Join us on Saturday\, November 15\, from 10 a.m. to 5 p.m. for the Advent and Christmas Open House at St. John the Baptist\, 323 Collyer St.\, Longmont. Discover beautiful Catholic Christmas gifts and Advent essentials to help you prepare your heart and home for the season.
URL:https://meadangels.org/event/st-john-the-baptist-advent-and-christmas-open-house/
LOCATION:St. John the Baptist Catholic Church\, 323 Collyer Street\, Longmont\, CO\, 80501\, United States
END:VEVENT
END:VCALENDAR