BEGIN:VCALENDAR
VERSION:2.0
PRODID:-//Guardian Angels Catholic Church - ECPv6.15.20//NONSGML v1.0//EN
CALSCALE:GREGORIAN
METHOD:PUBLISH
X-ORIGINAL-URL:https://meadangels.org
X-WR-CALDESC:Events for Guardian Angels Catholic Church
REFRESH-INTERVAL;VALUE=DURATION:PT1H
X-Robots-Tag:noindex
X-PUBLISHED-TTL:PT1H
BEGIN:VTIMEZONE
TZID:America/Denver
BEGIN:DAYLIGHT
TZOFFSETFROM:-0700
TZOFFSETTO:-0600
TZNAME:MDT
DTSTART:20240310T090000
END:DAYLIGHT
BEGIN:STANDARD
TZOFFSETFROM:-0600
TZOFFSETTO:-0700
TZNAME:MST
DTSTART:20241103T080000
END:STANDARD
BEGIN:DAYLIGHT
TZOFFSETFROM:-0700
TZOFFSETTO:-0600
TZNAME:MDT
DTSTART:20250309T090000
END:DAYLIGHT
BEGIN:STANDARD
TZOFFSETFROM:-0600
TZOFFSETTO:-0700
TZNAME:MST
DTSTART:20251102T080000
END:STANDARD
BEGIN:DAYLIGHT
TZOFFSETFROM:-0700
TZOFFSETTO:-0600
TZNAME:MDT
DTSTART:20260308T090000
END:DAYLIGHT
BEGIN:STANDARD
TZOFFSETFROM:-0600
TZOFFSETTO:-0700
TZNAME:MST
DTSTART:20261101T080000
END:STANDARD
END:VTIMEZONE
BEGIN:VEVENT
DTSTART;VALUE=DATE:20250924
DTEND;VALUE=DATE:20251103
DTSTAMP:20260419T225503
CREATED:20251003T164454Z
LAST-MODIFIED:20251003T164623Z
UID:10002808-1758672000-1762127999@meadangels.org
SUMMARY:40 Days for Life
DESCRIPTION:September 24 – November 2\n\nJoin thousands of people around the world in the 40 Days for Life campaign\, a peaceful\, prayerful effort to end abortion in our communities. Through prayer and fasting\, community outreach\, and a continuous vigil\, we stand together for the protection of life. Visit www.40daysforlife.com to learn more and get involved.
URL:https://meadangels.org/event/40-days-for-life/
ATTACH;FMTTYPE=image/png:https://meadangels.org/wp-content/uploads/Screenshot-2025-10-03-at-9.28.19-AM.png
END:VEVENT
BEGIN:VEVENT
DTSTART;VALUE=DATE:20251025
DTEND;VALUE=DATE:20251202
DTSTAMP:20260419T225503
CREATED:20251025T071513Z
LAST-MODIFIED:20251025T071608Z
UID:10002844-1761350400-1764633599@meadangels.org
SUMMARY:Calling All Kids Ages 5–14: Keep Christ in Christmas 🎄 Poster Contest
DESCRIPTION:The Knights of Columbus invite all children ages 5 through 14 to share their creativity and faith by entering the Keep Christ in Christmas Poster Contest! Participants will use their artistic talents to express the true meaning of Christmas. \nThree winners will be selected in three age categories\, and winners may advance to district\, regional\, state\, and even international levels! \nSubmissions are due to Guardian Angels by December 1\, and winners will be announced December 14. More details coming soon. \nFor more information\, contact Tommy Thoene at tommythoene@gmail.com.Sharpen your pencils and start creating!
URL:https://meadangels.org/event/calling-all-kids-ages-5-14-keep-christ-in-christmas-%f0%9f%8e%84-poster-contest/
CATEGORIES:Children Formation,Knights of Columbus,Youth Formation (6th-8th)
END:VEVENT
BEGIN:VEVENT
DTSTART;TZID=America/Denver:20251026T180000
DTEND;TZID=America/Denver:20251026T193000
DTSTAMP:20260419T225503
CREATED:20250826T223903Z
LAST-MODIFIED:20251025T070909Z
UID:10002719-1761501600-1761507000@meadangels.org
SUMMARY:Grades 6–12 Youth Group: Faith\, Fun\, and Fellowship
DESCRIPTION:Be a faithful and impactful Catholic youth in the modern world \n📅 Sundays | 6 – 7:30 PM📍 Bakhita Hall \n✨ Each month\, look forward to: \n\n\nFaith\, Prayer & Confession \n\n\nService Project \n\n\nSocial Gathering \n\n\nFun Outing (Corn Maze\, Laser Tag & more!) \n\n\n🍪 Snacks always provided!👥 Small groups split into Middle & High School. \n💲 $100 per family (Scholarships available)🍽️ Kick-off Dinner: September 7 \n📧 Questions? Email Deacon Tim at deacon.tim@meadangels.org
URL:https://meadangels.org/event/grades-6-12-youth-group-faith-fun-and-fellowship/2025-10-26/
LOCATION:Guardian Angels Catholic Church (Bakhita Hall)\, 109 S. 3rd Street\, Mead\, CO\, 80542\, United States
CATEGORIES:Youth Formation (6th-8th),Youth Formation (9th-12th)
ATTACH;FMTTYPE=image/png:https://meadangels.org/wp-content/uploads/image-1.png
END:VEVENT
BEGIN:VEVENT
DTSTART;TZID=America/Denver:20251027T090000
DTEND;TZID=America/Denver:20251027T110000
DTSTAMP:20260419T225503
CREATED:20240409T214444Z
LAST-MODIFIED:20250110T183320Z
UID:10000285-1761555600-1761562800@meadangels.org
SUMMARY:Caring Hands Crafters Meeting
DESCRIPTION:We create handmade items with love and care to bring comfort and support to those in need within our Catholic community. Whether you’re an experienced crafter or just starting out\, there’s a place for you to make a difference in our community. New members of all ages (women and men) and talents (woodworkers\, metal workers\, artists\, crafters) are welcome. Caring Hands Crafters meet every Monday at 9 – 11 am in the Catechetical Center (CC Center). \n 
URL:https://meadangels.org/event/caring-hands-crafters-meeting/2025-10-27/
LOCATION:Guardian Angels Catholic Church: Catechetical Center (CC Center)\, 109 S. 3rd Street\, Mead\, CO\, 80542\, United States
CATEGORIES:Caring Hands Crafters
ATTACH;FMTTYPE=image/jpeg:https://meadangels.org/wp-content/uploads/IMG_7847.jpeg
END:VEVENT
BEGIN:VEVENT
DTSTART;TZID=America/Denver:20251027T113000
DTEND;TZID=America/Denver:20251027T130000
DTSTAMP:20260419T225503
CREATED:20250628T233827Z
LAST-MODIFIED:20250628T234044Z
UID:10002654-1761564600-1761570000@meadangels.org
SUMMARY:Bible Study Every Monday
DESCRIPTION:When: Mondays\, 11:30 AM – 1:00 PM\nWhere: CC Center\nLed by: Sandy Gross \nJoin us for an enriching time of fellowship and learning as we dive into the Word of God together. Led by Sandy Gross\, this weekly Bible study offers an opportunity to explore scripture\, deepen your faith\, and connect with others in a supportive and welcoming environment. \nWhether you’re new to Bible study or have been attending for years\, all are welcome to participate. Bring your Bible\, your questions\, and an open heart. We look forward to seeing you there.
URL:https://meadangels.org/event/bible-study-every-monday-3/2025-10-27/
LOCATION:Guardian Angels Catholic Church: Catechetical Center (CC Center)\, 109 S. 3rd Street\, Mead\, CO\, 80542\, United States
CATEGORIES:Faith Outreach
ATTACH;FMTTYPE=image/jpeg:https://meadangels.org/wp-content/uploads/IMG_8145.jpeg
ORGANIZER;CN="Sandy Gross":MAILTO:faithOutreach@meadangels.org
END:VEVENT
BEGIN:VEVENT
DTSTART;TZID=America/Denver:20251027T183000
DTEND;TZID=America/Denver:20251027T200000
DTSTAMP:20260419T225503
CREATED:20250908T160228Z
LAST-MODIFIED:20250908T160755Z
UID:10002734-1761589800-1761595200@meadangels.org
SUMMARY:O.C.I.A (Order of Christian Initiation of Adults)
DESCRIPTION:Are you seeking to deepen your faith or begin your journey in the Catholic Church? \n\n\nNeed to prepare to receive a sacrament? \n\n\nInterested in becoming Catholic? \n\n\nWant to learn more about the Catholic faith? \n\n\nThe Order of Christian Initiation of Adults (O.C.I.A.) is for you. \n\n📅 Mondays\, 6:30 – 8:00 PM\n📍 Bakhita Hall\n🗓 Beginning September 8\n\nSessions are led by Deacon Tim McCann and provide an opportunity to grow in faith\, ask questions\, and walk with others on the same journey. \n👉 For more information\, please email Deacon Tim.
URL:https://meadangels.org/event/o-c-i-a-order-of-christian-initiation-of-adults/2025-10-27/
LOCATION:Guardian Angels Catholic Church (Bakhita Hall)\, 109 S. 3rd Street\, Mead\, CO\, 80542\, United States
CATEGORIES:OCIA (Order of Christian Initiation for Adults)
END:VEVENT
BEGIN:VEVENT
DTSTART;TZID=America/Denver:20251029T180500
DTEND;TZID=America/Denver:20251029T191000
DTSTAMP:20260419T225503
CREATED:20250908T162857Z
LAST-MODIFIED:20250908T164846Z
UID:10002763-1761761100-1761765000@meadangels.org
SUMMARY:New Fall Bible Studies for Adults
DESCRIPTION:Discover the richness of Scripture and grow in your relationship with Christ this fall. Join us for an engaging Bible study led by Sandy Gross. \n\n📅 Wednesdays\, 6:05 – 7:10 PM\n🗓 Beginning September 10\n\nAll are welcome—whether you are new to Bible study or have been attending for years. \n📩 Questions? Email: faithoutreach@meadangels.org
URL:https://meadangels.org/event/new-fall-bible-studies-2/2025-10-29/
LOCATION:Guardian Angels Catholic Church\, 109 S. 3rd Street\, Mead\, 80542\, United States
CATEGORIES:Faith Outreach
END:VEVENT
BEGIN:VEVENT
DTSTART;TZID=America/Denver:20251030T190000
DTEND;TZID=America/Denver:20251030T201500
DTSTAMP:20260419T225503
CREATED:20250908T162340Z
LAST-MODIFIED:20250908T164747Z
UID:10002749-1761850800-1761855300@meadangels.org
SUMMARY:New Fall Bible Studies for Men
DESCRIPTION:Looking to deepen your faith this fall? Join us for an enriching Bible study led by Tim Gross. Together\, we’ll discover deeper insights into Scripture\, grow spiritually\, and connect with a supportive community of faith. \n\n📅 Thursdays\, 7:00 – 8:15 PM\n🗓 Beginning September 11\n\nAll are welcome—whether you are new to Bible study or have been attending for years. \n📩 Questions? Email: faithoutreach@meadangels.org
URL:https://meadangels.org/event/new-fall-bible-studies/2025-10-30/
LOCATION:Guardian Angels Catholic Church\, 109 S. 3rd Street\, Mead\, 80542\, United States
CATEGORIES:Faith Outreach
END:VEVENT
BEGIN:VEVENT
DTSTART;VALUE=DATE:20251101
DTEND;VALUE=DATE:20251103
DTSTAMP:20260419T225503
CREATED:20250908T164256Z
LAST-MODIFIED:20250926T152038Z
UID:10002771-1761955200-1762127999@meadangels.org
SUMMARY:Caring Hands Craft Fair & Bake Sale
DESCRIPTION:Get ready for a weekend of shopping\, sweets\, and community spirit! Discover unique\, handmade items and find special gifts just in time for the holiday season. From crafts to baked goods\, every purchase supports our community outreach programs. \n\n📅 Saturday\, November 1 — 9 AM – 6:30 PM\n📅 Sunday\, November 2 — ⏱️ 8 AM – Noon\n📍 Guardian Angels Catholic Church (Bakhita Hall)\n\nCome browse\, connect with our talented Caring Hands crafters\, and enjoy the festive atmosphere—all while supporting a wonderful cause. \nAdmission is free—bring your family and friends.
URL:https://meadangels.org/event/caring-hands-craft-fair/
LOCATION:Guardian Angels Catholic Church (Bakhita Hall)\, 109 S. 3rd Street\, Mead\, CO\, 80542\, United States
CATEGORIES:Caring Hands Crafters
ATTACH;FMTTYPE=image/png:https://meadangels.org/wp-content/uploads/Screenshot-2025-09-08-at-12.37.02-PM.png
END:VEVENT
END:VCALENDAR