BEGIN:VCALENDAR
VERSION:2.0
PRODID:-//Guardian Angels Catholic Church - ECPv6.15.20//NONSGML v1.0//EN
CALSCALE:GREGORIAN
METHOD:PUBLISH
X-ORIGINAL-URL:https://meadangels.org
X-WR-CALDESC:Events for Guardian Angels Catholic Church
REFRESH-INTERVAL;VALUE=DURATION:PT1H
X-Robots-Tag:noindex
X-PUBLISHED-TTL:PT1H
BEGIN:VTIMEZONE
TZID:America/Denver
BEGIN:DAYLIGHT
TZOFFSETFROM:-0700
TZOFFSETTO:-0600
TZNAME:MDT
DTSTART:20240310T090000
END:DAYLIGHT
BEGIN:STANDARD
TZOFFSETFROM:-0600
TZOFFSETTO:-0700
TZNAME:MST
DTSTART:20241103T080000
END:STANDARD
BEGIN:DAYLIGHT
TZOFFSETFROM:-0700
TZOFFSETTO:-0600
TZNAME:MDT
DTSTART:20250309T090000
END:DAYLIGHT
BEGIN:STANDARD
TZOFFSETFROM:-0600
TZOFFSETTO:-0700
TZNAME:MST
DTSTART:20251102T080000
END:STANDARD
BEGIN:DAYLIGHT
TZOFFSETFROM:-0700
TZOFFSETTO:-0600
TZNAME:MDT
DTSTART:20260308T090000
END:DAYLIGHT
BEGIN:STANDARD
TZOFFSETFROM:-0600
TZOFFSETTO:-0700
TZNAME:MST
DTSTART:20261101T080000
END:STANDARD
END:VTIMEZONE
BEGIN:VEVENT
DTSTART;VALUE=DATE:20250924
DTEND;VALUE=DATE:20251103
DTSTAMP:20260420T020841
CREATED:20251003T164454Z
LAST-MODIFIED:20251003T164623Z
UID:10002808-1758672000-1762127999@meadangels.org
SUMMARY:40 Days for Life
DESCRIPTION:September 24 – November 2\n\nJoin thousands of people around the world in the 40 Days for Life campaign\, a peaceful\, prayerful effort to end abortion in our communities. Through prayer and fasting\, community outreach\, and a continuous vigil\, we stand together for the protection of life. Visit www.40daysforlife.com to learn more and get involved.
URL:https://meadangels.org/event/40-days-for-life/
ATTACH;FMTTYPE=image/png:https://meadangels.org/wp-content/uploads/Screenshot-2025-10-03-at-9.28.19-AM.png
END:VEVENT
BEGIN:VEVENT
DTSTART;VALUE=DATE:20251004
DTEND;VALUE=DATE:20251013
DTSTAMP:20260420T020841
CREATED:20251003T160620Z
LAST-MODIFIED:20251003T163737Z
UID:10002806-1759536000-1760313599@meadangels.org
SUMMARY:Mountain Madness: February 13–15\, 2026
DESCRIPTION:Calling all middle schoolers! Don’t miss Mountain Madness over Presidents’ Weekend at the YMCA of the Rockies in Estes Park. This unforgettable retreat is packed with: \n\nLive worship band\nLate-night fun with friends\nSnacks\, games\, and activities galore\nTime to grow closer to Jesus\, your very best friend.\n\nYou don’t need to be part of the Youth Group to join. Everyone is welcome! \n \n📅 Important Date: Turn in your interest form (no money due yet) to the parish office or Deacon Tim by October 5. \n💲 Cost Estimate: Approximately $240 per person🤝 Financial aid available \nCome be part of the fun\, faith\, and friendship at Mountain Madness!
URL:https://meadangels.org/event/mountain-madness-february-13-15-2026/
LOCATION:YMCA of the Rockies\, 2515 Tunnel Road\, Estes Park\, CO\, 80511\, United States
CATEGORIES:Youth Formation (6th-8th)
ATTACH;FMTTYPE=image/png:https://meadangels.org/wp-content/uploads/Screenshot-2025-10-03-at-9.27.12-AM.png
END:VEVENT
BEGIN:VEVENT
DTSTART;TZID=America/Denver:20251005T180000
DTEND;TZID=America/Denver:20251005T193000
DTSTAMP:20260420T020841
CREATED:20250826T223903Z
LAST-MODIFIED:20251025T070909Z
UID:10002716-1759687200-1759692600@meadangels.org
SUMMARY:Grades 6–12 Youth Group: Faith\, Fun\, and Fellowship
DESCRIPTION:Be a faithful and impactful Catholic youth in the modern world \n📅 Sundays | 6 – 7:30 PM📍 Bakhita Hall \n✨ Each month\, look forward to: \n\n\nFaith\, Prayer & Confession \n\n\nService Project \n\n\nSocial Gathering \n\n\nFun Outing (Corn Maze\, Laser Tag & more!) \n\n\n🍪 Snacks always provided!👥 Small groups split into Middle & High School. \n💲 $100 per family (Scholarships available)🍽️ Kick-off Dinner: September 7 \n📧 Questions? Email Deacon Tim at deacon.tim@meadangels.org
URL:https://meadangels.org/event/grades-6-12-youth-group-faith-fun-and-fellowship/2025-10-05/
LOCATION:Guardian Angels Catholic Church (Bakhita Hall)\, 109 S. 3rd Street\, Mead\, CO\, 80542\, United States
CATEGORIES:Youth Formation (6th-8th),Youth Formation (9th-12th)
ATTACH;FMTTYPE=image/png:https://meadangels.org/wp-content/uploads/image-1.png
END:VEVENT
BEGIN:VEVENT
DTSTART;TZID=America/Denver:20251006T090000
DTEND;TZID=America/Denver:20251006T110000
DTSTAMP:20260420T020841
CREATED:20240409T214444Z
LAST-MODIFIED:20250110T183320Z
UID:10000282-1759741200-1759748400@meadangels.org
SUMMARY:Caring Hands Crafters Meeting
DESCRIPTION:We create handmade items with love and care to bring comfort and support to those in need within our Catholic community. Whether you’re an experienced crafter or just starting out\, there’s a place for you to make a difference in our community. New members of all ages (women and men) and talents (woodworkers\, metal workers\, artists\, crafters) are welcome. Caring Hands Crafters meet every Monday at 9 – 11 am in the Catechetical Center (CC Center). \n 
URL:https://meadangels.org/event/caring-hands-crafters-meeting/2025-10-06/
LOCATION:Guardian Angels Catholic Church: Catechetical Center (CC Center)\, 109 S. 3rd Street\, Mead\, CO\, 80542\, United States
CATEGORIES:Caring Hands Crafters
ATTACH;FMTTYPE=image/jpeg:https://meadangels.org/wp-content/uploads/IMG_7847.jpeg
END:VEVENT
BEGIN:VEVENT
DTSTART;TZID=America/Denver:20251006T113000
DTEND;TZID=America/Denver:20251006T130000
DTSTAMP:20260420T020841
CREATED:20250628T233827Z
LAST-MODIFIED:20250628T234044Z
UID:10002651-1759750200-1759755600@meadangels.org
SUMMARY:Bible Study Every Monday
DESCRIPTION:When: Mondays\, 11:30 AM – 1:00 PM\nWhere: CC Center\nLed by: Sandy Gross \nJoin us for an enriching time of fellowship and learning as we dive into the Word of God together. Led by Sandy Gross\, this weekly Bible study offers an opportunity to explore scripture\, deepen your faith\, and connect with others in a supportive and welcoming environment. \nWhether you’re new to Bible study or have been attending for years\, all are welcome to participate. Bring your Bible\, your questions\, and an open heart. We look forward to seeing you there.
URL:https://meadangels.org/event/bible-study-every-monday-3/2025-10-06/
LOCATION:Guardian Angels Catholic Church: Catechetical Center (CC Center)\, 109 S. 3rd Street\, Mead\, CO\, 80542\, United States
CATEGORIES:Faith Outreach
ATTACH;FMTTYPE=image/jpeg:https://meadangels.org/wp-content/uploads/IMG_8145.jpeg
ORGANIZER;CN="Sandy Gross":MAILTO:faithOutreach@meadangels.org
END:VEVENT
BEGIN:VEVENT
DTSTART;TZID=America/Denver:20251006T183000
DTEND;TZID=America/Denver:20251006T200000
DTSTAMP:20260420T020841
CREATED:20250908T160228Z
LAST-MODIFIED:20250908T160755Z
UID:10002731-1759775400-1759780800@meadangels.org
SUMMARY:O.C.I.A (Order of Christian Initiation of Adults)
DESCRIPTION:Are you seeking to deepen your faith or begin your journey in the Catholic Church? \n\n\nNeed to prepare to receive a sacrament? \n\n\nInterested in becoming Catholic? \n\n\nWant to learn more about the Catholic faith? \n\n\nThe Order of Christian Initiation of Adults (O.C.I.A.) is for you. \n\n📅 Mondays\, 6:30 – 8:00 PM\n📍 Bakhita Hall\n🗓 Beginning September 8\n\nSessions are led by Deacon Tim McCann and provide an opportunity to grow in faith\, ask questions\, and walk with others on the same journey. \n👉 For more information\, please email Deacon Tim.
URL:https://meadangels.org/event/o-c-i-a-order-of-christian-initiation-of-adults/2025-10-06/
LOCATION:Guardian Angels Catholic Church (Bakhita Hall)\, 109 S. 3rd Street\, Mead\, CO\, 80542\, United States
CATEGORIES:OCIA (Order of Christian Initiation for Adults)
END:VEVENT
BEGIN:VEVENT
DTSTART;TZID=America/Denver:20251007T181500
DTEND;TZID=America/Denver:20251007T200000
DTSTAMP:20260420T020841
CREATED:20250428T152656Z
LAST-MODIFIED:20251003T163004Z
UID:10002790-1759860900-1759867200@meadangels.org
SUMMARY:Women's Group Meeting
DESCRIPTION:All ladies of the parish are welcome to attend the Women’s Group Meeting. Every woman in the parish is an automatic member. The Women’s Group meets the 1st Tuesdays monthly from 6:15 – 8:00 pm (September – May). \n\nGather with other GA women to pray the rosary. Women’s Group rosary begins at 6:15 pm\nWomen’s Group social begins at 6:30 pm\nWomen’s Group meeting begins at 7:00 pm
URL:https://meadangels.org/event/womens-group-meeting-2/2025-10-07/
LOCATION:Guardian Angels Catholic Church\, 109 S. 3rd Street\, Mead\, 80542\, United States
CATEGORIES:Women's Group
END:VEVENT
BEGIN:VEVENT
DTSTART;TZID=America/Denver:20251008T180500
DTEND;TZID=America/Denver:20251008T191000
DTSTAMP:20260420T020841
CREATED:20250908T162857Z
LAST-MODIFIED:20250908T164846Z
UID:10002760-1759946700-1759950600@meadangels.org
SUMMARY:New Fall Bible Studies for Adults
DESCRIPTION:Discover the richness of Scripture and grow in your relationship with Christ this fall. Join us for an engaging Bible study led by Sandy Gross. \n\n📅 Wednesdays\, 6:05 – 7:10 PM\n🗓 Beginning September 10\n\nAll are welcome—whether you are new to Bible study or have been attending for years. \n📩 Questions? Email: faithoutreach@meadangels.org
URL:https://meadangels.org/event/new-fall-bible-studies-2/2025-10-08/
LOCATION:Guardian Angels Catholic Church\, 109 S. 3rd Street\, Mead\, 80542\, United States
CATEGORIES:Faith Outreach
END:VEVENT
BEGIN:VEVENT
DTSTART;TZID=America/Denver:20251009T190000
DTEND;TZID=America/Denver:20251009T201500
DTSTAMP:20260420T020841
CREATED:20250908T162340Z
LAST-MODIFIED:20250908T164747Z
UID:10002746-1760036400-1760040900@meadangels.org
SUMMARY:New Fall Bible Studies for Men
DESCRIPTION:Looking to deepen your faith this fall? Join us for an enriching Bible study led by Tim Gross. Together\, we’ll discover deeper insights into Scripture\, grow spiritually\, and connect with a supportive community of faith. \n\n📅 Thursdays\, 7:00 – 8:15 PM\n🗓 Beginning September 11\n\nAll are welcome—whether you are new to Bible study or have been attending for years. \n📩 Questions? Email: faithoutreach@meadangels.org
URL:https://meadangels.org/event/new-fall-bible-studies/2025-10-09/
LOCATION:Guardian Angels Catholic Church\, 109 S. 3rd Street\, Mead\, 80542\, United States
CATEGORIES:Faith Outreach
END:VEVENT
BEGIN:VEVENT
DTSTART;VALUE=DATE:20251011
DTEND;VALUE=DATE:20251013
DTSTAMP:20260420T020841
CREATED:20251003T153026Z
LAST-MODIFIED:20251003T153027Z
UID:10001711-1760140800-1760313599@meadangels.org
SUMMARY:Marriage Blessings Every 2nd Sunday of the Month
DESCRIPTION:Marriage blessings will be bestowed during all Masses for those who have celebrated an anniversary in the past month. It is a beautiful opportunity to celebrate love and commitment.
URL:https://meadangels.org/event/marriage-blessings-every-2nd-sunday-of-the-month-2/
CATEGORIES:Marriage
ATTACH;FMTTYPE=image/jpeg:https://meadangels.org/wp-content/uploads/IMG_7133.jpeg
END:VEVENT
BEGIN:VEVENT
DTSTART;TZID=America/Denver:20251011T080000
DTEND;TZID=America/Denver:20251011T173000
DTSTAMP:20260420T020841
CREATED:20250628T152135Z
LAST-MODIFIED:20250815T065559Z
UID:10002628-1760169600-1760203800@meadangels.org
SUMMARY:Catholic Women's Conference
DESCRIPTION:The 9th Annual Catholic Women’s Conference of Denver presents: \nRESTORED\n“He restores my soul” (Psalm 23:3) \nJoin us on Saturday\, October 11 at the DCSD Legacy Campus in Lone Tree for a retreat-like day dedicated to spiritual renewal and sisterhood in Christ. \nLet Christ restore your soul as you step away from the busyness of life to spend time with Him and your sisters in Christ. Throughout the day\, we will explore how to deepen our understanding of God’s love\, receive His abundant mercy\, and find true peace and joy in His restoration. \nConference Highlights:\n\n\nHoly Mass \n\n\nConfession \n\n\nEucharistic Adoration \n\n\nInspiring talks and fellowship \n\n\nCatholic vendors offering Catholic products \n\n\nSchedule:\n\nCheck-in: 8-8:45 AM\nEnds at 4 PM\nClosing Mass 4:15 – 5:15 PM\n\nDrive:\n\nOne hour with tolls\nApproximately 1.25 hours without tolls\n\n  \nRegistration is now open.We hope you will join us for this beautiful day of faith\, renewal\, and community. \n📧 Questions? Contact us at: denvercwcinfo@gmail.com \nREIMBURSEMENT: After you register send your registration confirmation to Sandy Gross at faithoutreach@meadangels.org for reimbursement and to join the women from Guardian Angels. Guardian Angels will pay $25 for registration for GA parishioners. The cost is $75 per person before August 1. $85 after August 1.
URL:https://meadangels.org/event/catholic-womens-conference/
LOCATION:DCSD Legacy Campus\, 10035 S. Peoria St\, Parker\, CO\, 80134\, United States
CATEGORIES:Faith Outreach,Women's Group
ATTACH;FMTTYPE=image/jpeg:https://meadangels.org/wp-content/uploads/IMG_8140.jpeg
END:VEVENT
END:VCALENDAR