BEGIN:VCALENDAR
VERSION:2.0
PRODID:-//Guardian Angels Catholic Church - ECPv6.15.20//NONSGML v1.0//EN
CALSCALE:GREGORIAN
METHOD:PUBLISH
X-WR-CALNAME:Guardian Angels Catholic Church
X-ORIGINAL-URL:https://meadangels.org
X-WR-CALDESC:Events for Guardian Angels Catholic Church
REFRESH-INTERVAL;VALUE=DURATION:PT1H
X-Robots-Tag:noindex
X-PUBLISHED-TTL:PT1H
BEGIN:VTIMEZONE
TZID:America/Denver
BEGIN:DAYLIGHT
TZOFFSETFROM:-0700
TZOFFSETTO:-0600
TZNAME:MDT
DTSTART:20240310T090000
END:DAYLIGHT
BEGIN:STANDARD
TZOFFSETFROM:-0600
TZOFFSETTO:-0700
TZNAME:MST
DTSTART:20241103T080000
END:STANDARD
BEGIN:DAYLIGHT
TZOFFSETFROM:-0700
TZOFFSETTO:-0600
TZNAME:MDT
DTSTART:20250309T090000
END:DAYLIGHT
BEGIN:STANDARD
TZOFFSETFROM:-0600
TZOFFSETTO:-0700
TZNAME:MST
DTSTART:20251102T080000
END:STANDARD
BEGIN:DAYLIGHT
TZOFFSETFROM:-0700
TZOFFSETTO:-0600
TZNAME:MDT
DTSTART:20260308T090000
END:DAYLIGHT
BEGIN:STANDARD
TZOFFSETFROM:-0600
TZOFFSETTO:-0700
TZNAME:MST
DTSTART:20261101T080000
END:STANDARD
END:VTIMEZONE
BEGIN:VEVENT
DTSTART;VALUE=DATE:20250601
DTEND;VALUE=DATE:20250901
DTSTAMP:20260420T150727
CREATED:20250601T230007Z
LAST-MODIFIED:20250725T202944Z
UID:10002623-1748736000-1756684799@meadangels.org
SUMMARY:Summer with the Saints
DESCRIPTION:Walk with the Saints This Summer—Faith-Filled Stories for the Whole Family \nThis summer\, help your family grow closer to Christ through inspiring stories of the saints—brought to you by Formed.org. Whether you’re on vacation or relaxing at home\, Summer with the Saints makes it easy to keep faith at the center of your summer. \nWhat is Summer with the Saints?From June through August\, receive a weekly email featuring a Formed video that highlights a saint and their powerful witness to the Catholic faith.Choose your path: \n\n\n📩 Adult Series \n\n\n📩 Kids Series \n\n\nEach email also includes fun and meaningful family activities to help bring the saint’s example to life and keep your summer both faith-filled and engaging. \nWhat is Formed?Formed.org is a dynamic Catholic platform offering high-quality\, faith-informed content for all ages. Whether you’re just starting your faith journey or deepening your spiritual life\, Formed provides trusted\, inspiring resources that guide you closer to Christ—anytime\, anywhere. \n🔗 Sign up and learn more at: Formed.org/Summer-with-the-Saints \nLet this be a summer of grace\, learning\, and inspiration for your whole family.
URL:https://meadangels.org/event/summer-with-the-saints/
CATEGORIES:Children Formation,Youth Formation (6th-8th),Youth Formation (9th-12th)
ATTACH;FMTTYPE=image/jpeg:https://meadangels.org/wp-content/uploads/IMG_8110.jpeg
END:VEVENT
BEGIN:VEVENT
DTSTART;TZID=America/Denver:20250901T090000
DTEND;TZID=America/Denver:20250901T110000
DTSTAMP:20260420T150727
CREATED:20240409T214444Z
LAST-MODIFIED:20250110T183320Z
UID:10000277-1756717200-1756724400@meadangels.org
SUMMARY:Caring Hands Crafters Meeting
DESCRIPTION:We create handmade items with love and care to bring comfort and support to those in need within our Catholic community. Whether you’re an experienced crafter or just starting out\, there’s a place for you to make a difference in our community. New members of all ages (women and men) and talents (woodworkers\, metal workers\, artists\, crafters) are welcome. Caring Hands Crafters meet every Monday at 9 – 11 am in the Catechetical Center (CC Center). \n 
URL:https://meadangels.org/event/caring-hands-crafters-meeting/2025-09-01/
LOCATION:Guardian Angels Catholic Church: Catechetical Center (CC Center)\, 109 S. 3rd Street\, Mead\, CO\, 80542\, United States
CATEGORIES:Caring Hands Crafters
ATTACH;FMTTYPE=image/jpeg:https://meadangels.org/wp-content/uploads/IMG_7847.jpeg
END:VEVENT
BEGIN:VEVENT
DTSTART;TZID=America/Denver:20250901T113000
DTEND;TZID=America/Denver:20250901T130000
DTSTAMP:20260420T150727
CREATED:20250628T233827Z
LAST-MODIFIED:20250628T234044Z
UID:10002646-1756726200-1756731600@meadangels.org
SUMMARY:Bible Study Every Monday
DESCRIPTION:When: Mondays\, 11:30 AM – 1:00 PM\nWhere: CC Center\nLed by: Sandy Gross \nJoin us for an enriching time of fellowship and learning as we dive into the Word of God together. Led by Sandy Gross\, this weekly Bible study offers an opportunity to explore scripture\, deepen your faith\, and connect with others in a supportive and welcoming environment. \nWhether you’re new to Bible study or have been attending for years\, all are welcome to participate. Bring your Bible\, your questions\, and an open heart. We look forward to seeing you there.
URL:https://meadangels.org/event/bible-study-every-monday-3/2025-09-01/
LOCATION:Guardian Angels Catholic Church: Catechetical Center (CC Center)\, 109 S. 3rd Street\, Mead\, CO\, 80542\, United States
CATEGORIES:Faith Outreach
ATTACH;FMTTYPE=image/jpeg:https://meadangels.org/wp-content/uploads/IMG_8145.jpeg
ORGANIZER;CN="Sandy Gross":MAILTO:faithOutreach@meadangels.org
END:VEVENT
BEGIN:VEVENT
DTSTART;TZID=America/Denver:20250902T183000
DTEND;TZID=America/Denver:20250902T200000
DTSTAMP:20260420T150727
CREATED:20250825T080723Z
LAST-MODIFIED:20250825T080723Z
UID:10002711-1756837800-1756843200@meadangels.org
SUMMARY:You're Invited to Be Part of the Sisterhood!
DESCRIPTION:The Guardian Angels Women’s Group invites you to join us for fellowship\, faith\, and friendship. \n📅 Tuesday\, September 2📍 Bakhita Hall⏰ 6:30 pm Social | 7:00–8:00 pm Meeting \nBring your feminine heart and generous hands as we gather to grow together spiritually and personally. In the Women’s Group\, you’ll find support in prayer\, strength in friendship\, and joy in laughter. \nThroughout the year\, members give their time and talent to parish projects—always on their own terms and in ways that fit their gifts. \n✨ Come and see how this sisterhood can bless your life and our parish community. \nQuestions? Email us at meadangelswomen@gmail.com
URL:https://meadangels.org/event/youre-invited-to-be-part-of-the-sisterhood/
LOCATION:Guardian Angels Catholic Church (Bakhita Hall)\, 109 S. 3rd Street\, Mead\, CO\, 80542\, United States
CATEGORIES:Women's Group
ATTACH;FMTTYPE=image/png:https://meadangels.org/wp-content/uploads/Women-Group-2025-09-02.png
END:VEVENT
BEGIN:VEVENT
DTSTART;TZID=America/Denver:20250904T190000
DTEND;TZID=America/Denver:20250904T203000
DTSTAMP:20260420T150727
CREATED:20241205T224349Z
LAST-MODIFIED:20241205T224349Z
UID:10001505-1757012400-1757017800@meadangels.org
SUMMARY:Society of St. Vincent de Paul Meeting
DESCRIPTION:The St. Vincent de Paul Society conference at Guardian Angels was formed in October 2021. Since that time our group has learned much about each other and our neighbors in need. We continue to provide assistance to neighbors in Mead\, Berthoud\, Longmont\, Platteville\, and other nearby communities. We provide not only material assistance such as rent\, utilities\, telephone bills\, fuel\, and groceries but also offer friendship\, understanding\, and prayer. \n  \nMost of the financial assistance we provide comes from the generosity of Guardian Angels parishioners. We provided almost $8000 in rent assistance locally over the previous year thanks\, in large part to the generosity of Guardian Angels parishioners. With growing needs\, we have already exceeded $8000 in rent assistance in the six months of the current fiscal year. \n  \nAttend this meeting to join our Society of St. Vincent de Paul at Guardian Angels so we can do more for those in need in our community. We meet on the first and third Thursdays of each month at 7 pm in the parish conference room and on Zoom.
URL:https://meadangels.org/event/society-of-st-vincent-de-paul-meeting-3-2/2025-09-04/
LOCATION:Guardian Angels Catholic Church (Parish Conference Room)\, 109 S. 3rd Street\, Mead\, CO\, 10016\, United States
CATEGORIES:St. Vincent de Paul Society
ATTACH;FMTTYPE=image/jpeg:https://meadangels.org/wp-content/uploads/svdp-pink-small-scaled.jpg
ORGANIZER;CN="Rich Chopyak":MAILTO:svdp@meadangels.org
END:VEVENT
BEGIN:VEVENT
DTSTART;TZID=America/Denver:20250905T190000
DTEND;TZID=America/Denver:20250907T170000
DTSTAMP:20260420T150727
CREATED:20250705T022226Z
LAST-MODIFIED:20250705T022425Z
UID:10002702-1757098800-1757264400@meadangels.org
SUMMARY:Retrouvaille – Marriage Enrichment Weekend
DESCRIPTION:📅 September 5–7⏰ Begins Friday at 7:00 PM | Concludes Sunday at 5:00 PM \nIs your marriage in need of healing or renewed connection?Retrouvaille is a Catholic marriage retreat created specifically for couples who are experiencing difficulties or who feel distant in their relationship. Since 1977\, Retrouvaille has offered couples the tools\, support\, and private space needed to rebuild trust\, restore communication\, and renew commitment. \nThis weekend experience is open to couples of all faith backgrounds and is led with compassion\, confidentiality\, and hope. \nFor more information\, visit www.helpourmarriage.org or call 1.800.470.2230.Guardian Angels will help cover part of the retreat cost—please contact the parish office for more details.
URL:https://meadangels.org/event/retrouvaille/
END:VEVENT
END:VCALENDAR