BEGIN:VCALENDAR
VERSION:2.0
PRODID:-//Guardian Angels Catholic Church - ECPv6.15.20//NONSGML v1.0//EN
CALSCALE:GREGORIAN
METHOD:PUBLISH
X-ORIGINAL-URL:https://meadangels.org
X-WR-CALDESC:Events for Guardian Angels Catholic Church
REFRESH-INTERVAL;VALUE=DURATION:PT1H
X-Robots-Tag:noindex
X-PUBLISHED-TTL:PT1H
BEGIN:VTIMEZONE
TZID:America/Denver
BEGIN:DAYLIGHT
TZOFFSETFROM:-0700
TZOFFSETTO:-0600
TZNAME:MDT
DTSTART:20240310T090000
END:DAYLIGHT
BEGIN:STANDARD
TZOFFSETFROM:-0600
TZOFFSETTO:-0700
TZNAME:MST
DTSTART:20241103T080000
END:STANDARD
BEGIN:DAYLIGHT
TZOFFSETFROM:-0700
TZOFFSETTO:-0600
TZNAME:MDT
DTSTART:20250309T090000
END:DAYLIGHT
BEGIN:STANDARD
TZOFFSETFROM:-0600
TZOFFSETTO:-0700
TZNAME:MST
DTSTART:20251102T080000
END:STANDARD
BEGIN:DAYLIGHT
TZOFFSETFROM:-0700
TZOFFSETTO:-0600
TZNAME:MDT
DTSTART:20260308T090000
END:DAYLIGHT
BEGIN:STANDARD
TZOFFSETFROM:-0600
TZOFFSETTO:-0700
TZNAME:MST
DTSTART:20261101T080000
END:STANDARD
END:VTIMEZONE
BEGIN:VEVENT
DTSTART;VALUE=DATE:20250601
DTEND;VALUE=DATE:20250901
DTSTAMP:20260420T181602
CREATED:20250601T230007Z
LAST-MODIFIED:20250725T202944Z
UID:10002623-1748736000-1756684799@meadangels.org
SUMMARY:Summer with the Saints
DESCRIPTION:Walk with the Saints This Summer—Faith-Filled Stories for the Whole Family \nThis summer\, help your family grow closer to Christ through inspiring stories of the saints—brought to you by Formed.org. Whether you’re on vacation or relaxing at home\, Summer with the Saints makes it easy to keep faith at the center of your summer. \nWhat is Summer with the Saints?From June through August\, receive a weekly email featuring a Formed video that highlights a saint and their powerful witness to the Catholic faith.Choose your path: \n\n\n📩 Adult Series \n\n\n📩 Kids Series \n\n\nEach email also includes fun and meaningful family activities to help bring the saint’s example to life and keep your summer both faith-filled and engaging. \nWhat is Formed?Formed.org is a dynamic Catholic platform offering high-quality\, faith-informed content for all ages. Whether you’re just starting your faith journey or deepening your spiritual life\, Formed provides trusted\, inspiring resources that guide you closer to Christ—anytime\, anywhere. \n🔗 Sign up and learn more at: Formed.org/Summer-with-the-Saints \nLet this be a summer of grace\, learning\, and inspiration for your whole family.
URL:https://meadangels.org/event/summer-with-the-saints/
CATEGORIES:Children Formation,Youth Formation (6th-8th),Youth Formation (9th-12th)
ATTACH;FMTTYPE=image/jpeg:https://meadangels.org/wp-content/uploads/IMG_8110.jpeg
END:VEVENT
BEGIN:VEVENT
DTSTART;TZID=America/Denver:20250811T090000
DTEND;TZID=America/Denver:20250811T110000
DTSTAMP:20260420T181602
CREATED:20240409T214444Z
LAST-MODIFIED:20250110T183320Z
UID:10000274-1754902800-1754910000@meadangels.org
SUMMARY:Caring Hands Crafters Meeting
DESCRIPTION:We create handmade items with love and care to bring comfort and support to those in need within our Catholic community. Whether you’re an experienced crafter or just starting out\, there’s a place for you to make a difference in our community. New members of all ages (women and men) and talents (woodworkers\, metal workers\, artists\, crafters) are welcome. Caring Hands Crafters meet every Monday at 9 – 11 am in the Catechetical Center (CC Center). \n 
URL:https://meadangels.org/event/caring-hands-crafters-meeting/2025-08-11/
LOCATION:Guardian Angels Catholic Church: Catechetical Center (CC Center)\, 109 S. 3rd Street\, Mead\, CO\, 80542\, United States
CATEGORIES:Caring Hands Crafters
ATTACH;FMTTYPE=image/jpeg:https://meadangels.org/wp-content/uploads/IMG_7847.jpeg
END:VEVENT
BEGIN:VEVENT
DTSTART;TZID=America/Denver:20250811T113000
DTEND;TZID=America/Denver:20250811T130000
DTSTAMP:20260420T181602
CREATED:20250628T233827Z
LAST-MODIFIED:20250628T234044Z
UID:10002643-1754911800-1754917200@meadangels.org
SUMMARY:Bible Study Every Monday
DESCRIPTION:When: Mondays\, 11:30 AM – 1:00 PM\nWhere: CC Center\nLed by: Sandy Gross \nJoin us for an enriching time of fellowship and learning as we dive into the Word of God together. Led by Sandy Gross\, this weekly Bible study offers an opportunity to explore scripture\, deepen your faith\, and connect with others in a supportive and welcoming environment. \nWhether you’re new to Bible study or have been attending for years\, all are welcome to participate. Bring your Bible\, your questions\, and an open heart. We look forward to seeing you there.
URL:https://meadangels.org/event/bible-study-every-monday-3/2025-08-11/
LOCATION:Guardian Angels Catholic Church: Catechetical Center (CC Center)\, 109 S. 3rd Street\, Mead\, CO\, 80542\, United States
CATEGORIES:Faith Outreach
ATTACH;FMTTYPE=image/jpeg:https://meadangels.org/wp-content/uploads/IMG_8145.jpeg
ORGANIZER;CN="Sandy Gross":MAILTO:faithOutreach@meadangels.org
END:VEVENT
BEGIN:VEVENT
DTSTART;TZID=America/Denver:20250812T100000
DTEND;TZID=America/Denver:20250812T120000
DTSTAMP:20260420T181602
CREATED:20241205T225804Z
LAST-MODIFIED:20260131T013224Z
UID:10002193-1754992800-1755000000@meadangels.org
SUMMARY:Silvers: A Social Group for Ages 60+
DESCRIPTION:📅 When: 2nd and 4th Tuesdays of the month\n⏰ Time: 10 am\n\nSilvers is a welcoming group for anyone aged 60 and up. Join us for coffee ☕️\, card games\, and plenty of laughter. Connect with friends and enjoy a relaxing morning in great company.
URL:https://meadangels.org/event/silvers-a-social-group-for-ages-60-2/2025-08-12/
ATTACH;FMTTYPE=image/jpeg:https://meadangels.org/wp-content/uploads/IMG_8031.jpeg
END:VEVENT
BEGIN:VEVENT
DTSTART;VALUE=DATE:20250815
DTEND;VALUE=DATE:20250818
DTSTAMP:20260420T181602
CREATED:20250725T201616Z
LAST-MODIFIED:20250815T133459Z
UID:10002706-1755216000-1755475199@meadangels.org
SUMMARY:Palisade Peaches & Pears Have Arrived
DESCRIPTION:Enjoy the taste of summer with fresh fruit from Palisade! \n🍑 Peaches and 🍐 Pears have arrived. Pick up your fruit that you ordered. The Knights will be on hand to assist you. \n📍 Pick-Up Dates: August 15–17
URL:https://meadangels.org/event/order-palisade-peaches-pears/
LOCATION:Guardian Angels Catholic Church\, 109 S. 3rd Street\, Mead\, 80542\, United States
CATEGORIES:Knights of Columbus
END:VEVENT
BEGIN:VEVENT
DTSTART;VALUE=DATE:20250816
DTEND;VALUE=DATE:20250818
DTSTAMP:20260420T181602
CREATED:20250809T223407Z
LAST-MODIFIED:20250809T223809Z
UID:10002707-1755302400-1755475199@meadangels.org
SUMMARY:Giving Weekend: Abbey of St. Walburga Wish List
DESCRIPTION:Your generosity helps support the daily life and ministries of the Abbey\, from nourishing the Sisters and retreat guests to caring for the land and animals that sustain their way of life. \nWe welcome your donations during Giving Weekend – August 16–17. \n\nFor the Kitchen\nHelp keep the pantry stocked for the Sisters and their retreat guests: \n\n\nRegular & Decaf coffee \n\n\nSplit peas\, lentils\, quinoa \n\n\nChickpeas\, black beans \n\n\nCanned chicken\, canned tuna \n\n\nNuts\, cheese \n\n\nDecorating/“sanding” sugar \n\n\nVinegar\, olive oil \n\n\nPotato chips (plain) & tortilla/corn chips \n\n\nDecaf black tea \n\n\nCocoa powder (for baking) \n\n\nBaking soda (1 lb. boxes) \n\n\nCream of tartar \n\n\n\nFor Community Use\n\n\n14x14x14 shipping boxes \n\n\n\nFor the Farm & Garden\nSupport the care of their animals and gardens: \n\n\nChicken layer feed \n\n\nCattle cakes (15% or 20%) \n\n\nLong-handled spade shovel \n\n\nMeasuring tape (any size) \n\n\nBungee cords \n\n\n5½–6 ft. metal stakes or rebar \n\n\nWomen’s work gloves (size small) \n\n\nFlashlights & batteries \n\n\nPliers – needle nose & regular \n\n\nOrange Goof Ruff towels (Walmart) \n\n\n\nFor the Retreat House\nHelp provide a warm and welcoming space for guests: \n\n\nBattery-operated bedside clocks (need at least 5) \n\n\nAA batteries (for clocks) \n\n\nTowel sets (bath\, hand\, washcloth – neutral\, solid colors) \n\n\n\nYour kindness makes a difference in the daily life of the Abbey.Thank you for your generosity and prayers.
URL:https://meadangels.org/event/giving-weekend-abbey-of-st-walburga-wish-list/
LOCATION:Guardian Angels Catholic Church\, 109 S. 3rd Street\, Mead\, 80542\, United States
ATTACH;FMTTYPE=image/png:https://meadangels.org/wp-content/uploads/image.png
END:VEVENT
BEGIN:VEVENT
DTSTART;TZID=America/Denver:20250816T183000
DTEND;TZID=America/Denver:20250816T210000
DTSTAMP:20260420T181602
CREATED:20250815T064715Z
LAST-MODIFIED:20250815T064747Z
UID:10002709-1755369000-1755378000@meadangels.org
SUMMARY:Movie Knight: Ratatouille
DESCRIPTION:Join us for a fun-filled evening. The night kicks off at 6:30 pm with delicious burgers 🍔 and hot dogs 🌭 hot off the grill. Then\, settle in at 7 pm to enjoy Ratatouille on the big screen with free popcorn. This event is free and open to everyone—bring your family\, friends\, and lawn chairs for a night of great food and entertainment.
URL:https://meadangels.org/event/movie-knight-ratatouille/
LOCATION:Guardian Angels Catholic Church\, 109 S. 3rd Street\, Mead\, 80542\, United States
CATEGORIES:Knights of Columbus
END:VEVENT
END:VCALENDAR