BEGIN:VCALENDAR
VERSION:2.0
PRODID:-//Guardian Angels Catholic Church - ECPv6.15.20//NONSGML v1.0//EN
CALSCALE:GREGORIAN
METHOD:PUBLISH
X-WR-CALNAME:Guardian Angels Catholic Church
X-ORIGINAL-URL:https://meadangels.org
X-WR-CALDESC:Events for Guardian Angels Catholic Church
REFRESH-INTERVAL;VALUE=DURATION:PT1H
X-Robots-Tag:noindex
X-PUBLISHED-TTL:PT1H
BEGIN:VTIMEZONE
TZID:America/Denver
BEGIN:DAYLIGHT
TZOFFSETFROM:-0700
TZOFFSETTO:-0600
TZNAME:MDT
DTSTART:20240310T090000
END:DAYLIGHT
BEGIN:STANDARD
TZOFFSETFROM:-0600
TZOFFSETTO:-0700
TZNAME:MST
DTSTART:20241103T080000
END:STANDARD
BEGIN:DAYLIGHT
TZOFFSETFROM:-0700
TZOFFSETTO:-0600
TZNAME:MDT
DTSTART:20250309T090000
END:DAYLIGHT
BEGIN:STANDARD
TZOFFSETFROM:-0600
TZOFFSETTO:-0700
TZNAME:MST
DTSTART:20251102T080000
END:STANDARD
BEGIN:DAYLIGHT
TZOFFSETFROM:-0700
TZOFFSETTO:-0600
TZNAME:MDT
DTSTART:20260308T090000
END:DAYLIGHT
BEGIN:STANDARD
TZOFFSETFROM:-0600
TZOFFSETTO:-0700
TZNAME:MST
DTSTART:20261101T080000
END:STANDARD
END:VTIMEZONE
BEGIN:VEVENT
DTSTART;VALUE=DATE:20250502
DTEND;VALUE=DATE:20250608
DTSTAMP:20260420T133417
CREATED:20250502T163451Z
LAST-MODIFIED:20250507T174854Z
UID:10002619-1746144000-1749340799@meadangels.org
SUMMARY:Incoming 6th Graders Elevate Rally
DESCRIPTION:Location: St. John Paul the Great High School (2230 S. Sherman St.\, Denver 80210)Cost: $30 per personRegistration Deadline: May 23 \nDo you have a rising 6th grader? Let’s get our kids together for an unforgettable day of faith\, fun\, and fellowship at the Elevate Rally on Saturday\, June 7. \nHosted at St. John Paul the Great High School\, this full-day rally will feature:✨ Catholic speaker and magician Giancarlo Bernini🎶 Live worship music🎯 Games and activities✝️ Celebration of the Mass…and more! \nTransportation: Janine is driving and has space for five more kids in her vehicle. \nIf you and/or your child would like to attend\, please email communications@meadangels.org to sign up. \nSpots are limited and registration closes on May 23\, so don’t wait.
URL:https://meadangels.org/event/incoming-6th-graders-elevate-rally/
LOCATION:St. John Paul the Great High School\, 2330 S Sherman St\, Denver\, CO\, 80210\, United States
CATEGORIES:Youth Formation (6th-8th)
ATTACH;FMTTYPE=image/jpeg:https://meadangels.org/wp-content/uploads/IMG_8046.jpeg
END:VEVENT
BEGIN:VEVENT
DTSTART;VALUE=DATE:20250601
DTEND;VALUE=DATE:20250701
DTSTAMP:20260420T133417
CREATED:20250601T224952Z
LAST-MODIFIED:20250601T225054Z
UID:10002622-1748736000-1751327999@meadangels.org
SUMMARY:Advertise in Our Bulletin & Digital Spaces
DESCRIPTION:Support Our Church While Growing Your Business \nWe invite local businesses and professionals to advertise in our weekly bulletin and digital platforms. This is a wonderful opportunity to reach a loyal and supportive community while helping our parish thrive. \nSuzie Moore with LPi\, our trusted bulletin publisher\, is currently securing new advertisers for both print and digital spaces. Your ad not only promotes your business but also helps offset the cost of our bulletin—making it a true win-win. \n📣 Why Advertise? \n\n\nBuild trust with a faith-filled audience \n\n\nSupport your local church community \n\n\nGain visibility in both print and online channels \n\n\nAffordable and effective local marketing \n\n\n  \n📞 To learn more or reserve your spot\, contact: \n\n\nParish Office at 970.535.0721 \n\n\nSuzie Moore (LPi) at 800.950.9952 x2601 \n\n\n📧 Email: SMoore@4lpi.com \n\n\nThank you for supporting our mission and strengthening our parish through your generosity.
URL:https://meadangels.org/event/advertise-in-our-bulletin-digital-spaces/
END:VEVENT
BEGIN:VEVENT
DTSTART;VALUE=DATE:20250601
DTEND;VALUE=DATE:20250901
DTSTAMP:20260420T133417
CREATED:20250601T230007Z
LAST-MODIFIED:20250725T202944Z
UID:10002623-1748736000-1756684799@meadangels.org
SUMMARY:Summer with the Saints
DESCRIPTION:Walk with the Saints This Summer—Faith-Filled Stories for the Whole Family \nThis summer\, help your family grow closer to Christ through inspiring stories of the saints—brought to you by Formed.org. Whether you’re on vacation or relaxing at home\, Summer with the Saints makes it easy to keep faith at the center of your summer. \nWhat is Summer with the Saints?From June through August\, receive a weekly email featuring a Formed video that highlights a saint and their powerful witness to the Catholic faith.Choose your path: \n\n\n📩 Adult Series \n\n\n📩 Kids Series \n\n\nEach email also includes fun and meaningful family activities to help bring the saint’s example to life and keep your summer both faith-filled and engaging. \nWhat is Formed?Formed.org is a dynamic Catholic platform offering high-quality\, faith-informed content for all ages. Whether you’re just starting your faith journey or deepening your spiritual life\, Formed provides trusted\, inspiring resources that guide you closer to Christ—anytime\, anywhere. \n🔗 Sign up and learn more at: Formed.org/Summer-with-the-Saints \nLet this be a summer of grace\, learning\, and inspiration for your whole family.
URL:https://meadangels.org/event/summer-with-the-saints/
CATEGORIES:Children Formation,Youth Formation (6th-8th),Youth Formation (9th-12th)
ATTACH;FMTTYPE=image/jpeg:https://meadangels.org/wp-content/uploads/IMG_8110.jpeg
END:VEVENT
BEGIN:VEVENT
DTSTART;TZID=America/Denver:20250602T090000
DTEND;TZID=America/Denver:20250602T110000
DTSTAMP:20260420T133417
CREATED:20240409T214444Z
LAST-MODIFIED:20250110T183320Z
UID:10000264-1748854800-1748862000@meadangels.org
SUMMARY:Caring Hands Crafters Meeting
DESCRIPTION:We create handmade items with love and care to bring comfort and support to those in need within our Catholic community. Whether you’re an experienced crafter or just starting out\, there’s a place for you to make a difference in our community. New members of all ages (women and men) and talents (woodworkers\, metal workers\, artists\, crafters) are welcome. Caring Hands Crafters meet every Monday at 9 – 11 am in the Catechetical Center (CC Center). \n 
URL:https://meadangels.org/event/caring-hands-crafters-meeting/2025-06-02/
LOCATION:Guardian Angels Catholic Church: Catechetical Center (CC Center)\, 109 S. 3rd Street\, Mead\, CO\, 80542\, United States
CATEGORIES:Caring Hands Crafters
ATTACH;FMTTYPE=image/jpeg:https://meadangels.org/wp-content/uploads/IMG_7847.jpeg
END:VEVENT
BEGIN:VEVENT
DTSTART;TZID=America/Denver:20250603T070000
DTEND;TZID=America/Denver:20250603T080000
DTSTAMP:20260420T133417
CREATED:20250423T201716Z
LAST-MODIFIED:20250423T201717Z
UID:10000525-1748934000-1748937600@meadangels.org
SUMMARY:Mead Angels Men's Bible Study Every Tuesday
DESCRIPTION:Discover the Mead Angels Men’s Bible Study. Join us every Tuesday from 7-8 am in Bakhita Hall. Led by Deacon Chris\, this session is a chance for men to delve into Scripture\, grow in faith\, and build community. All are welcome\, whether you’re a seasoned Bible scholar or new to studying God’s Word. Come for engaging discussions\, prayer\, and fellowship as we strengthen our spiritual journey together.
URL:https://meadangels.org/event/mead-angels-mens-bible-study-every-tuesday-3-2-2/2025-06-03/
LOCATION:Guardian Angels Catholic Church (Bakhita Hall)\, 109 S. 3rd Street\, Mead\, CO\, 80542\, United States
CATEGORIES:Faith Outreach,Men's Group
ATTACH;FMTTYPE=image/jpeg:https://meadangels.org/wp-content/uploads/Generic-Bible-Study.jpg
ORGANIZER;CN="Deacon Chris Hora":MAILTO:deacon.chris@meadangels.org
END:VEVENT
BEGIN:VEVENT
DTSTART;TZID=America/Denver:20250605T190000
DTEND;TZID=America/Denver:20250605T203000
DTSTAMP:20260420T133417
CREATED:20241205T224349Z
LAST-MODIFIED:20241205T224349Z
UID:10001502-1749150000-1749155400@meadangels.org
SUMMARY:Society of St. Vincent de Paul Meeting
DESCRIPTION:The St. Vincent de Paul Society conference at Guardian Angels was formed in October 2021. Since that time our group has learned much about each other and our neighbors in need. We continue to provide assistance to neighbors in Mead\, Berthoud\, Longmont\, Platteville\, and other nearby communities. We provide not only material assistance such as rent\, utilities\, telephone bills\, fuel\, and groceries but also offer friendship\, understanding\, and prayer. \n  \nMost of the financial assistance we provide comes from the generosity of Guardian Angels parishioners. We provided almost $8000 in rent assistance locally over the previous year thanks\, in large part to the generosity of Guardian Angels parishioners. With growing needs\, we have already exceeded $8000 in rent assistance in the six months of the current fiscal year. \n  \nAttend this meeting to join our Society of St. Vincent de Paul at Guardian Angels so we can do more for those in need in our community. We meet on the first and third Thursdays of each month at 7 pm in the parish conference room and on Zoom.
URL:https://meadangels.org/event/society-of-st-vincent-de-paul-meeting-3-2/2025-06-05/
LOCATION:Guardian Angels Catholic Church (Parish Conference Room)\, 109 S. 3rd Street\, Mead\, CO\, 10016\, United States
CATEGORIES:St. Vincent de Paul Society
ATTACH;FMTTYPE=image/jpeg:https://meadangels.org/wp-content/uploads/svdp-pink-small-scaled.jpg
ORGANIZER;CN="Rich Chopyak":MAILTO:svdp@meadangels.org
END:VEVENT
BEGIN:VEVENT
DTSTART;TZID=America/Denver:20250606T090000
DTEND;TZID=America/Denver:20250606T100000
DTSTAMP:20260420T133417
CREATED:20250601T232122Z
LAST-MODIFIED:20250601T232342Z
UID:10002624-1749200400-1749204000@meadangels.org
SUMMARY:You're Invited: Shroud of Turin Presentation
DESCRIPTION:Join the Saint Serra Apostolate of Boulder County for a special presentation on the Shroud of Turin—one of the most studied and mysterious relics in Christianity. \n🕊️ Presented by: Rudolph Dichtl📅 Date: Friday\, June 6⏰ Time: 9:00–10:00 AM (following the 8:15 AM Mass)📍 Location: Benedict Hall\, St. John the Baptist Catholic Church \nEnjoy a continental breakfast as we explore the history\, science\, and spiritual significance of the Shroud. \n🔗 Learn more at serraclubbouldercounty.org📧 Questions? Email us at serraclubbouldercounty@gmail.com \nAll are welcome—come deepen your faith and curiosity through this fascinating event!
URL:https://meadangels.org/event/youre-invited-shroud-of-turin-presentation/
LOCATION:St. John the Baptist Catholic Church\, 323 Collyer Street\, Longmont\, CO\, 80501\, United States
ATTACH;FMTTYPE=image/jpeg:https://meadangels.org/wp-content/uploads/IMG_8111.jpeg
END:VEVENT
END:VCALENDAR