BEGIN:VCALENDAR
VERSION:2.0
PRODID:-//Guardian Angels Catholic Church - ECPv6.15.20//NONSGML v1.0//EN
CALSCALE:GREGORIAN
METHOD:PUBLISH
X-ORIGINAL-URL:https://meadangels.org
X-WR-CALDESC:Events for Guardian Angels Catholic Church
REFRESH-INTERVAL;VALUE=DURATION:PT1H
X-Robots-Tag:noindex
X-PUBLISHED-TTL:PT1H
BEGIN:VTIMEZONE
TZID:America/Denver
BEGIN:DAYLIGHT
TZOFFSETFROM:-0700
TZOFFSETTO:-0600
TZNAME:MDT
DTSTART:20240310T090000
END:DAYLIGHT
BEGIN:STANDARD
TZOFFSETFROM:-0600
TZOFFSETTO:-0700
TZNAME:MST
DTSTART:20241103T080000
END:STANDARD
BEGIN:DAYLIGHT
TZOFFSETFROM:-0700
TZOFFSETTO:-0600
TZNAME:MDT
DTSTART:20250309T090000
END:DAYLIGHT
BEGIN:STANDARD
TZOFFSETFROM:-0600
TZOFFSETTO:-0700
TZNAME:MST
DTSTART:20251102T080000
END:STANDARD
BEGIN:DAYLIGHT
TZOFFSETFROM:-0700
TZOFFSETTO:-0600
TZNAME:MDT
DTSTART:20260308T090000
END:DAYLIGHT
BEGIN:STANDARD
TZOFFSETFROM:-0600
TZOFFSETTO:-0700
TZNAME:MST
DTSTART:20261101T080000
END:STANDARD
END:VTIMEZONE
BEGIN:VEVENT
DTSTART;VALUE=DATE:20250502
DTEND;VALUE=DATE:20250608
DTSTAMP:20260420T124622
CREATED:20250502T163451Z
LAST-MODIFIED:20250507T174854Z
UID:10002619-1746144000-1749340799@meadangels.org
SUMMARY:Incoming 6th Graders Elevate Rally
DESCRIPTION:Location: St. John Paul the Great High School (2230 S. Sherman St.\, Denver 80210)Cost: $30 per personRegistration Deadline: May 23 \nDo you have a rising 6th grader? Let’s get our kids together for an unforgettable day of faith\, fun\, and fellowship at the Elevate Rally on Saturday\, June 7. \nHosted at St. John Paul the Great High School\, this full-day rally will feature:✨ Catholic speaker and magician Giancarlo Bernini🎶 Live worship music🎯 Games and activities✝️ Celebration of the Mass…and more! \nTransportation: Janine is driving and has space for five more kids in her vehicle. \nIf you and/or your child would like to attend\, please email communications@meadangels.org to sign up. \nSpots are limited and registration closes on May 23\, so don’t wait.
URL:https://meadangels.org/event/incoming-6th-graders-elevate-rally/
LOCATION:St. John Paul the Great High School\, 2330 S Sherman St\, Denver\, CO\, 80210\, United States
CATEGORIES:Youth Formation (6th-8th)
ATTACH;FMTTYPE=image/jpeg:https://meadangels.org/wp-content/uploads/IMG_8046.jpeg
END:VEVENT
BEGIN:VEVENT
DTSTART;TZID=America/Denver:20250525T180000
DTEND;TZID=America/Denver:20250525T193000
DTSTAMP:20260420T124622
CREATED:20250110T192324Z
LAST-MODIFIED:20250412T223541Z
UID:10002521-1748196000-1748201400@meadangels.org
SUMMARY:Youth Formation (9th-12th Grade) Ministry Meets Every Sunday Night
DESCRIPTION:📅 Join the Youth Formation Ministry (9th–12th Grade) Ministry\nHigh school youth group meets every Sunday night from 6:00 PM – 7:30 PM during the school year. Teens will participate in faith-based games\, service projects\, and social events. Be sure to check the weekly bulletin for important updates on dates and times. \n  \n✨ Empowering Teenagers in Faith \nWe guide high school students on their faith journey with engaging discussions\, activities\, and a welcoming community. \n💛 About Us\nOur ministry creates a supportive space where teenagers can explore their faith\, build relationships\, and deepen their connection with God. \n📖 What We Do\nWe focus on catechesis\, sacramental preparation\, and helping teens build a strong\, personal relationship with God. \n🌟 Benefits of Joining\nMake an impact\, grow spiritually\, and form lasting friendships. Get involved with your parish while having fun and meeting new people. \nWe can’t wait to see you there.
URL:https://meadangels.org/event/youth-formation-9th-12th-grade-ministry-meets-every-sunday-night/2025-05-25/
CATEGORIES:Youth Formation (9th-12th)
END:VEVENT
BEGIN:VEVENT
DTSTART;TZID=America/Denver:20250525T180000
DTEND;TZID=America/Denver:20250525T193000
DTSTAMP:20260420T124622
CREATED:20250117T224641Z
LAST-MODIFIED:20250412T223637Z
UID:10002501-1748196000-1748201400@meadangels.org
SUMMARY:Youth Formation (6th-8th Grade) Ministry Meets Every Sunday Night
DESCRIPTION:📅 Join the Youth Formation (6th-8th Grade) Ministry\nMiddle school youth group meets every Sunday night from 6:00 PM – 7:30 PM during the school year. Check the weekly bulletin for updates on dates and times. \n  \n✨ Engaging Young Hearts in Faith \nWe invite young adolescents to deepen their faith journey through interactive lessons\, activities\, and a supportive community. \n💛 About Us\nOur youth group offers a nurturing environment where middle schoolers can grow spiritually and gain a deeper understanding of the Catholic faith. \n📖 What We Do\nWe focus on catechesis\, sacramental preparation\, and instilling Christian values through faith-based games\, service projects\, and social activities. \n  \nCome for the fun\, stay for the faith. We look forward to welcoming your child into our community.
URL:https://meadangels.org/event/youth-formation-6th-8th-grade-ministry-meets-every-sunday-night-2/2025-05-25/
CATEGORIES:Youth Formation (6th-8th)
END:VEVENT
BEGIN:VEVENT
DTSTART;TZID=America/Denver:20250526T090000
DTEND;TZID=America/Denver:20250526T110000
DTSTAMP:20260420T124622
CREATED:20240409T214444Z
LAST-MODIFIED:20250110T183320Z
UID:10000263-1748250000-1748257200@meadangels.org
SUMMARY:Caring Hands Crafters Meeting
DESCRIPTION:We create handmade items with love and care to bring comfort and support to those in need within our Catholic community. Whether you’re an experienced crafter or just starting out\, there’s a place for you to make a difference in our community. New members of all ages (women and men) and talents (woodworkers\, metal workers\, artists\, crafters) are welcome. Caring Hands Crafters meet every Monday at 9 – 11 am in the Catechetical Center (CC Center). \n 
URL:https://meadangels.org/event/caring-hands-crafters-meeting/2025-05-26/
LOCATION:Guardian Angels Catholic Church: Catechetical Center (CC Center)\, 109 S. 3rd Street\, Mead\, CO\, 80542\, United States
CATEGORIES:Caring Hands Crafters
ATTACH;FMTTYPE=image/jpeg:https://meadangels.org/wp-content/uploads/IMG_7847.jpeg
END:VEVENT
BEGIN:VEVENT
DTSTART;TZID=America/Denver:20250527T070000
DTEND;TZID=America/Denver:20250527T080000
DTSTAMP:20260420T124622
CREATED:20250423T201716Z
LAST-MODIFIED:20250423T201717Z
UID:10000524-1748329200-1748332800@meadangels.org
SUMMARY:Mead Angels Men's Bible Study Every Tuesday
DESCRIPTION:Discover the Mead Angels Men’s Bible Study. Join us every Tuesday from 7-8 am in Bakhita Hall. Led by Deacon Chris\, this session is a chance for men to delve into Scripture\, grow in faith\, and build community. All are welcome\, whether you’re a seasoned Bible scholar or new to studying God’s Word. Come for engaging discussions\, prayer\, and fellowship as we strengthen our spiritual journey together.
URL:https://meadangels.org/event/mead-angels-mens-bible-study-every-tuesday-3-2-2/2025-05-27/
LOCATION:Guardian Angels Catholic Church (Bakhita Hall)\, 109 S. 3rd Street\, Mead\, CO\, 80542\, United States
CATEGORIES:Faith Outreach,Men's Group
ATTACH;FMTTYPE=image/jpeg:https://meadangels.org/wp-content/uploads/Generic-Bible-Study.jpg
ORGANIZER;CN="Deacon Chris Hora":MAILTO:deacon.chris@meadangels.org
END:VEVENT
BEGIN:VEVENT
DTSTART;TZID=America/Denver:20250528T180500
DTEND;TZID=America/Denver:20250528T191000
DTSTAMP:20260420T124622
CREATED:20250212T204600Z
LAST-MODIFIED:20250412T224223Z
UID:10002429-1748455500-1748459400@meadangels.org
SUMMARY:Adult / Teen Faith Formation Every Wednesday Night
DESCRIPTION:📅  When: Every Wednesday \n⏰  Time: 6:05 PM – 7:10 PM\n📍  Where: Bakihta Hall\n👩‍🏫  Led by: Sandy Gross \nJoin us for a meaningful evening of fellowship and learning as we explore the Word of God together. Led by Sandy Gross\, this weekly faith formation session provides an opportunity to grow in your faith\, reflect on scripture\, and connect with a welcoming community. \nAll are welcome. Bring your Bible\, your questions\, and an open heart. We look forward to growing in faith with you.
URL:https://meadangels.org/event/adult-teen-faith-formation-every-wednesday-night-2/2025-05-28/
LOCATION:Guardian Angels Catholic Church (Bakhita Hall)\, 109 S. 3rd Street\, Mead\, CO\, 80542\, United States
CATEGORIES:Faith Outreach,Youth Formation (9th-12th)
ORGANIZER;CN="Sandy Gross":MAILTO:faithOutreach@meadangels.org
END:VEVENT
END:VCALENDAR