BEGIN:VCALENDAR
VERSION:2.0
PRODID:-//Guardian Angels Catholic Church - ECPv6.15.20//NONSGML v1.0//EN
CALSCALE:GREGORIAN
METHOD:PUBLISH
X-ORIGINAL-URL:https://meadangels.org
X-WR-CALDESC:Events for Guardian Angels Catholic Church
REFRESH-INTERVAL;VALUE=DURATION:PT1H
X-Robots-Tag:noindex
X-PUBLISHED-TTL:PT1H
BEGIN:VTIMEZONE
TZID:America/Denver
BEGIN:DAYLIGHT
TZOFFSETFROM:-0700
TZOFFSETTO:-0600
TZNAME:MDT
DTSTART:20240310T090000
END:DAYLIGHT
BEGIN:STANDARD
TZOFFSETFROM:-0600
TZOFFSETTO:-0700
TZNAME:MST
DTSTART:20241103T080000
END:STANDARD
BEGIN:DAYLIGHT
TZOFFSETFROM:-0700
TZOFFSETTO:-0600
TZNAME:MDT
DTSTART:20250309T090000
END:DAYLIGHT
BEGIN:STANDARD
TZOFFSETFROM:-0600
TZOFFSETTO:-0700
TZNAME:MST
DTSTART:20251102T080000
END:STANDARD
BEGIN:DAYLIGHT
TZOFFSETFROM:-0700
TZOFFSETTO:-0600
TZNAME:MDT
DTSTART:20260308T090000
END:DAYLIGHT
BEGIN:STANDARD
TZOFFSETFROM:-0600
TZOFFSETTO:-0700
TZNAME:MST
DTSTART:20261101T080000
END:STANDARD
END:VTIMEZONE
BEGIN:VEVENT
DTSTART;VALUE=DATE:20250402
DTEND;VALUE=DATE:20250418
DTSTAMP:20260420T155533
CREATED:20250401T175635Z
LAST-MODIFIED:20250402T023019Z
UID:10002596-1743552000-1744934399@meadangels.org
SUMMARY:2025 Lenten Confessions Around the Boulder Deanery
DESCRIPTION:GUARDIAN ANGLES\n109 3rd St\, Mead\n\nTuesday | 9:00-9:45 am\nWednesday | 4:00-5:00 pm\nThursday | 9:00-9:45 am\nSaturday | 3:00-4:30 pm\n\nIMMACULATE CONCEPTION\n715 Cabrini Dr\, Lafayette\n\nSaturday | 8:30-10:00 am\n\nNATIVITY OF OUR LORD\n900 W Midway Blvd\, Broomfield\n\nThursday | 5:00-6:00 pm\nSaturday | 8:00-9:30am & 3:00-4:30 pm\nSunday | 30 minutes prior to Mass\n\nSACRED HEART OF JESUS\n1318 Mapleton Ave\, Boulder\n\nMonday | 11:30 am-12:00 pm\nTuesday | 11:30 am-12:00 pm\nThursday | 11:30 am-12:00 pm\nFriday | 11:30 am-12:00 pm & 5:00-7:00 pm\nSaturday | 11:30 am-1:00 pm\nSunday | 12:00 pm-1:00 pm (Spanish)\n\nSACRED HEART OF MARY\n6739 S Boulder Rd #101\, Boulder\n\nTuesday-Friday | 8:00 am\nTuesday | 11:45 am-12:30 pm\nSaturday | 8:30-9:30 am\, 3:00-4:00 pm\nSunday | 12:15-1:00 pm\n\nST. FRANCIS OF ASSISI\n3791 Pike Rd\, Longmont\n\nMonday | 8:30-9:30 am\nFriday | 9:00 – 10:00 am\nSaturday | 3:00-4:15 pm\n\nST. SCHOLASTICA\n575 Wells St\, Erie\n\nTuesday | 5:00-6:00 pm\nThursday | 5:00-6:00 pm\nFriday | 5:00-8:30 pm\nSaturday | 7:00-7:30 am\, 3:00-4:00 pm\, 5:30-8:30 pm\nSunday | 7:30-8:15 am\, 10:30-11:15 am\, 4:45-5:15 pm\n\nST. THOMAS AQUINAS\n898 14th St\, Boulder\n\nTuesday | 4:40-5:10 pm\, 8:00-9:00 pm\nWednesday-Friday | 11:40 am-12:10 pm\, 4:40-5:10 pm\nSaturday | 3:30-4:50 pm\nSunday | 5:00-6:00 pm
URL:https://meadangels.org/event/2025-lenten-confessions-around-the-boulder-deanery/
CATEGORIES:Reconciliation
ATTACH;FMTTYPE=image/jpeg:https://meadangels.org/wp-content/uploads/IMG_7997.jpeg
END:VEVENT
BEGIN:VEVENT
DTSTART;VALUE=DATE:20250412
DTEND;VALUE=DATE:20250414
DTSTAMP:20260420T155533
CREATED:20250412T230811Z
LAST-MODIFIED:20250412T230812Z
UID:10002598-1744416000-1744588799@meadangels.org
SUMMARY:Olive Wood Handicrafts from Bethlehem
DESCRIPTION:After all Masses on April 12th and 13th\, you’re invited to browse a beautiful selection of hand-carved olive wood gifts from the Holy Land\, presented by Bethlehem Handicrafts. \n  \nThese one-of-a-kind pieces—statues\, crosses\, rosaries\, and more—are lovingly crafted by Christian artisans in Bethlehem who pour their faith and tradition into every creation. \n  \nYour purchase not only brings a sacred piece of Bethlehem into your home but also provides vital support to Christian families striving to remain in the land of Christ’s birth. \n  \nHelp preserve the presence of Christians in the Holy Land and the sanctity of our sacred sites through your support.
URL:https://meadangels.org/event/olive-wood-handicrafts-from-bethlehem/
LOCATION:Guardian Angels Catholic Church (Bakhita Hall)\, 109 S. 3rd Street\, Mead\, CO\, 80542\, United States
ATTACH;FMTTYPE=image/png:https://meadangels.org/wp-content/uploads/Handicrafts-from-Bethlehem-2025.png
END:VEVENT
BEGIN:VEVENT
DTSTART;VALUE=DATE:20250412
DTEND;VALUE=DATE:20250505
DTSTAMP:20260420T155533
CREATED:20250413T002852Z
LAST-MODIFIED:20250413T002852Z
UID:10002599-1744416000-1746403199@meadangels.org
SUMMARY:Catholic Charities Stuffed Animal Drive
DESCRIPTION:Bringing Comfort to Children at Samaritan House \n\nWhen children arrive at Samaritan House\, they are often tired\, overwhelmed\, and uncertain. One small gesture—a stuffed animal to call their own—can bring them immediate comfort and a sense of safety during a difficult time. \n\nCan you help? We’re collecting new or gently used (and clean) stuffed animals to provide these little ones with a cozy companion they can hold onto. \n\nPlease place your donations in or around the Cozy Companions boxes located in the narthex and the CC Center. Your kindness makes a big difference in a child’s life.
URL:https://meadangels.org/event/catholic-charities-stuffed-animal-drive/
CATEGORIES:Children Formation,Youth Formation (6th-8th),Youth Formation (9th-12th)
ATTACH;FMTTYPE=image/png:https://meadangels.org/wp-content/uploads/Catholic-Charities-Stuffed-Animal-Drive-2025.png
END:VEVENT
BEGIN:VEVENT
DTSTART;TZID=America/Denver:20250414T090000
DTEND;TZID=America/Denver:20250414T110000
DTSTAMP:20260420T155533
CREATED:20240409T214444Z
LAST-MODIFIED:20250110T183320Z
UID:10000257-1744621200-1744628400@meadangels.org
SUMMARY:Caring Hands Crafters Meeting
DESCRIPTION:We create handmade items with love and care to bring comfort and support to those in need within our Catholic community. Whether you’re an experienced crafter or just starting out\, there’s a place for you to make a difference in our community. New members of all ages (women and men) and talents (woodworkers\, metal workers\, artists\, crafters) are welcome. Caring Hands Crafters meet every Monday at 9 – 11 am in the Catechetical Center (CC Center). \n 
URL:https://meadangels.org/event/caring-hands-crafters-meeting/2025-04-14/
LOCATION:Guardian Angels Catholic Church: Catechetical Center (CC Center)\, 109 S. 3rd Street\, Mead\, CO\, 80542\, United States
CATEGORIES:Caring Hands Crafters
ATTACH;FMTTYPE=image/jpeg:https://meadangels.org/wp-content/uploads/IMG_7847.jpeg
END:VEVENT
BEGIN:VEVENT
DTSTART;TZID=America/Denver:20250414T113000
DTEND;TZID=America/Denver:20250414T130000
DTSTAMP:20260420T155533
CREATED:20250110T183617Z
LAST-MODIFIED:20250110T183617Z
UID:10002270-1744630200-1744635600@meadangels.org
SUMMARY:Bible Study Every Monday
DESCRIPTION:When: Mondays\, 11:30 AM – 1:00 PM\nWhere: CC Center\nLed by: Sandy Gross \nJoin us for an enriching time of fellowship and learning as we dive into the Word of God together. Led by Sandy Gross\, this weekly Bible study offers an opportunity to explore scripture\, deepen your faith\, and connect with others in a supportive and welcoming environment. \nWhether you’re new to Bible study or have been attending for years\, all are welcome to participate. Bring your Bible\, your questions\, and an open heart. We look forward to seeing you there.
URL:https://meadangels.org/event/bible-study-every-monday-2-2/2025-04-14/
LOCATION:Guardian Angels Catholic Church: Catechetical Center (CC Center)\, 109 S. 3rd Street\, Mead\, CO\, 80542\, United States
CATEGORIES:Faith Outreach
ATTACH;FMTTYPE=image/jpeg:https://meadangels.org/wp-content/uploads/IMG_7845.jpeg
END:VEVENT
BEGIN:VEVENT
DTSTART;TZID=America/Denver:20250415T070000
DTEND;TZID=America/Denver:20250415T080000
DTSTAMP:20260420T155533
CREATED:20250110T194152Z
LAST-MODIFIED:20250110T195515Z
UID:10000518-1744700400-1744704000@meadangels.org
SUMMARY:Mead Angels Men's Bible Study Every Tuesday
DESCRIPTION:Discover the Mead Angels Men’s Bible Study. Join us every Tuesday from 7-8 am in Bakhita Hall. Led by Deacon Chris\, this session is a chance for men to delve into Scripture\, grow in faith\, and build community. All are welcome\, whether you’re a seasoned Bible scholar or new to studying God’s Word. Come for engaging discussions\, prayer\, and fellowship as we strengthen our spiritual journey together.
URL:https://meadangels.org/event/mead-angels-mens-bible-study-every-tuesday-3-2/2025-04-15/
LOCATION:Guardian Angels Catholic Church (Bakhita Hall)\, 109 S. 3rd Street\, Mead\, CO\, 80542\, United States
CATEGORIES:Faith Outreach,Men's Group
ATTACH;FMTTYPE=image/jpeg:https://meadangels.org/wp-content/uploads/IMG_7845.jpeg
ORGANIZER;CN="Deacon Chris Hora":MAILTO:deacon.chris@meadangels.org
END:VEVENT
BEGIN:VEVENT
DTSTART;TZID=America/Denver:20250417T190000
DTEND;TZID=America/Denver:20250417T200000
DTSTAMP:20260420T155533
CREATED:20240409T204821Z
LAST-MODIFIED:20240508T040819Z
UID:10000860-1744916400-1744920000@meadangels.org
SUMMARY:Society of St. Vincent de Paul Meeting
DESCRIPTION:The St. Vincent de Paul Society conference at Guardian Angels was formed in October 2021. Since that time our group has learned much about each other and our neighbors in need. We continue to provide assistance to neighbors in Mead\, Berthoud\, Longmont\, Platteville\, and other nearby communities. We provide not only material assistance such as rent\, utilities\, telephone bills\, fuel\, and groceries but also offer friendship\, understanding\, and prayer. \n  \nMost of the financial assistance we provide comes from the generosity of Guardian Angels parishioners. We provided almost $8000 in rent assistance locally over the previous year thanks\, in large part to the generosity of Guardian Angels parishioners. With growing needs\, we have already exceeded $8000 in rent assistance in the six months of the current fiscal year. \n  \nAttend this meeting to join our Society of St. Vincent de Paul at Guardian Angels so we can do more for those in need in our community. We meet on the first and third Thursdays of each month at 7 pm in the parish conference room and on Zoom.
URL:https://meadangels.org/event/society-of-st-vincent-de-paul-meeting-2/2025-04-17/
LOCATION:Guardian Angels Catholic Church (Parish Conference Room)\, 109 S. 3rd Street\, Mead\, CO\, 10016\, United States
CATEGORIES:St. Vincent de Paul Society
ATTACH;FMTTYPE=image/jpeg:https://meadangels.org/wp-content/uploads/svdp-pink-small-scaled.jpg
ORGANIZER;CN="Rich Chopyak":MAILTO:svdp@meadangels.org
END:VEVENT
BEGIN:VEVENT
DTSTART;TZID=America/Denver:20250417T190000
DTEND;TZID=America/Denver:20250417T200000
DTSTAMP:20260420T155533
CREATED:20241212T184953Z
LAST-MODIFIED:20241217T042136Z
UID:10002247-1744916400-1744920000@meadangels.org
SUMMARY:Join Our Thursday Night Choir Rehearsals
DESCRIPTION:We are excited to announce that starting in January 2025\, choir rehearsals will be on Thursday evenings from 7:00 to 8:00 PM in the sanctuary. Whether you’re a seasoned singer or just starting out\, we warmly welcome you to join our choir. \n  \nRehearsals provide a wonderful opportunity to improve your vocal skills\, enjoy fellowship\, and contribute to our vibrant musical worship. No prior experience is necessary – all you need is a love for singing and a willingness to learn. \n  \nFor more information or to express your interest\, please reach out to Laura Davis at music@meadangels.org. \n  \nWe look forward to making beautiful music with you.
URL:https://meadangels.org/event/join-our-thursday-night-choir-rehearsals/2025-04-17/
LOCATION:Guardian Angels Catholic Church\, 109 S. 3rd Street\, Mead\, 80542\, United States
CATEGORIES:Music | Choir
ATTACH;FMTTYPE=image/jpeg:https://meadangels.org/wp-content/uploads/choir-small-scaled.jpg
END:VEVENT
BEGIN:VEVENT
DTSTART;VALUE=DATE:20250418
DTEND;VALUE=DATE:20250419
DTSTAMP:20260420T155533
CREATED:20250413T004104Z
LAST-MODIFIED:20250413T004104Z
UID:10002600-1744934400-1745020799@meadangels.org
SUMMARY:Good Friday Collection – Support Christians in the Holy Land
DESCRIPTION:As encouraged by Pope Francis\, there will be one special collection on Good Friday to support the Pontifical Good Friday Collection. Your generosity helps preserve the Christian presence in the Holy Land by supporting local Catholics in their parishes and schools\, and by maintaining the sacred shrines where Jesus walked and fulfilled our redemption. \n\nThis is a powerful way to stand in solidarity with our brothers and sisters in the land of Christ’s birth\, life\, death\, and resurrection. Please be generous. \n\nTo learn more about the Christians in the Holy Land\, visit www.myfranciscan.org or www.custodia.org. \n\nGood Friday Mass begins at 7:00 PM\, followed by a viewing of The Passion of the Christ at 8:40 PM in the CC Center.
URL:https://meadangels.org/event/good-friday-collection-support-christians-in-the-holy-land/
END:VEVENT
BEGIN:VEVENT
DTSTART;TZID=America/Denver:20250418T204000
DTEND;TZID=America/Denver:20250418T230000
DTSTAMP:20260420T155533
CREATED:20250412T222021Z
LAST-MODIFIED:20250412T230946Z
UID:10002597-1745008800-1745017200@meadangels.org
SUMMARY:"Passion of the Christ" Viewing on Good Friday
DESCRIPTION:The Knights of Columbus warmly invite you to stay after the Good Friday service for a special viewing of The Passion of the Christ in the CC Center. This powerful and moving film offers a profound reflection on Christ’s sacrifice. \nSoup and water will be provided in keeping with the spirit of the day. \nPlease RSVP to the parish office or contact Gerry at gerry_place@yahoo.com to help us plan accordingly. \nNote: The film is rated R for graphic depictions of the Passion.
URL:https://meadangels.org/event/passion-of-the-christ-viewing-on-good-friday/
LOCATION:Guardian Angels Catholic Church: Catechetical Center (CC Center)\, 109 S. 3rd Street\, Mead\, CO\, 80542\, United States
CATEGORIES:Knights of Columbus
END:VEVENT
END:VCALENDAR