BEGIN:VCALENDAR
VERSION:2.0
PRODID:-//Guardian Angels Catholic Church - ECPv6.15.20//NONSGML v1.0//EN
CALSCALE:GREGORIAN
METHOD:PUBLISH
X-WR-CALNAME:Guardian Angels Catholic Church
X-ORIGINAL-URL:https://meadangels.org
X-WR-CALDESC:Events for Guardian Angels Catholic Church
REFRESH-INTERVAL;VALUE=DURATION:PT1H
X-Robots-Tag:noindex
X-PUBLISHED-TTL:PT1H
BEGIN:VTIMEZONE
TZID:America/Denver
BEGIN:DAYLIGHT
TZOFFSETFROM:-0700
TZOFFSETTO:-0600
TZNAME:MDT
DTSTART:20230312T090000
END:DAYLIGHT
BEGIN:STANDARD
TZOFFSETFROM:-0600
TZOFFSETTO:-0700
TZNAME:MST
DTSTART:20231105T080000
END:STANDARD
BEGIN:DAYLIGHT
TZOFFSETFROM:-0700
TZOFFSETTO:-0600
TZNAME:MDT
DTSTART:20240310T090000
END:DAYLIGHT
BEGIN:STANDARD
TZOFFSETFROM:-0600
TZOFFSETTO:-0700
TZNAME:MST
DTSTART:20241103T080000
END:STANDARD
BEGIN:DAYLIGHT
TZOFFSETFROM:-0700
TZOFFSETTO:-0600
TZNAME:MDT
DTSTART:20250309T090000
END:DAYLIGHT
BEGIN:STANDARD
TZOFFSETFROM:-0600
TZOFFSETTO:-0700
TZNAME:MST
DTSTART:20251102T080000
END:STANDARD
BEGIN:DAYLIGHT
TZOFFSETFROM:-0700
TZOFFSETTO:-0600
TZNAME:MDT
DTSTART:20260308T090000
END:DAYLIGHT
BEGIN:STANDARD
TZOFFSETFROM:-0600
TZOFFSETTO:-0700
TZNAME:MST
DTSTART:20261101T080000
END:STANDARD
END:VTIMEZONE
BEGIN:VEVENT
DTSTART;VALUE=DATE:20240407
DTEND;VALUE=DATE:20250408
DTSTAMP:20260421T000759
CREATED:20240410T115908Z
LAST-MODIFIED:20241203T201508Z
UID:10000162-1712448000-1744070399@meadangels.org
SUMMARY:2024 Archbishop's Catholic Appeal
DESCRIPTION:The Archbishop’s Catholic Appeal is a vital initiative that supports the ministries and programs of our Catholic community. While most donations give hope\, support education\, and impart faith as they support 40+ ministries\, the Archdiocese allows our donations to be applied to our mortgage loan payment. \n  \nThe current loan balance is $1\,930\,250. Last year\, $93\,271 was applied to our loan. Our Acrhbishop’s Catholic Appeal (ACA) Goal for 2023 was $68\,752.  Thank you for your generosity. Our ACA Goal for 2024 is $69\,325. To give again visit www.archden.org/givetoday or call 303.867.0614. \n  \nArchbishop’s Catholic Appeal 2024\n\nGoal: $69\,325\nPledged to date: $104\,911\n% of Goal: 151.3 %\n\n  \n \n  \nAbout the Archbishop’s Catholic Appeal \nThe Archbishop’s Catholic Appeal is an annual fundraising campaign launched by our archdiocese to provide essential resources for the diverse ministries and programs that serve our parishioners and communities. \n  \nWhat the Archbishop’s Catholic Appeal Does \nThrough the generosity of donors like you\, the Archbishop’s Catholic Appeal supports various ministries\, including education\, outreach\, pastoral care\, and social services. Your contributions help fund initiatives that promote spiritual growth\, provide assistance to those in need\, and foster a vibrant Catholic community. \n  \nJoin the Archbishop’s Catholic Appeal \nParticipate in spreading Christ’s love and teachings by supporting the Appeal. \n  \nBenefits of Joining \n\nMake a difference\nStrengthen the Church\nExperience the joy of giving\n\n  \nWays to Contribute \nYou can support the Archbishop’s Catholic Appeal through one-time donations\, recurring pledges\, or planned giving options. Every contribution\, regardless of size\, makes a meaningful impact on the lives of others. \n  \nContact the Archbishop’s Catholic Appeal \nFor more information about the Archbishop’s Catholic Appeal or to make a donation\, please visit the Archdiocese of Denver’s website. \nThank you for your generous support. Together\, let us continue to build a stronger\, more vibrant Catholic community.
URL:https://meadangels.org/event/2024-archbishops-catholic-appeal/
CATEGORIES:Altar Linens,Altar Servers,Caring Hands Crafters,Children Formation,Collection Counters,Eucharistic Ministers,Facility Maintenance,Faith Outreach,Finance Council,FOCCUS,Hospitality,Knights of Columbus,Lectors,Liturgical Environment,MEADANGELS Ambassadors,Men's Group,Music | Choir,OCIA (Order of Christian Initiation for Adults),Sacristan,St. Vincent de Paul Society,Women's Group,Youth Formation (6th-8th),Youth Formation (9th-12th)
ATTACH;FMTTYPE=image/jpeg:https://meadangels.org/wp-content/uploads/postimage_collections.jpg
END:VEVENT
BEGIN:VEVENT
DTSTART;VALUE=DATE:20250114
DTEND;VALUE=DATE:20250325
DTSTAMP:20260421T000759
CREATED:20250114T193629Z
LAST-MODIFIED:20250118T204352Z
UID:10002549-1736812800-1742860799@meadangels.org
SUMMARY:Enroll Today at John Paul II High School in Windsor
DESCRIPTION:2025-26 Enrollment is Now Open \nAt John Paul II High School\, we are proud to announce a three-year tuition freeze\, ensuring that the cost of attending our school will remain unchanged through 2028. This commitment reflects our dedication to making Catholic education accessible and affordable for all families. \nAs our school president\, Mr. Gallic\, shares:\n“Catholic schools represent the best of what we are. During the formative years of high school\, being surrounded by the salvific news of Christ Jesus\, while being encouraged to grow into the full expression of the person HE made you to be\, is the birthright of all men and women.” \n  \nCONTACT INFORMATION \n📞 For questions about enrollment or the application process\, contact Emma Ward at 970.205.9141 or email eward@jp2hs.com. \n🌟 Visit www.jp2hs.com to learn more about our mission and programs. \nJoin us in shaping the future—enroll today. \n  \nIMPORTANT DATES \nJANUARY 26\, 2025: OPEN HOUSE\, following the 10:00am Mass at Our Lady of the Valley \nMARCH 8\, 2025: CLT PLACEMENT TEST\, 9:00am at Our Lady of the Valley Parish- please register by emailing eward@jp2hs.com \nMARCH 24\, 2025: REGULAR APPLICATION DEADLINE \n*APPLICANTS WHO APPLY AFTER MARCH 24 WILL BE PUT ON A WAITLIST AND BE ADMITTED ON A FIRST COME\, FIRST SERVED BASIS.
URL:https://meadangels.org/event/enroll-today-at-john-paul-ii-high-school-in-windsor/
ATTACH;FMTTYPE=image/jpeg:https://meadangels.org/wp-content/uploads/IMG_7858.jpeg
END:VEVENT
BEGIN:VEVENT
DTSTART;VALUE=DATE:20250209
DTEND;VALUE=DATE:20250310
DTSTAMP:20260421T000759
CREATED:20250209T210336Z
LAST-MODIFIED:20250209T210548Z
UID:10002580-1739059200-1741564799@meadangels.org
SUMMARY:Emmaus Catholic Hospice Receives Continued Support from Archbishop Aquila
DESCRIPTION:We are honored to once again receive the generous affirmation of commitment from Most Reverend Samuel J. Aquila\, Archbishop of Denver. With God’s grace\, Emmaus Catholic Hospice continues to grow as a Christ-centered\, Catholic home hospice ministry. \n  \nAs we recently welcomed our 75th patient\, we look forward to expanding our service area in the New Year. Our mission depends on the support of the Catholic community—through referrals\, education\, and financial support\, your parish plays a vital role in helping us honor the inherent dignity of human life at this most precious time. \n  \n📞 For questions or more information\, call us at 303.322.1413. \n✨ Read Archbishop Aquila’s letter reaffirming his support: Click here \nThank you\, and God bless you.
URL:https://meadangels.org/event/emmaus-catholic-hospice-receives-continued-support-from-archbishop-aquila/
END:VEVENT
BEGIN:VEVENT
DTSTART;VALUE=DATE:20250209
DTEND;VALUE=DATE:20250406
DTSTAMP:20260421T000759
CREATED:20250209T204625Z
LAST-MODIFIED:20250209T204911Z
UID:10002579-1739059200-1743897599@meadangels.org
SUMMARY:🎓 Knights of Columbus Scholarships – Apply Now
DESCRIPTION:High School Seniors: Are you looking for college scholarship opportunities? The Knights of Columbus Council 1313\, St. Francis of Assisi\, is offering the Martin Bersano College Scholarship to students attending college in Fall 2025. Two scholarships of $2\,000 each will be awarded based on your application and essay. \n  \nEighth Graders: Planning to attend a Catholic high school in Fall 2025? Apply for the John “Jack” Juenemann Scholarship\, a $1\,000 award for one deserving student. \n  \nFor over 23 years\, the Knights of Columbus Council 1313 has proudly supported education\, awarding more than $40\,000 in scholarships. Winners will be announced in April. \n  \n📅 Deadline: Completed applications and essays are due by April 5\, 2025. \n📩 For more information and to request an application\, email: koc1313scholarship@gmail.com
URL:https://meadangels.org/event/%f0%9f%8e%93-knights-of-columbus-scholarships-apply-now/
CATEGORIES:Knights of Columbus
END:VEVENT
BEGIN:VEVENT
DTSTART;VALUE=DATE:20250309
DTEND;VALUE=DATE:20250310
DTSTAMP:20260421T000759
CREATED:20240528T234607Z
LAST-MODIFIED:20250413T003009Z
UID:10001708-1741478400-1741564799@meadangels.org
SUMMARY:Marriage Blessings Every 2nd Sunday of the Month
DESCRIPTION:Marriage blessings will be bestowed during all Masses for those who have celebrated an anniversary in the past month. It is a beautiful opportunity to celebrate love and commitment.
URL:https://meadangels.org/event/marriage-blessings-every-2nd-sunday-of-the-month/2025-03-09/
CATEGORIES:Marriage
ATTACH;FMTTYPE=image/jpeg:https://meadangels.org/wp-content/uploads/IMG_7133.jpeg
END:VEVENT
BEGIN:VEVENT
DTSTART;TZID=America/Denver:20250309T180000
DTEND;TZID=America/Denver:20250309T193000
DTSTAMP:20260421T000759
CREATED:20250110T192324Z
LAST-MODIFIED:20250412T223541Z
UID:10002510-1741543200-1741548600@meadangels.org
SUMMARY:Youth Formation (9th-12th Grade) Ministry Meets Every Sunday Night
DESCRIPTION:📅 Join the Youth Formation Ministry (9th–12th Grade) Ministry\nHigh school youth group meets every Sunday night from 6:00 PM – 7:30 PM during the school year. Teens will participate in faith-based games\, service projects\, and social events. Be sure to check the weekly bulletin for important updates on dates and times. \n  \n✨ Empowering Teenagers in Faith \nWe guide high school students on their faith journey with engaging discussions\, activities\, and a welcoming community. \n💛 About Us\nOur ministry creates a supportive space where teenagers can explore their faith\, build relationships\, and deepen their connection with God. \n📖 What We Do\nWe focus on catechesis\, sacramental preparation\, and helping teens build a strong\, personal relationship with God. \n🌟 Benefits of Joining\nMake an impact\, grow spiritually\, and form lasting friendships. Get involved with your parish while having fun and meeting new people. \nWe can’t wait to see you there.
URL:https://meadangels.org/event/youth-formation-9th-12th-grade-ministry-meets-every-sunday-night/2025-03-09/
CATEGORIES:Youth Formation (9th-12th)
END:VEVENT
BEGIN:VEVENT
DTSTART;TZID=America/Denver:20250309T180000
DTEND;TZID=America/Denver:20250309T193000
DTSTAMP:20260421T000759
CREATED:20250117T224641Z
LAST-MODIFIED:20250412T223637Z
UID:10002490-1741543200-1741548600@meadangels.org
SUMMARY:Youth Formation (6th-8th Grade) Ministry Meets Every Sunday Night
DESCRIPTION:📅 Join the Youth Formation (6th-8th Grade) Ministry\nMiddle school youth group meets every Sunday night from 6:00 PM – 7:30 PM during the school year. Check the weekly bulletin for updates on dates and times. \n  \n✨ Engaging Young Hearts in Faith \nWe invite young adolescents to deepen their faith journey through interactive lessons\, activities\, and a supportive community. \n💛 About Us\nOur youth group offers a nurturing environment where middle schoolers can grow spiritually and gain a deeper understanding of the Catholic faith. \n📖 What We Do\nWe focus on catechesis\, sacramental preparation\, and instilling Christian values through faith-based games\, service projects\, and social activities. \n  \nCome for the fun\, stay for the faith. We look forward to welcoming your child into our community.
URL:https://meadangels.org/event/youth-formation-6th-8th-grade-ministry-meets-every-sunday-night-2/2025-03-09/
CATEGORIES:Youth Formation (6th-8th)
END:VEVENT
BEGIN:VEVENT
DTSTART;TZID=America/Denver:20250310T090000
DTEND;TZID=America/Denver:20250310T110000
DTSTAMP:20260421T000759
CREATED:20240409T214444Z
LAST-MODIFIED:20250110T183320Z
UID:10000252-1741597200-1741604400@meadangels.org
SUMMARY:Caring Hands Crafters Meeting
DESCRIPTION:We create handmade items with love and care to bring comfort and support to those in need within our Catholic community. Whether you’re an experienced crafter or just starting out\, there’s a place for you to make a difference in our community. New members of all ages (women and men) and talents (woodworkers\, metal workers\, artists\, crafters) are welcome. Caring Hands Crafters meet every Monday at 9 – 11 am in the Catechetical Center (CC Center). \n 
URL:https://meadangels.org/event/caring-hands-crafters-meeting/2025-03-10/
LOCATION:Guardian Angels Catholic Church: Catechetical Center (CC Center)\, 109 S. 3rd Street\, Mead\, CO\, 80542\, United States
CATEGORIES:Caring Hands Crafters
ATTACH;FMTTYPE=image/jpeg:https://meadangels.org/wp-content/uploads/IMG_7847.jpeg
END:VEVENT
BEGIN:VEVENT
DTSTART;TZID=America/Denver:20250310T113000
DTEND;TZID=America/Denver:20250310T130000
DTSTAMP:20260421T000759
CREATED:20250110T183617Z
LAST-MODIFIED:20250110T183617Z
UID:10002265-1741606200-1741611600@meadangels.org
SUMMARY:Bible Study Every Monday
DESCRIPTION:When: Mondays\, 11:30 AM – 1:00 PM\nWhere: CC Center\nLed by: Sandy Gross \nJoin us for an enriching time of fellowship and learning as we dive into the Word of God together. Led by Sandy Gross\, this weekly Bible study offers an opportunity to explore scripture\, deepen your faith\, and connect with others in a supportive and welcoming environment. \nWhether you’re new to Bible study or have been attending for years\, all are welcome to participate. Bring your Bible\, your questions\, and an open heart. We look forward to seeing you there.
URL:https://meadangels.org/event/bible-study-every-monday-2-2/2025-03-10/
LOCATION:Guardian Angels Catholic Church: Catechetical Center (CC Center)\, 109 S. 3rd Street\, Mead\, CO\, 80542\, United States
CATEGORIES:Faith Outreach
ATTACH;FMTTYPE=image/jpeg:https://meadangels.org/wp-content/uploads/IMG_7845.jpeg
END:VEVENT
BEGIN:VEVENT
DTSTART;TZID=America/Denver:20250311T070000
DTEND;TZID=America/Denver:20250311T080000
DTSTAMP:20260421T000759
CREATED:20250110T194152Z
LAST-MODIFIED:20250110T195515Z
UID:10000513-1741676400-1741680000@meadangels.org
SUMMARY:Mead Angels Men's Bible Study Every Tuesday
DESCRIPTION:Discover the Mead Angels Men’s Bible Study. Join us every Tuesday from 7-8 am in Bakhita Hall. Led by Deacon Chris\, this session is a chance for men to delve into Scripture\, grow in faith\, and build community. All are welcome\, whether you’re a seasoned Bible scholar or new to studying God’s Word. Come for engaging discussions\, prayer\, and fellowship as we strengthen our spiritual journey together.
URL:https://meadangels.org/event/mead-angels-mens-bible-study-every-tuesday-3-2/2025-03-11/
LOCATION:Guardian Angels Catholic Church (Bakhita Hall)\, 109 S. 3rd Street\, Mead\, CO\, 80542\, United States
CATEGORIES:Faith Outreach,Men's Group
ATTACH;FMTTYPE=image/jpeg:https://meadangels.org/wp-content/uploads/IMG_7845.jpeg
ORGANIZER;CN="Deacon Chris Hora":MAILTO:deacon.chris@meadangels.org
END:VEVENT
BEGIN:VEVENT
DTSTART;TZID=America/Denver:20250311T100000
DTEND;TZID=America/Denver:20250311T120000
DTSTAMP:20260421T000759
CREATED:20241205T225804Z
LAST-MODIFIED:20260131T013224Z
UID:10002188-1741687200-1741694400@meadangels.org
SUMMARY:Silvers: A Social Group for Ages 60+
DESCRIPTION:📅 When: 2nd and 4th Tuesdays of the month\n⏰ Time: 10 am\n\nSilvers is a welcoming group for anyone aged 60 and up. Join us for coffee ☕️\, card games\, and plenty of laughter. Connect with friends and enjoy a relaxing morning in great company.
URL:https://meadangels.org/event/silvers-a-social-group-for-ages-60-2/2025-03-11/
ATTACH;FMTTYPE=image/jpeg:https://meadangels.org/wp-content/uploads/IMG_8031.jpeg
END:VEVENT
BEGIN:VEVENT
DTSTART;TZID=America/Denver:20250311T163000
DTEND;TZID=America/Denver:20250311T173000
DTSTAMP:20260421T000759
CREATED:20250310T181036Z
LAST-MODIFIED:20250310T182616Z
UID:10002586-1741710600-1741714200@meadangels.org
SUMMARY:Fr. Ron on Catholic Radio – Tune In 📻
DESCRIPTION:Exciting news. Fr. Ron will be on Catholic radio\, Gabriel 3 (1060 AM\, 1120 AM\, and 970 AM) on Tuesday\, March 11\, from 4:30 to 5:30 PM. \nDon’t miss this opportunity to hear him share his thoughts. Listen on the radio or stream online at www.catholicradio.com. \nMark your calendar and spread the word.
URL:https://meadangels.org/event/fr-ron-on-catholic-radio-tune-in-%f0%9f%93%bb/
END:VEVENT
BEGIN:VEVENT
DTSTART;TZID=America/Denver:20250311T183000
DTEND;TZID=America/Denver:20250311T203000
DTSTAMP:20260421T000759
CREATED:20241205T231531Z
LAST-MODIFIED:20241205T232906Z
UID:10002218-1741717800-1741725000@meadangels.org
SUMMARY:Join Us for the Knights of Columbus Business Meeting
DESCRIPTION:When: Every 2nd Tuesday of the month\nTime: 6:30 PM – 8:30 PM \nThe Knights of Columbus business meeting is a time to come together\, strengthen our bonds\, and make impactful decisions that support our mission of charity\, unity\, and fraternity. \nWhether you’re a long-time member or new to our council\, your voice and participation are vital to our success. Together\, we plan events\, discuss charitable initiatives\, and celebrate the shared commitment that defines the Knights of Columbus. \nBring your ideas\, enthusiasm\, and dedication as we work to serve our church and community. Refreshments may be provided\, and camaraderie is guaranteed. \nWe look forward to seeing you there. \nFor more information or questions\, please contact Lou Bustamante at 720.530.4520 or Knights15857@outlook.com.
URL:https://meadangels.org/event/join-us-for-the-knights-of-columbus-business-meeting/2025-03-11/
CATEGORIES:Knights of Columbus
END:VEVENT
BEGIN:VEVENT
DTSTART;TZID=America/Denver:20250312T180000
DTEND;TZID=America/Denver:20250312T191500
DTSTAMP:20260421T000759
CREATED:20250212T204327Z
LAST-MODIFIED:20250412T224023Z
UID:10002536-1741802400-1741806900@meadangels.org
SUMMARY:Children Formation (Kindergarten-5th Grade) Ministry Meets Every Wednesday Night
DESCRIPTION:📅 Join the Children Formation (Kindergarten-5th Grade) Ministry\nJoin us Wednesday nights from 6:00–7:15 PM (September–April) to learn about Jesus and His incredible love for you. Meet new friends\, sing\, pray\, giggle\, and grow in faith. \n  \n✨ Nurturing Young Catholics’ Faith \nWe offer engaging programs and educational opportunities to help children grow in their Catholic faith. \n📖 About Us\nWe provide age-appropriate instruction that fosters a strong sense of belonging within the Catholic community. \n🌟 What We Do\nThrough religious education\, sacramental preparation\, and special events\, we empower children to grow spiritually. Look forward to fun events throughout the year: \n\nSaints in the Graveyard\nPet Blessings\nThanksgiving Service Project\nChristmas Program\nStations of the Cross\nIce Cream Socials\n\nWe can’t wait to see you there.
URL:https://meadangels.org/event/children-formation-kindergarten-5th-grade-ministry-meets-every-wednesday-night-2/2025-03-12/
CATEGORIES:Children Formation
ATTACH;FMTTYPE=image/jpeg:https://meadangels.org/wp-content/uploads/childrenFormation-scaled.jpg
END:VEVENT
BEGIN:VEVENT
DTSTART;TZID=America/Denver:20250312T180500
DTEND;TZID=America/Denver:20250312T191000
DTSTAMP:20260421T000759
CREATED:20250212T204600Z
LAST-MODIFIED:20250412T224223Z
UID:10002418-1741802700-1741806600@meadangels.org
SUMMARY:Adult / Teen Faith Formation Every Wednesday Night
DESCRIPTION:📅  When: Every Wednesday \n⏰  Time: 6:05 PM – 7:10 PM\n📍  Where: Bakihta Hall\n👩‍🏫  Led by: Sandy Gross \nJoin us for a meaningful evening of fellowship and learning as we explore the Word of God together. Led by Sandy Gross\, this weekly faith formation session provides an opportunity to grow in your faith\, reflect on scripture\, and connect with a welcoming community. \nAll are welcome. Bring your Bible\, your questions\, and an open heart. We look forward to growing in faith with you.
URL:https://meadangels.org/event/adult-teen-faith-formation-every-wednesday-night-2/2025-03-12/
LOCATION:Guardian Angels Catholic Church (Bakhita Hall)\, 109 S. 3rd Street\, Mead\, CO\, 80542\, United States
CATEGORIES:Faith Outreach,Youth Formation (9th-12th)
ORGANIZER;CN="Sandy Gross":MAILTO:faithOutreach@meadangels.org
END:VEVENT
BEGIN:VEVENT
DTSTART;VALUE=DATE:20250313
DTEND;VALUE=DATE:20250316
DTSTAMP:20260421T000759
CREATED:20250223T191534Z
LAST-MODIFIED:20250223T192018Z
UID:10002584-1741824000-1742083199@meadangels.org
SUMMARY:Unveiled Couples' Retreat
DESCRIPTION:March 13-15 | Our Lady of the Valley\, Windsor\, CO \nStrengthen and renew your marriage at the Unveiled Couples’ Retreat\, a special opportunity for couples to grow in faith and deepen their bond. \nRead a letter from the Archbishop encouraging couples in our area to attend this transformative retreat. Guardian Angels will underwrite a portion of the retreat cost for Guardian Angels parishioners. \n\n\n\n📅 Dates: March 13-15\n📍 Location: Our Lady of the Valley\, Windsor\, CO\n\n\n\nTo make arrangements\, contact the parish office today.
URL:https://meadangels.org/event/unveiled-couples-retreat/
LOCATION:Our Lady of the Valley Catholic Church\, 1250 7th Street\, Windsor\, CO\, 80550\, United States
END:VEVENT
BEGIN:VEVENT
DTSTART;TZID=America/Denver:20250313T190000
DTEND;TZID=America/Denver:20250313T200000
DTSTAMP:20260421T000759
CREATED:20241212T184953Z
LAST-MODIFIED:20241217T042136Z
UID:10002242-1741892400-1741896000@meadangels.org
SUMMARY:Join Our Thursday Night Choir Rehearsals
DESCRIPTION:We are excited to announce that starting in January 2025\, choir rehearsals will be on Thursday evenings from 7:00 to 8:00 PM in the sanctuary. Whether you’re a seasoned singer or just starting out\, we warmly welcome you to join our choir. \n  \nRehearsals provide a wonderful opportunity to improve your vocal skills\, enjoy fellowship\, and contribute to our vibrant musical worship. No prior experience is necessary – all you need is a love for singing and a willingness to learn. \n  \nFor more information or to express your interest\, please reach out to Laura Davis at music@meadangels.org. \n  \nWe look forward to making beautiful music with you.
URL:https://meadangels.org/event/join-our-thursday-night-choir-rehearsals/2025-03-13/
LOCATION:Guardian Angels Catholic Church\, 109 S. 3rd Street\, Mead\, 80542\, United States
CATEGORIES:Music | Choir
ATTACH;FMTTYPE=image/jpeg:https://meadangels.org/wp-content/uploads/choir-small-scaled.jpg
END:VEVENT
BEGIN:VEVENT
DTSTART;VALUE=DATE:20250315
DTEND;VALUE=DATE:20250317
DTSTAMP:20260421T000759
CREATED:20250310T182447Z
LAST-MODIFIED:20250310T182447Z
UID:10002589-1741996800-1742169599@meadangels.org
SUMMARY:Giving Weekend – March 15-16
DESCRIPTION:The Knights of Columbus are hosting a food drive for March Giving Weekend. Join us in helping those in need by donating non-perishable food items to support our local food banks. \nEvery contribution makes a difference—let’s come together to share our blessings with those less fortunate. Thank you for your generosity.
URL:https://meadangels.org/event/giving-weekend-march-15-16/
END:VEVENT
BEGIN:VEVENT
DTSTART;TZID=America/Denver:20250315T183000
DTEND;TZID=America/Denver:20250315T210000
DTSTAMP:20260421T000759
CREATED:20250310T181640Z
LAST-MODIFIED:20250310T181640Z
UID:10002587-1742063400-1742072400@meadangels.org
SUMMARY:Join Us for 🍿 Movie "Knight"
DESCRIPTION:Join us for a fun-filled Movie “Knight” on Saturday\, March 15. The Knights of Columbus will be serving up delicious burgers and hot dogs at 6:30 PM\, followed by a special screening of Wild Robot on the big screen at 7:00 PM\, complete with popcorn. \nBest of all\, it’s FREE. Bring your family and friends for a great night of food\, fellowship\, and film. See you there.
URL:https://meadangels.org/event/join-us-for-%f0%9f%8d%bf-movie-knight/
END:VEVENT
END:VCALENDAR