BEGIN:VCALENDAR
VERSION:2.0
PRODID:-//Guardian Angels Catholic Church - ECPv6.15.20//NONSGML v1.0//EN
CALSCALE:GREGORIAN
METHOD:PUBLISH
X-ORIGINAL-URL:https://meadangels.org
X-WR-CALDESC:Events for Guardian Angels Catholic Church
REFRESH-INTERVAL;VALUE=DURATION:PT1H
X-Robots-Tag:noindex
X-PUBLISHED-TTL:PT1H
BEGIN:VTIMEZONE
TZID:America/Denver
BEGIN:DAYLIGHT
TZOFFSETFROM:-0700
TZOFFSETTO:-0600
TZNAME:MDT
DTSTART:20230312T090000
END:DAYLIGHT
BEGIN:STANDARD
TZOFFSETFROM:-0600
TZOFFSETTO:-0700
TZNAME:MST
DTSTART:20231105T080000
END:STANDARD
BEGIN:DAYLIGHT
TZOFFSETFROM:-0700
TZOFFSETTO:-0600
TZNAME:MDT
DTSTART:20240310T090000
END:DAYLIGHT
BEGIN:STANDARD
TZOFFSETFROM:-0600
TZOFFSETTO:-0700
TZNAME:MST
DTSTART:20241103T080000
END:STANDARD
BEGIN:DAYLIGHT
TZOFFSETFROM:-0700
TZOFFSETTO:-0600
TZNAME:MDT
DTSTART:20250309T090000
END:DAYLIGHT
BEGIN:STANDARD
TZOFFSETFROM:-0600
TZOFFSETTO:-0700
TZNAME:MST
DTSTART:20251102T080000
END:STANDARD
BEGIN:DAYLIGHT
TZOFFSETFROM:-0700
TZOFFSETTO:-0600
TZNAME:MDT
DTSTART:20260308T090000
END:DAYLIGHT
BEGIN:STANDARD
TZOFFSETFROM:-0600
TZOFFSETTO:-0700
TZNAME:MST
DTSTART:20261101T080000
END:STANDARD
END:VTIMEZONE
BEGIN:VEVENT
DTSTART;VALUE=DATE:20240407
DTEND;VALUE=DATE:20250408
DTSTAMP:20260420T154620
CREATED:20240410T115908Z
LAST-MODIFIED:20241203T201508Z
UID:10000162-1712448000-1744070399@meadangels.org
SUMMARY:2024 Archbishop's Catholic Appeal
DESCRIPTION:The Archbishop’s Catholic Appeal is a vital initiative that supports the ministries and programs of our Catholic community. While most donations give hope\, support education\, and impart faith as they support 40+ ministries\, the Archdiocese allows our donations to be applied to our mortgage loan payment. \n  \nThe current loan balance is $1\,930\,250. Last year\, $93\,271 was applied to our loan. Our Acrhbishop’s Catholic Appeal (ACA) Goal for 2023 was $68\,752.  Thank you for your generosity. Our ACA Goal for 2024 is $69\,325. To give again visit www.archden.org/givetoday or call 303.867.0614. \n  \nArchbishop’s Catholic Appeal 2024\n\nGoal: $69\,325\nPledged to date: $104\,911\n% of Goal: 151.3 %\n\n  \n \n  \nAbout the Archbishop’s Catholic Appeal \nThe Archbishop’s Catholic Appeal is an annual fundraising campaign launched by our archdiocese to provide essential resources for the diverse ministries and programs that serve our parishioners and communities. \n  \nWhat the Archbishop’s Catholic Appeal Does \nThrough the generosity of donors like you\, the Archbishop’s Catholic Appeal supports various ministries\, including education\, outreach\, pastoral care\, and social services. Your contributions help fund initiatives that promote spiritual growth\, provide assistance to those in need\, and foster a vibrant Catholic community. \n  \nJoin the Archbishop’s Catholic Appeal \nParticipate in spreading Christ’s love and teachings by supporting the Appeal. \n  \nBenefits of Joining \n\nMake a difference\nStrengthen the Church\nExperience the joy of giving\n\n  \nWays to Contribute \nYou can support the Archbishop’s Catholic Appeal through one-time donations\, recurring pledges\, or planned giving options. Every contribution\, regardless of size\, makes a meaningful impact on the lives of others. \n  \nContact the Archbishop’s Catholic Appeal \nFor more information about the Archbishop’s Catholic Appeal or to make a donation\, please visit the Archdiocese of Denver’s website. \nThank you for your generous support. Together\, let us continue to build a stronger\, more vibrant Catholic community.
URL:https://meadangels.org/event/2024-archbishops-catholic-appeal/
CATEGORIES:Altar Linens,Altar Servers,Caring Hands Crafters,Children Formation,Collection Counters,Eucharistic Ministers,Facility Maintenance,Faith Outreach,Finance Council,FOCCUS,Hospitality,Knights of Columbus,Lectors,Liturgical Environment,MEADANGELS Ambassadors,Men's Group,Music | Choir,OCIA (Order of Christian Initiation for Adults),Sacristan,St. Vincent de Paul Society,Women's Group,Youth Formation (6th-8th),Youth Formation (9th-12th)
ATTACH;FMTTYPE=image/jpeg:https://meadangels.org/wp-content/uploads/postimage_collections.jpg
END:VEVENT
BEGIN:VEVENT
DTSTART;VALUE=DATE:20240411
DTEND;VALUE=DATE:20241106
DTSTAMP:20260420T154620
CREATED:20240411T061441Z
LAST-MODIFIED:20240519T181814Z
UID:10000168-1712793600-1730851199@meadangels.org
SUMMARY:Catholic Voter's Guide
DESCRIPTION:The Colorado Catholic Conference advocates for the Catholic Church’s positions on public policy issues in the state\, promoting the dignity of human life\, social justice\, and the common good through legislative efforts and public engagement. \n  \nDuring this critical election year\, frequently visit The Colorado Catholic Conference website for information on legislative bills\, analysis\, letters from your bishops\, and guidance on voting as a Catholic. \n  \nThe 2024 Colorado Legislative Assembly has ended. Visit the Colorado Catholic Conference for a summary of the season. Copies are available on the hospitality cart.
URL:https://meadangels.org/event/catholic-voters-guide/
ATTACH;FMTTYPE=image/jpeg:https://meadangels.org/wp-content/uploads/voted-stickers-scaled.jpg
END:VEVENT
BEGIN:VEVENT
DTSTART;VALUE=DATE:20241103
DTEND;VALUE=DATE:20241111
DTSTAMP:20260420T154620
CREATED:20241101T023022Z
LAST-MODIFIED:20241101T023022Z
UID:10002137-1730592000-1731283199@meadangels.org
SUMMARY:National Vocation Awareness Week: November 3 - 10
DESCRIPTION:During National Vocation Awareness Week\, we invite you to join us in prayer for an increase in vocations to the priesthood and religious life. Please pray the following Serran Prayer for Vocations: \nO God\, who wills not the death of a sinner\, but rather that he be converted and live\, grant we beseech You through the intercession of the Blessed Mary\, ever Virgin\, Saint Joseph\, her spouse\, Saint Junipero Serra\, and all the saints\, an increase of labourers for your Church\, fellow labourers with Christ to spend and consume themselves for souls\, through the same Jesus Christ\, Your Son\, who lives and reigns with You\, in the unity of the Holy Spirit\, God forever and ever. Amen. \nLet us come together in faith to support those called to serve in our Church.
URL:https://meadangels.org/event/national-vocation-awareness-week-november-3-10/
END:VEVENT
BEGIN:VEVENT
DTSTART;TZID=America/Denver:20241103T180000
DTEND;TZID=America/Denver:20241103T193000
DTSTAMP:20260420T154620
CREATED:20241010T211848Z
LAST-MODIFIED:20241010T212249Z
UID:10002115-1730656800-1730662200@meadangels.org
SUMMARY:Youth Formation (6th-8th) Meeting
DESCRIPTION:All middle school youth group meet on Sunday nights 6 — 7:30 pm during the school year. The middle schoolers work on faith-based games\, service projects\, and socials. Keep an eye on the weekly bulletin for important dates and times.
URL:https://meadangels.org/event/youth-formation-6th-8th-meeting/2024-11-03/
LOCATION:Guardian Angels Catholic Church\, 109 S. 3rd Street\, Mead\, 80542\, United States
ATTACH;FMTTYPE=image/jpeg:https://meadangels.org/wp-content/uploads/youthMiddle-small-scaled.jpg
END:VEVENT
BEGIN:VEVENT
DTSTART;TZID=America/Denver:20241103T180000
DTEND;TZID=America/Denver:20241103T193000
DTSTAMP:20260420T154620
CREATED:20241010T213019Z
LAST-MODIFIED:20241010T213019Z
UID:10002125-1730656800-1730662200@meadangels.org
SUMMARY:Youth Formation (9th-12th) Meeting
DESCRIPTION:Our ministry provides a supportive environment for teenagers to explore and grow in their faith. We focus on catechesis\, sacramental preparation\, and fostering a deep relationship with God. The high schoolers work on faith-based games\, service projects\, and socials. Keep an eye on the weekly bulletin for important dates and times. \n 
URL:https://meadangels.org/event/youth-formation-9th-12th-meeting/2024-11-03/
LOCATION:Guardian Angels Catholic Church\, 109 S. 3rd Street\, Mead\, 80542\, United States
ATTACH;FMTTYPE=image/jpeg:https://meadangels.org/wp-content/uploads/youthHS-small-scaled.jpg
END:VEVENT
BEGIN:VEVENT
DTSTART;TZID=America/Denver:20241104T090000
DTEND;TZID=America/Denver:20241104T110000
DTSTAMP:20260420T154620
CREATED:20240409T214444Z
LAST-MODIFIED:20250110T183320Z
UID:10000234-1730710800-1730718000@meadangels.org
SUMMARY:Caring Hands Crafters Meeting
DESCRIPTION:We create handmade items with love and care to bring comfort and support to those in need within our Catholic community. Whether you’re an experienced crafter or just starting out\, there’s a place for you to make a difference in our community. New members of all ages (women and men) and talents (woodworkers\, metal workers\, artists\, crafters) are welcome. Caring Hands Crafters meet every Monday at 9 – 11 am in the Catechetical Center (CC Center). \n 
URL:https://meadangels.org/event/caring-hands-crafters-meeting/2024-11-04/
LOCATION:Guardian Angels Catholic Church: Catechetical Center (CC Center)\, 109 S. 3rd Street\, Mead\, CO\, 80542\, United States
CATEGORIES:Caring Hands Crafters
ATTACH;FMTTYPE=image/jpeg:https://meadangels.org/wp-content/uploads/IMG_7847.jpeg
END:VEVENT
BEGIN:VEVENT
DTSTART;TZID=America/Denver:20241105T070000
DTEND;TZID=America/Denver:20241105T080000
DTSTAMP:20260420T154620
CREATED:20240909T165502Z
LAST-MODIFIED:20241216T200139Z
UID:10000495-1730790000-1730793600@meadangels.org
SUMMARY:Mead Angels Men's Bible Study Every Tuesday
DESCRIPTION:Discover the Mead Angels Men’s Bible Study. Join us every Tuesday from 7-8 am in Bakhita Hall. Led by Deacon Chris\, this session is a chance for men to delve into Scripture\, grow in faith\, and build community. All are welcome\, whether you’re a seasoned Bible scholar or new to studying God’s Word. Come for engaging discussions\, prayer\, and fellowship as we strengthen our spiritual journey together.
URL:https://meadangels.org/event/mead-angels-mens-bible-study-every-tuesday-3/2024-11-05/
LOCATION:Guardian Angels Catholic Church (Bakhita Hall)\, 109 S. 3rd Street\, Mead\, CO\, 80542\, United States
CATEGORIES:Faith Outreach,Men's Group
ATTACH;FMTTYPE=image/jpeg:https://meadangels.org/wp-content/uploads/male-reading-scaled.jpg
ORGANIZER;CN="Deacon Chris Hora":MAILTO:deacon.chris@meadangels.org
END:VEVENT
BEGIN:VEVENT
DTSTART;TZID=America/Denver:20241105T190000
DTEND;TZID=America/Denver:20241105T200000
DTSTAMP:20260420T154620
CREATED:20240910T051613Z
LAST-MODIFIED:20241216T200304Z
UID:10001865-1730833200-1730836800@meadangels.org
SUMMARY:Join Our Tuesday Night Choir Rehearsals
DESCRIPTION:We are excited to announce that our Tuesday night choir rehearsals will resume on August 20th from 7:00 to 8:00 PM in the sanctuary. Whether you’re a seasoned singer or just starting out\, we warmly welcome you to join our choir. \n  \nRehearsals provide a wonderful opportunity to improve your vocal skills\, enjoy fellowship\, and contribute to our vibrant musical worship. No prior experience is necessary – all you need is a love for singing and a willingness to learn. \n  \nFor more information or to express your interest\, please reach out to Laura Davis at music@meadangels.org. \n  \nWe look forward to making beautiful music with you.
URL:https://meadangels.org/event/join-our-tuesday-night-choir-rehearsals-2/2024-11-05/
LOCATION:Guardian Angels Catholic Church\, 109 S. 3rd Street\, Mead\, 80542\, United States
CATEGORIES:Music | Choir
ATTACH;FMTTYPE=image/jpeg:https://meadangels.org/wp-content/uploads/choir-small-scaled.jpg
END:VEVENT
BEGIN:VEVENT
DTSTART;TZID=America/Denver:20241106T173000
DTEND;TZID=America/Denver:20241106T193000
DTSTAMP:20260420T154620
CREATED:20241010T205808Z
LAST-MODIFIED:20241010T210114Z
UID:10002053-1730914200-1730921400@meadangels.org
SUMMARY:Children Formation Meeting
DESCRIPTION:Through religious education\, sacramental preparation\, and events\, we empower children to grow spiritually. Events to look forward to during the year: \n\nSaints in the graveyard\nPet blessings\nThanksgiving Service Project\nChristmas Program\nStations of the Cross\nIce cream socials\n\nJoin Us on Wednesday nights (from September – May) at 5:30 – 7:30 PM.
URL:https://meadangels.org/event/children-formation-meeting/2024-11-06/
LOCATION:Guardian Angels Catholic Church\, 109 S. 3rd Street\, Mead\, 80542\, United States
ATTACH;FMTTYPE=image/jpeg:https://meadangels.org/wp-content/uploads/childrenFormation-scaled.jpg
END:VEVENT
BEGIN:VEVENT
DTSTART;VALUE=DATE:20241107
DTEND;VALUE=DATE:20241112
DTSTAMP:20260420T154620
CREATED:20241107T175357Z
LAST-MODIFIED:20241107T175357Z
UID:10002152-1730937600-1731369599@meadangels.org
SUMMARY:Capuchin Franciscans 16th Annual Road to Rome Raffle
DESCRIPTION:Win a Trip of a Lifetime\nHere’s your chance to support the Capuchin Franciscans’ mission among the poor and marginalized\, and win one of four unforgettable travel prizes. \nNovember Early Bird Prize\nAct fast! Purchase tickets by midnight on November 11 to enter the November 12 Early Bird Drawing for a luxurious 4-night stay for two at the award-winning Huff House Inn in Jackson Hole\, WY. Nestled minutes from Yellowstone and Grand Teton National Parks\, this Trip Advisor #1-ranked accommodation promises a memorable getaway. \nOther Spectacular Prizes Include:\n\n7-Day Alaskan Railroad Adventure for Two: Embark on an unforgettable journey through Alaska’s rugged beauty.\n12-Day British Isles Cruise for Two: Set sail from Amsterdam on a remarkable exploration of the British Isles.\nGrand Prize: An Italian Dream Vacation for Four. Discover Rome\, Pompeii\, Sorrento\, and the breathtaking Amalfi Coast\, with airfare\, accommodations\, and guided tours included.\n\nTickets are only $50 each with discounted bundle options—3 for $135\, 5 for $220\, or 10 for $400. Don’t miss out on this opportunity to make a difference and win big. \nFinal Drawing\nThe final drawing will take place on December 12\, 2024.
URL:https://meadangels.org/event/capuchin-franciscans-16th-annual-road-to-rome-raffle/
END:VEVENT
BEGIN:VEVENT
DTSTART;TZID=America/Denver:20241107T190000
DTEND;TZID=America/Denver:20241107T200000
DTSTAMP:20260420T154620
CREATED:20240411T230808Z
LAST-MODIFIED:20240508T041031Z
UID:10001495-1731006000-1731009600@meadangels.org
SUMMARY:Society of St. Vincent de Paul Meeting
DESCRIPTION:The St. Vincent de Paul Society conference at Guardian Angels was formed in October 2021. Since that time our group has learned much about each other and our neighbors in need. We continue to provide assistance to neighbors in Mead\, Berthoud\, Longmont\, Platteville\, and other nearby communities. We provide not only material assistance such as rent\, utilities\, telephone bills\, fuel\, and groceries but also offer friendship\, understanding\, and prayer. \n  \nMost of the financial assistance we provide comes from the generosity of Guardian Angels parishioners. We provided almost $8000 in rent assistance locally over the previous year thanks\, in large part to the generosity of Guardian Angels parishioners. With growing needs\, we have already exceeded $8000 in rent assistance in the six months of the current fiscal year. \n  \nAttend this meeting to join our Society of St. Vincent de Paul at Guardian Angels so we can do more for those in need in our community. We meet on the first and third Thursdays of each month at 7 pm in the parish conference room and on Zoom.
URL:https://meadangels.org/event/society-of-st-vincent-de-paul-meeting-3/2024-11-07/
LOCATION:Guardian Angels Catholic Church (Parish Conference Room)\, 109 S. 3rd Street\, Mead\, CO\, 10016\, United States
CATEGORIES:St. Vincent de Paul Society
ATTACH;FMTTYPE=image/jpeg:https://meadangels.org/wp-content/uploads/svdp-pink-small-scaled.jpg
ORGANIZER;CN="Rich Chopyak":MAILTO:svdp@meadangels.org
END:VEVENT
END:VCALENDAR