BEGIN:VCALENDAR
VERSION:2.0
PRODID:-//Guardian Angels Catholic Church - ECPv6.15.20//NONSGML v1.0//EN
CALSCALE:GREGORIAN
METHOD:PUBLISH
X-ORIGINAL-URL:https://meadangels.org
X-WR-CALDESC:Events for Guardian Angels Catholic Church
REFRESH-INTERVAL;VALUE=DURATION:PT1H
X-Robots-Tag:noindex
X-PUBLISHED-TTL:PT1H
BEGIN:VTIMEZONE
TZID:America/Denver
BEGIN:DAYLIGHT
TZOFFSETFROM:-0700
TZOFFSETTO:-0600
TZNAME:MDT
DTSTART:20230312T090000
END:DAYLIGHT
BEGIN:STANDARD
TZOFFSETFROM:-0600
TZOFFSETTO:-0700
TZNAME:MST
DTSTART:20231105T080000
END:STANDARD
BEGIN:DAYLIGHT
TZOFFSETFROM:-0700
TZOFFSETTO:-0600
TZNAME:MDT
DTSTART:20240310T090000
END:DAYLIGHT
BEGIN:STANDARD
TZOFFSETFROM:-0600
TZOFFSETTO:-0700
TZNAME:MST
DTSTART:20241103T080000
END:STANDARD
BEGIN:DAYLIGHT
TZOFFSETFROM:-0700
TZOFFSETTO:-0600
TZNAME:MDT
DTSTART:20250309T090000
END:DAYLIGHT
BEGIN:STANDARD
TZOFFSETFROM:-0600
TZOFFSETTO:-0700
TZNAME:MST
DTSTART:20251102T080000
END:STANDARD
BEGIN:DAYLIGHT
TZOFFSETFROM:-0700
TZOFFSETTO:-0600
TZNAME:MDT
DTSTART:20260308T090000
END:DAYLIGHT
BEGIN:STANDARD
TZOFFSETFROM:-0600
TZOFFSETTO:-0700
TZNAME:MST
DTSTART:20261101T080000
END:STANDARD
END:VTIMEZONE
BEGIN:VEVENT
DTSTART;VALUE=DATE:20240407
DTEND;VALUE=DATE:20250408
DTSTAMP:20260420T155609
CREATED:20240410T115908Z
LAST-MODIFIED:20241203T201508Z
UID:10000162-1712448000-1744070399@meadangels.org
SUMMARY:2024 Archbishop's Catholic Appeal
DESCRIPTION:The Archbishop’s Catholic Appeal is a vital initiative that supports the ministries and programs of our Catholic community. While most donations give hope\, support education\, and impart faith as they support 40+ ministries\, the Archdiocese allows our donations to be applied to our mortgage loan payment. \n  \nThe current loan balance is $1\,930\,250. Last year\, $93\,271 was applied to our loan. Our Acrhbishop’s Catholic Appeal (ACA) Goal for 2023 was $68\,752.  Thank you for your generosity. Our ACA Goal for 2024 is $69\,325. To give again visit www.archden.org/givetoday or call 303.867.0614. \n  \nArchbishop’s Catholic Appeal 2024\n\nGoal: $69\,325\nPledged to date: $104\,911\n% of Goal: 151.3 %\n\n  \n \n  \nAbout the Archbishop’s Catholic Appeal \nThe Archbishop’s Catholic Appeal is an annual fundraising campaign launched by our archdiocese to provide essential resources for the diverse ministries and programs that serve our parishioners and communities. \n  \nWhat the Archbishop’s Catholic Appeal Does \nThrough the generosity of donors like you\, the Archbishop’s Catholic Appeal supports various ministries\, including education\, outreach\, pastoral care\, and social services. Your contributions help fund initiatives that promote spiritual growth\, provide assistance to those in need\, and foster a vibrant Catholic community. \n  \nJoin the Archbishop’s Catholic Appeal \nParticipate in spreading Christ’s love and teachings by supporting the Appeal. \n  \nBenefits of Joining \n\nMake a difference\nStrengthen the Church\nExperience the joy of giving\n\n  \nWays to Contribute \nYou can support the Archbishop’s Catholic Appeal through one-time donations\, recurring pledges\, or planned giving options. Every contribution\, regardless of size\, makes a meaningful impact on the lives of others. \n  \nContact the Archbishop’s Catholic Appeal \nFor more information about the Archbishop’s Catholic Appeal or to make a donation\, please visit the Archdiocese of Denver’s website. \nThank you for your generous support. Together\, let us continue to build a stronger\, more vibrant Catholic community.
URL:https://meadangels.org/event/2024-archbishops-catholic-appeal/
CATEGORIES:Altar Linens,Altar Servers,Caring Hands Crafters,Children Formation,Collection Counters,Eucharistic Ministers,Facility Maintenance,Faith Outreach,Finance Council,FOCCUS,Hospitality,Knights of Columbus,Lectors,Liturgical Environment,MEADANGELS Ambassadors,Men's Group,Music | Choir,OCIA (Order of Christian Initiation for Adults),Sacristan,St. Vincent de Paul Society,Women's Group,Youth Formation (6th-8th),Youth Formation (9th-12th)
ATTACH;FMTTYPE=image/jpeg:https://meadangels.org/wp-content/uploads/postimage_collections.jpg
END:VEVENT
BEGIN:VEVENT
DTSTART;VALUE=DATE:20240411
DTEND;VALUE=DATE:20241106
DTSTAMP:20260420T155609
CREATED:20240411T061441Z
LAST-MODIFIED:20240519T181814Z
UID:10000168-1712793600-1730851199@meadangels.org
SUMMARY:Catholic Voter's Guide
DESCRIPTION:The Colorado Catholic Conference advocates for the Catholic Church’s positions on public policy issues in the state\, promoting the dignity of human life\, social justice\, and the common good through legislative efforts and public engagement. \n  \nDuring this critical election year\, frequently visit The Colorado Catholic Conference website for information on legislative bills\, analysis\, letters from your bishops\, and guidance on voting as a Catholic. \n  \nThe 2024 Colorado Legislative Assembly has ended. Visit the Colorado Catholic Conference for a summary of the season. Copies are available on the hospitality cart.
URL:https://meadangels.org/event/catholic-voters-guide/
ATTACH;FMTTYPE=image/jpeg:https://meadangels.org/wp-content/uploads/voted-stickers-scaled.jpg
END:VEVENT
BEGIN:VEVENT
DTSTART;VALUE=DATE:20240909
DTEND;VALUE=DATE:20241031
DTSTAMP:20260420T155609
CREATED:20240909T171053Z
LAST-MODIFIED:20240909T171742Z
UID:10001940-1725840000-1730332799@meadangels.org
SUMMARY:Seek the Face of God
DESCRIPTION:SYMBOLON—THE FAITH OF THE CHURCH\nSEPTEMBER 9 – OCTOBER 30\nLearn to Pray and Seek the Face of God\nAre you seeking a deeper connection with God? Join us for an enriching experience with Symbolon: The Faith of the Church. This transformative series will help you dive into the heart of your faith alongside a supportive community. \n  \nWhat to Expect: \n\nDates: September 9 – October 30\nFormat: Eight 30-minute episodes followed by group discussion\nFocus: Grow in your prayer life and deepen your understanding of the Catholic faith\nMaterials: Participant Guide included\nCommunity: Share your journey with others who seek to grow in faith\nExtras: Enjoy light snacks as we connect\, learn\, and pray together\n\n  \nWhy Symbolon?\nSymbolon is a powerful series designed to help Catholics understand\, live\, and share their faith. Whether you’re new to the Church or looking to renew your relationship with God\, this series will guide you in seeking the face of God through prayer\, reflection\, and conversation. \n  \nHow to Join:\nAll are welcome\, whether you’re exploring faith for the first time or deepening your existing relationship with God. Bring a friend. \n  \nAttend the meetings located below: \n\nMondays\, 11:30 am – 1 pm\nCC Center\nLed by Sandy Gross\nTuesdays\, 7 – 8 am\nBakhita Hall\nMen only\nLed by Deacon Chris Hora\nWednesdays during R.E.\n6:05 – 7:15 pm\, Bakhita Hall\nLed by Sandy Gross\n\nCome and Seek the Face of God with Us.\nEmbrace this opportunity to enrich your faith journey\, learn to pray more deeply\, and connect with others in the spirit of community and fellowship. We look forward to seeing you there.
URL:https://meadangels.org/event/seek-the-face-of-god/
LOCATION:Guardian Angels Catholic Church\, 109 S. 3rd Street\, Mead\, 80542\, United States
CATEGORIES:Faith Outreach,Men's Group,Women's Group
ATTACH;FMTTYPE=image/png:https://meadangels.org/wp-content/uploads/seek-the-face-of-God-Symbolon.png
END:VEVENT
BEGIN:VEVENT
DTSTART;VALUE=DATE:20240920
DTEND;VALUE=DATE:20241101
DTSTAMP:20260420T155609
CREATED:20240920T173222Z
LAST-MODIFIED:20240920T173222Z
UID:10002025-1726790400-1730419199@meadangels.org
SUMMARY:Marisol Family Diaper Drive: Now through October 31
DESCRIPTION:Support families in need by participating in the Marisol Family Diaper Drive\, running through October 31. Marisol Family\, a ministry of Catholic Charities\, is dedicated to helping parents with young children by providing essential baby items such as diapers\, wipes\, and clothing. With a record number of families seeking assistance at locations throughout Colorado\, your help is urgently needed. \nTo find out how you can get involved this season\, visit the Bottomline Diaper Bank webpage for more details: www.ccdenver.org/diaper. Your generosity can make a difference in the lives of local families.
URL:https://meadangels.org/event/marisol-family-diaper-drive-now-through-october-31/
END:VEVENT
BEGIN:VEVENT
DTSTART;VALUE=DATE:20241026
DTEND;VALUE=DATE:20241028
DTSTAMP:20260420T155609
CREATED:20240812T190825Z
LAST-MODIFIED:20240812T191004Z
UID:10001919-1729900800-1730073599@meadangels.org
SUMMARY:Craft & Artisan Fair at Guardian Angels
DESCRIPTION:Join us for the annual Craft & Artisan Fair on October 26-27 at Guardian Angels Catholic Church! This two-day event is the perfect opportunity to kickstart your holiday shopping with unique\, handcrafted items from a variety of talented vendors. \nEvent Details:\n\nSaturday\, October 26: 9:00 AM – 7:00 PM\nSunday\, October 27: 8:00 AM – 2:00 PM\nLocation: Guardian Angels Catholic Church\nAdmission: Free\n\nFeatured Vendors:\n\nCaring Hands Crafters – Beautifully handcrafted items made with love.\nCyndi’s Catholic Crafts – Faith-inspired crafts perfect for gifts.\nBidrio Designs – Unique artisan creations that stand out.\nTable of Plenty Charcuterie – Delicious and artfully arranged charcuterie boards.\nHandmade Calligraphy Pieces – Elegant\, custom calligraphy to adorn your home.\n\n…and many more. \nWhether you’re looking for one-of-a-kind gifts or just want to enjoy a day of shopping and community\, the Craft & Artisan Fair has something for everyone. Don’t miss out on this wonderful event—mark your calendars and get ready to shop for the holidays.
URL:https://meadangels.org/event/craft-artisan-fair-at-guardian-angels/
ATTACH;FMTTYPE=image/jpeg:https://meadangels.org/wp-content/uploads/IMG_7395.jpeg
END:VEVENT
BEGIN:VEVENT
DTSTART;TZID=America/Denver:20241027T110000
DTEND;TZID=America/Denver:20241027T140000
DTSTAMP:20260420T155609
CREATED:20241010T164635Z
LAST-MODIFIED:20241010T164947Z
UID:10002031-1730026800-1730037600@meadangels.org
SUMMARY:Holy Family Open House
DESCRIPTION:Holy Family Open House – Sunday\, October 27\, 11 AM to 2 PM \nWe invite students of all grades and their families to join us for the Holy Family Open House on Sunday\, October 27\, from 11 AM to 2 PM. This is a great opportunity to tour the campus\, meet our dedicated staff\, and learn more about the vibrant academic and faith-based community at Holy Family High School. \nPlease register in advance by visiting www.holyfamilyhs.com and clicking on “Inquire Now.” For any questions\, feel free to contact the school at 303-410-1411. We look forward to welcoming you.
URL:https://meadangels.org/event/holy-family-open-house/
LOCATION:Holy Family High School\, 5195 W 144th Ave\, Broomfield\, CO\, 80023\, United States
END:VEVENT
BEGIN:VEVENT
DTSTART;TZID=America/Denver:20241027T180000
DTEND;TZID=America/Denver:20241027T193000
DTSTAMP:20260420T155609
CREATED:20241010T211848Z
LAST-MODIFIED:20241010T212249Z
UID:10002114-1730052000-1730057400@meadangels.org
SUMMARY:Youth Formation (6th-8th) Meeting
DESCRIPTION:All middle school youth group meet on Sunday nights 6 — 7:30 pm during the school year. The middle schoolers work on faith-based games\, service projects\, and socials. Keep an eye on the weekly bulletin for important dates and times.
URL:https://meadangels.org/event/youth-formation-6th-8th-meeting/2024-10-27/
LOCATION:Guardian Angels Catholic Church\, 109 S. 3rd Street\, Mead\, 80542\, United States
ATTACH;FMTTYPE=image/jpeg:https://meadangels.org/wp-content/uploads/youthMiddle-small-scaled.jpg
END:VEVENT
BEGIN:VEVENT
DTSTART;TZID=America/Denver:20241027T180000
DTEND;TZID=America/Denver:20241027T193000
DTSTAMP:20260420T155609
CREATED:20241010T213019Z
LAST-MODIFIED:20241010T213019Z
UID:10002124-1730052000-1730057400@meadangels.org
SUMMARY:Youth Formation (9th-12th) Meeting
DESCRIPTION:Our ministry provides a supportive environment for teenagers to explore and grow in their faith. We focus on catechesis\, sacramental preparation\, and fostering a deep relationship with God. The high schoolers work on faith-based games\, service projects\, and socials. Keep an eye on the weekly bulletin for important dates and times. \n 
URL:https://meadangels.org/event/youth-formation-9th-12th-meeting/2024-10-27/
LOCATION:Guardian Angels Catholic Church\, 109 S. 3rd Street\, Mead\, 80542\, United States
ATTACH;FMTTYPE=image/jpeg:https://meadangels.org/wp-content/uploads/youthHS-small-scaled.jpg
END:VEVENT
BEGIN:VEVENT
DTSTART;TZID=America/Denver:20241028T090000
DTEND;TZID=America/Denver:20241028T110000
DTSTAMP:20260420T155609
CREATED:20240409T214444Z
LAST-MODIFIED:20250110T183320Z
UID:10000233-1730106000-1730113200@meadangels.org
SUMMARY:Caring Hands Crafters Meeting
DESCRIPTION:We create handmade items with love and care to bring comfort and support to those in need within our Catholic community. Whether you’re an experienced crafter or just starting out\, there’s a place for you to make a difference in our community. New members of all ages (women and men) and talents (woodworkers\, metal workers\, artists\, crafters) are welcome. Caring Hands Crafters meet every Monday at 9 – 11 am in the Catechetical Center (CC Center). \n 
URL:https://meadangels.org/event/caring-hands-crafters-meeting/2024-10-28/
LOCATION:Guardian Angels Catholic Church: Catechetical Center (CC Center)\, 109 S. 3rd Street\, Mead\, CO\, 80542\, United States
CATEGORIES:Caring Hands Crafters
ATTACH;FMTTYPE=image/jpeg:https://meadangels.org/wp-content/uploads/IMG_7847.jpeg
END:VEVENT
BEGIN:VEVENT
DTSTART;TZID=America/Denver:20241029T070000
DTEND;TZID=America/Denver:20241029T080000
DTSTAMP:20260420T155609
CREATED:20240909T165502Z
LAST-MODIFIED:20241216T200139Z
UID:10000494-1730185200-1730188800@meadangels.org
SUMMARY:Mead Angels Men's Bible Study Every Tuesday
DESCRIPTION:Discover the Mead Angels Men’s Bible Study. Join us every Tuesday from 7-8 am in Bakhita Hall. Led by Deacon Chris\, this session is a chance for men to delve into Scripture\, grow in faith\, and build community. All are welcome\, whether you’re a seasoned Bible scholar or new to studying God’s Word. Come for engaging discussions\, prayer\, and fellowship as we strengthen our spiritual journey together.
URL:https://meadangels.org/event/mead-angels-mens-bible-study-every-tuesday-3/2024-10-29/
LOCATION:Guardian Angels Catholic Church (Bakhita Hall)\, 109 S. 3rd Street\, Mead\, CO\, 80542\, United States
CATEGORIES:Faith Outreach,Men's Group
ATTACH;FMTTYPE=image/jpeg:https://meadangels.org/wp-content/uploads/male-reading-scaled.jpg
ORGANIZER;CN="Deacon Chris Hora":MAILTO:deacon.chris@meadangels.org
END:VEVENT
BEGIN:VEVENT
DTSTART;TZID=America/Denver:20241029T190000
DTEND;TZID=America/Denver:20241029T200000
DTSTAMP:20260420T155609
CREATED:20240910T051613Z
LAST-MODIFIED:20241216T200304Z
UID:10001864-1730228400-1730232000@meadangels.org
SUMMARY:Join Our Tuesday Night Choir Rehearsals
DESCRIPTION:We are excited to announce that our Tuesday night choir rehearsals will resume on August 20th from 7:00 to 8:00 PM in the sanctuary. Whether you’re a seasoned singer or just starting out\, we warmly welcome you to join our choir. \n  \nRehearsals provide a wonderful opportunity to improve your vocal skills\, enjoy fellowship\, and contribute to our vibrant musical worship. No prior experience is necessary – all you need is a love for singing and a willingness to learn. \n  \nFor more information or to express your interest\, please reach out to Laura Davis at music@meadangels.org. \n  \nWe look forward to making beautiful music with you.
URL:https://meadangels.org/event/join-our-tuesday-night-choir-rehearsals-2/2024-10-29/
LOCATION:Guardian Angels Catholic Church\, 109 S. 3rd Street\, Mead\, 80542\, United States
CATEGORIES:Music | Choir
ATTACH;FMTTYPE=image/jpeg:https://meadangels.org/wp-content/uploads/choir-small-scaled.jpg
END:VEVENT
BEGIN:VEVENT
DTSTART;TZID=America/Denver:20241030T173000
DTEND;TZID=America/Denver:20241030T193000
DTSTAMP:20260420T155609
CREATED:20241010T205808Z
LAST-MODIFIED:20241010T210114Z
UID:10002052-1730309400-1730316600@meadangels.org
SUMMARY:Children Formation Meeting
DESCRIPTION:Through religious education\, sacramental preparation\, and events\, we empower children to grow spiritually. Events to look forward to during the year: \n\nSaints in the graveyard\nPet blessings\nThanksgiving Service Project\nChristmas Program\nStations of the Cross\nIce cream socials\n\nJoin Us on Wednesday nights (from September – May) at 5:30 – 7:30 PM.
URL:https://meadangels.org/event/children-formation-meeting/2024-10-30/
LOCATION:Guardian Angels Catholic Church\, 109 S. 3rd Street\, Mead\, 80542\, United States
ATTACH;FMTTYPE=image/jpeg:https://meadangels.org/wp-content/uploads/childrenFormation-scaled.jpg
END:VEVENT
BEGIN:VEVENT
DTSTART;VALUE=DATE:20241101
DTEND;VALUE=DATE:20241102
DTSTAMP:20260420T155609
CREATED:20241101T012959Z
LAST-MODIFIED:20241101T012959Z
UID:10002132-1730419200-1730505599@meadangels.org
SUMMARY:Holy Day of Obligation: All Saints’ Day
DESCRIPTION:All Saints’ Day (Friday\, November 1) is a holy day of obligation. Please attend mass: \n\nFriday\, November 1\, 2024\n\n7 am – Father Sojan\n6 pm – Msgr. Bob Amundsen
URL:https://meadangels.org/event/holy-day-of-obligation-all-saints-day/
END:VEVENT
BEGIN:VEVENT
DTSTART;TZID=America/Denver:20241102T090000
DTEND;TZID=America/Denver:20241102T110000
DTSTAMP:20260420T155609
CREATED:20240920T160449Z
LAST-MODIFIED:20241010T163842Z
UID:10002027-1730538000-1730545200@meadangels.org
SUMMARY:You are invited to MUMS: Mothers Uplifting Mothers Spiritually
DESCRIPTION:Join us for a beautiful opportunity to connect\, grow\, and uplift one another through the MUMS group at St. John the Baptist Catholic Church. MUMS is a welcoming community where mothers of all ages come together to nurture their spiritual lives and support one another in faith. Whether you’re a new mom or have grown children\, we invite you to join us on Thursdays from 9:00 AM to 11:00 AM for meaningful fellowship\, prayer\, and inspiration. \nDetails:\n\nWhere: St. John the Baptist Church\nWhen: Thursdays\, 9:00 AM – 11:00 AM\nWho: Mothers of all ages are welcome\nChildcare: Provided for your convenience\n\nFall 2024 Meeting Schedule:\n\nOctober 17\nNovember 2\nNovember 16\nDecember 19\n\nCome be refreshed\, uplifted\, and inspired as we journey together in faith. We can’t wait to see you there.
URL:https://meadangels.org/event/you-are-invited-to-mums-mothers-uplifting-mothers-spiritually/2024-11-02/
LOCATION:St. John the Baptist Catholic Church\, 323 Collyer Street\, Longmont\, CO\, 80501\, United States
END:VEVENT
END:VCALENDAR