BEGIN:VCALENDAR
VERSION:2.0
PRODID:-//Guardian Angels Catholic Church - ECPv6.15.20//NONSGML v1.0//EN
CALSCALE:GREGORIAN
METHOD:PUBLISH
X-WR-CALNAME:Guardian Angels Catholic Church
X-ORIGINAL-URL:https://meadangels.org
X-WR-CALDESC:Events for Guardian Angels Catholic Church
REFRESH-INTERVAL;VALUE=DURATION:PT1H
X-Robots-Tag:noindex
X-PUBLISHED-TTL:PT1H
BEGIN:VTIMEZONE
TZID:America/Denver
BEGIN:DAYLIGHT
TZOFFSETFROM:-0700
TZOFFSETTO:-0600
TZNAME:MDT
DTSTART:20230312T090000
END:DAYLIGHT
BEGIN:STANDARD
TZOFFSETFROM:-0600
TZOFFSETTO:-0700
TZNAME:MST
DTSTART:20231105T080000
END:STANDARD
BEGIN:DAYLIGHT
TZOFFSETFROM:-0700
TZOFFSETTO:-0600
TZNAME:MDT
DTSTART:20240310T090000
END:DAYLIGHT
BEGIN:STANDARD
TZOFFSETFROM:-0600
TZOFFSETTO:-0700
TZNAME:MST
DTSTART:20241103T080000
END:STANDARD
BEGIN:DAYLIGHT
TZOFFSETFROM:-0700
TZOFFSETTO:-0600
TZNAME:MDT
DTSTART:20250309T090000
END:DAYLIGHT
BEGIN:STANDARD
TZOFFSETFROM:-0600
TZOFFSETTO:-0700
TZNAME:MST
DTSTART:20251102T080000
END:STANDARD
BEGIN:DAYLIGHT
TZOFFSETFROM:-0700
TZOFFSETTO:-0600
TZNAME:MDT
DTSTART:20260308T090000
END:DAYLIGHT
BEGIN:STANDARD
TZOFFSETFROM:-0600
TZOFFSETTO:-0700
TZNAME:MST
DTSTART:20261101T080000
END:STANDARD
END:VTIMEZONE
BEGIN:VEVENT
DTSTART;VALUE=DATE:20240407
DTEND;VALUE=DATE:20250408
DTSTAMP:20260421T160907
CREATED:20240410T115908Z
LAST-MODIFIED:20241203T201508Z
UID:10000162-1712448000-1744070399@meadangels.org
SUMMARY:2024 Archbishop's Catholic Appeal
DESCRIPTION:The Archbishop’s Catholic Appeal is a vital initiative that supports the ministries and programs of our Catholic community. While most donations give hope\, support education\, and impart faith as they support 40+ ministries\, the Archdiocese allows our donations to be applied to our mortgage loan payment. \n  \nThe current loan balance is $1\,930\,250. Last year\, $93\,271 was applied to our loan. Our Acrhbishop’s Catholic Appeal (ACA) Goal for 2023 was $68\,752.  Thank you for your generosity. Our ACA Goal for 2024 is $69\,325. To give again visit www.archden.org/givetoday or call 303.867.0614. \n  \nArchbishop’s Catholic Appeal 2024\n\nGoal: $69\,325\nPledged to date: $104\,911\n% of Goal: 151.3 %\n\n  \n \n  \nAbout the Archbishop’s Catholic Appeal \nThe Archbishop’s Catholic Appeal is an annual fundraising campaign launched by our archdiocese to provide essential resources for the diverse ministries and programs that serve our parishioners and communities. \n  \nWhat the Archbishop’s Catholic Appeal Does \nThrough the generosity of donors like you\, the Archbishop’s Catholic Appeal supports various ministries\, including education\, outreach\, pastoral care\, and social services. Your contributions help fund initiatives that promote spiritual growth\, provide assistance to those in need\, and foster a vibrant Catholic community. \n  \nJoin the Archbishop’s Catholic Appeal \nParticipate in spreading Christ’s love and teachings by supporting the Appeal. \n  \nBenefits of Joining \n\nMake a difference\nStrengthen the Church\nExperience the joy of giving\n\n  \nWays to Contribute \nYou can support the Archbishop’s Catholic Appeal through one-time donations\, recurring pledges\, or planned giving options. Every contribution\, regardless of size\, makes a meaningful impact on the lives of others. \n  \nContact the Archbishop’s Catholic Appeal \nFor more information about the Archbishop’s Catholic Appeal or to make a donation\, please visit the Archdiocese of Denver’s website. \nThank you for your generous support. Together\, let us continue to build a stronger\, more vibrant Catholic community.
URL:https://meadangels.org/event/2024-archbishops-catholic-appeal/
CATEGORIES:Altar Linens,Altar Servers,Caring Hands Crafters,Children Formation,Collection Counters,Eucharistic Ministers,Facility Maintenance,Faith Outreach,Finance Council,FOCCUS,Hospitality,Knights of Columbus,Lectors,Liturgical Environment,MEADANGELS Ambassadors,Men's Group,Music | Choir,OCIA (Order of Christian Initiation for Adults),Sacristan,St. Vincent de Paul Society,Women's Group,Youth Formation (6th-8th),Youth Formation (9th-12th)
ATTACH;FMTTYPE=image/jpeg:https://meadangels.org/wp-content/uploads/postimage_collections.jpg
END:VEVENT
BEGIN:VEVENT
DTSTART;VALUE=DATE:20240411
DTEND;VALUE=DATE:20240706
DTSTAMP:20260421T160907
CREATED:20240411T054720Z
LAST-MODIFIED:20240519T201334Z
UID:10000167-1712793600-1720223999@meadangels.org
SUMMARY:Save the Date: Totus Tuus (Week of July 7)
DESCRIPTION:Totus Tuus is a dynamic Catholic summer program for children and teenagers\, offering week-long camps filled with catechesis\, prayer\, and fun activities. \n  \nJoin Us \nExperience spiritual growth and build friendships in a supportive and lively environment. Thank you for considering us for your summer plans during July 8 – July 12. Save the date.
URL:https://meadangels.org/event/save-the-date-totus-tuus-week-of-july-7/
LOCATION:Guardian Angels Catholic Church\, 109 S. 3rd Street\, Mead\, 80542\, United States
CATEGORIES:Children Formation,Faith Outreach,Youth Formation (6th-8th),Youth Formation (9th-12th)
ATTACH;FMTTYPE=image/jpeg:https://meadangels.org/wp-content/uploads/IMG_7017.jpeg
END:VEVENT
BEGIN:VEVENT
DTSTART;VALUE=DATE:20240411
DTEND;VALUE=DATE:20241106
DTSTAMP:20260421T160907
CREATED:20240411T061441Z
LAST-MODIFIED:20240519T181814Z
UID:10000168-1712793600-1730851199@meadangels.org
SUMMARY:Catholic Voter's Guide
DESCRIPTION:The Colorado Catholic Conference advocates for the Catholic Church’s positions on public policy issues in the state\, promoting the dignity of human life\, social justice\, and the common good through legislative efforts and public engagement. \n  \nDuring this critical election year\, frequently visit The Colorado Catholic Conference website for information on legislative bills\, analysis\, letters from your bishops\, and guidance on voting as a Catholic. \n  \nThe 2024 Colorado Legislative Assembly has ended. Visit the Colorado Catholic Conference for a summary of the season. Copies are available on the hospitality cart.
URL:https://meadangels.org/event/catholic-voters-guide/
ATTACH;FMTTYPE=image/jpeg:https://meadangels.org/wp-content/uploads/voted-stickers-scaled.jpg
END:VEVENT
BEGIN:VEVENT
DTSTART;VALUE=DATE:20240423
DTEND;VALUE=DATE:20240701
DTSTAMP:20260421T160907
CREATED:20240424T023214Z
LAST-MODIFIED:20240621T212232Z
UID:10000201-1713830400-1719791999@meadangels.org
SUMMARY:Donate to Support the Guadalupe Community Center
DESCRIPTION:Donation Drop-off: Parish Office\nDo you have unwanted clothes\, blankets\, or household items cluttering your space? Consider donating them to the Guadalupe Community Center! Your contributions will directly benefit those in need within our community. \nAccepted Items\nTOP TEN KITCHEN NEEDS: \n\nFresh or canned fruit\nFresh produce\nCanned or frozen vegetables\nCanned tuna or chicken\nShredded\, sliced or grated cheese\nGround coffee\nPortion sized coffee creamer\nIndividual sugar packets\nNapkins\nIron fortified infant formula / cereal\n\nTOP TEN ESSENTIALS: \n\nMen’s & women’s underwear\nWomen’s sports bras (various sizes)\nMen’s jeans (sizes 28 thru 34)\nMen’s & women’s short sleeve shirts\nJackets (summer)\nPillows (new)\nPillowcase (standard size)\nSheets (twin / queen)\nAdult backpacks\n$5 gift cards (Walmart\, Subway\, and Kum & Go)\n\n  \nPlease call 970.616.8606 for additional information on Guadalupe Community Center Donation Support. \n  \nDonation Process\nSimply drop off your donations at the parish office during our operating hours. Your generosity will make a significant difference in the lives of others. \n  \nContinued Support\nIn addition to collecting items for the Guadalupe Community Center\, we also continue to collect food for nearby food banks. Your ongoing support is deeply appreciated. \n  \nThank you for your kindness and generosity in helping those less fortunate in our community. Together\, we can make a positive impact and spread hope to those in need.
URL:https://meadangels.org/event/donate-to-support-the-guadalupe-community-center/
ATTACH;FMTTYPE=image/jpeg:https://meadangels.org/wp-content/uploads/donate-clothes.jpg
END:VEVENT
BEGIN:VEVENT
DTSTART;VALUE=DATE:20240601
DTEND;VALUE=DATE:20240701
DTSTAMP:20260421T160907
CREATED:20240521T194310Z
LAST-MODIFIED:20240521T194310Z
UID:10001683-1717200000-1719791999@meadangels.org
SUMMARY:June: Month of the Sacred Heart
DESCRIPTION:
URL:https://meadangels.org/event/june-month-of-the-sacred-heart/
ATTACH;FMTTYPE=image/jpeg:https://meadangels.org/wp-content/uploads/IMG_7036.jpeg
END:VEVENT
BEGIN:VEVENT
DTSTART;VALUE=DATE:20240621
DTEND;VALUE=DATE:20240624
DTSTAMP:20260421T160907
CREATED:20240519T195003Z
LAST-MODIFIED:20240519T195408Z
UID:10001613-1718928000-1719187199@meadangels.org
SUMMARY:Steubenville of the Rockies Conference is SOLD OUT
DESCRIPTION:**************************************************** \nSOLD OUT: REGISTER NEXT YEAR (2025) \n**************************************************** \nThis summer\, over 50\,000 Catholic teens across North America will attend one of 25 Steubenville Youth Conferences to encounter the God who calls us out of darkness and into his marvelous light. Lift your eyes to the glory of God. \n  \nA five day\, Christ-centered\, sacrament-soaked\, prayer fueled immersion in Catholic teachings on leadership\, evangelization\, and discipleship inspired by the life and witness of St. Francis of Assisi. This program takes place the Monday-Friday leading up to Steubenville of the Rockies. \n  \nOur leadership philosophy is based on the foundation that youth leadership flows from a personal relationship with Christ. Therefore\, we first give teens the tools to grow closer in their relationship with Jesus and then give them the essentials for servant leadership and evangelization. \n 
URL:https://meadangels.org/event/steubenville-of-the-rockies-conference-is-sold-out/
CATEGORIES:Youth Formation (9th-12th)
ATTACH;FMTTYPE=image/png:https://meadangels.org/wp-content/uploads/Steubenville-of-the-Rockies-2024.png
END:VEVENT
BEGIN:VEVENT
DTSTART;VALUE=DATE:20240621
DTEND;VALUE=DATE:20240826
DTSTAMP:20260421T160907
CREATED:20240621T203213Z
LAST-MODIFIED:20240621T204808Z
UID:10001769-1718928000-1724630399@meadangels.org
SUMMARY:Register for Rachel’s Vineyard Colorado - Hope and Healing After Abortion
DESCRIPTION:Catholic Healing Retreat\, August 23 – 25 \nAre you or someone you know suffering from the pain of an abortion? You are not alone. There is hope and healing after abortion. \nJoin us for Rachel’s Vineyard Colorado Catholic Retreat in Evergreen from August 23 to 25. This confidential retreat offers emotional and spiritual healing through guided reflections\, personal sharing\, and prayer. \nDetails: \n\nLocation: Evergreen\, Colorado\nDates: August 23 – 25\n\nContact: \n\nPhone: (303) 904-7414 (no texts\, please)\nEmail: lfrank.rvr@gmail.com\nWebsite: rvrcolorado.org\n\nTake the first step toward healing. Discover peace and hope at Rachel’s Vineyard Colorado. Reach out today for more information or to register.
URL:https://meadangels.org/event/rachels-vineyard-colorado-hope-and-healing-after-abortion/
CATEGORIES:Women's Group
ATTACH;FMTTYPE=image/jpeg:https://meadangels.org/wp-content/uploads/rachel-vineyard-colorado.jpg
END:VEVENT
BEGIN:VEVENT
DTSTART;VALUE=DATE:20240621
DTEND;VALUE=DATE:20240916
DTSTAMP:20260421T160907
CREATED:20240622T024410Z
LAST-MODIFIED:20240910T050143Z
UID:10001773-1718928000-1726444799@meadangels.org
SUMMARY:Register Now for the 2024-25 Academic Year at St. John Vianney Lay Division
DESCRIPTION:Explore St. John Vianney Lay Division’s Courses\nBiblical School\nDive deep into the Scriptures with our comprehensive Biblical School. Explore the Old and New Testaments and grow in your understanding of God’s Word. \nCatechetical School\nEnhance your knowledge of Catholic teachings\, theology\, and tradition. Perfect for personal faith development or preparing for ministry roles. \nEnrichment Courses\nExpand your spiritual and intellectual horizons with courses on theology\, spirituality\, and Church history. Ideal for lifelong learners. \nWhy Choose St. John Vianney Lay Division?\n\n\n\nExpert Instructors: Learn from passionate\, knowledgeable teachers\nComprehensive Curriculum: Covering essential aspects of the Catholic faith\nVibrant Community: Join a community committed to deepening their faith\nFlexible Learning: Classes start in September and fit into your busy life (online and in person classes)\n\n\n\nHow to Register\nRegister now for the 2024-25 academic year. \n\n\n\nOnline: Visit sjvlaydivision.org\nPhone: Call 303.715.3195\nEmail: Contact laydivision@archden.org\n\n\n\nClasses Start in September\nDon’t miss this chance to deepen your faith. Register today. \nFor more details\, visit sjvlaydivision.org or contact us at 303.715.3195 or laydivision@archden.org.
URL:https://meadangels.org/event/register-now-for-the-2024-25-academic-year-at-st-john-vianney-lay-division/
CATEGORIES:Caring Hands Crafters,Eucharistic Ministers,Faith Outreach,Knights of Columbus,Men's Group,Music | Choir,St. Vincent de Paul Society,Women's Group
ATTACH;FMTTYPE=image/png:https://meadangels.org/wp-content/uploads/SJVD-2024.png
END:VEVENT
BEGIN:VEVENT
DTSTART;VALUE=DATE:20240621
DTEND;VALUE=DATE:20240929
DTSTAMP:20260421T160907
CREATED:20240621T214849Z
LAST-MODIFIED:20240621T220002Z
UID:10001772-1718928000-1727567999@meadangels.org
SUMMARY:Volunteer Opportunity: Help Water GA Flower Pots and Beds
DESCRIPTION:Individuals and families are invited to help water the GA flower pots and beds this summer. Volunteers can choose to help just once\, monthly\, weekly\, or as often as they like—any assistance is greatly appreciated. \nHow It Works: \n\nFlexible Scheduling: Choose a time that works best for you.\nReminders: Sign-Up Genius will send you a reminder the day before your scheduled watering.\nTraining: Team leaders will provide training to ensure you know what to do.\n\nHow to Sign Up: \n\nContact: Ginny at mgstaiano@outlook.com for more information or sign up at SignUpGenius.\n\nThank you for helping keep our gardens beautiful.
URL:https://meadangels.org/event/volunteer-opportunity-help-water-ga-flower-pots-and-beds/
CATEGORIES:Facility Maintenance,Knights of Columbus,Men's Group,St. Vincent de Paul Society,Women's Group,Youth Formation (9th-12th)
ATTACH;FMTTYPE=image/jpeg:https://meadangels.org/wp-content/uploads/garden-volunteer.jpg
END:VEVENT
BEGIN:VEVENT
DTSTART;TZID=America/Denver:20240624T090000
DTEND;TZID=America/Denver:20240624T110000
DTSTAMP:20260421T160907
CREATED:20240409T214444Z
LAST-MODIFIED:20250110T183320Z
UID:10000215-1719219600-1719226800@meadangels.org
SUMMARY:Caring Hands Crafters Meeting
DESCRIPTION:We create handmade items with love and care to bring comfort and support to those in need within our Catholic community. Whether you’re an experienced crafter or just starting out\, there’s a place for you to make a difference in our community. New members of all ages (women and men) and talents (woodworkers\, metal workers\, artists\, crafters) are welcome. Caring Hands Crafters meet every Monday at 9 – 11 am in the Catechetical Center (CC Center). \n 
URL:https://meadangels.org/event/caring-hands-crafters-meeting/2024-06-24/
LOCATION:Guardian Angels Catholic Church: Catechetical Center (CC Center)\, 109 S. 3rd Street\, Mead\, CO\, 80542\, United States
CATEGORIES:Caring Hands Crafters
ATTACH;FMTTYPE=image/jpeg:https://meadangels.org/wp-content/uploads/IMG_7847.jpeg
END:VEVENT
BEGIN:VEVENT
DTSTART;TZID=America/Denver:20240625T070000
DTEND;TZID=America/Denver:20240625T080000
DTSTAMP:20260421T160907
CREATED:20240410T142330Z
LAST-MODIFIED:20240507T162530Z
UID:10000476-1719298800-1719302400@meadangels.org
SUMMARY:Mead Angels Men's Bible Study Every Tuesday
DESCRIPTION:Discover the Mead Angels Men’s Bible Study. Join us every Tuesday from 7-8 am in Bakhita Hall. Led by Deacon Chris\, this session is a chance for men to delve into Scripture\, grow in faith\, and build community. All are welcome\, whether you’re a seasoned Bible scholar or new to studying God’s Word. Come for engaging discussions\, prayer\, and fellowship as we strengthen our spiritual journey together.
URL:https://meadangels.org/event/mead-angels-mens-bible-study-every-tuesday/2024-06-25/
LOCATION:Guardian Angels Catholic Church (Bakhita Hall)\, 109 S. 3rd Street\, Mead\, CO\, 80542\, United States
CATEGORIES:Faith Outreach,Men's Group
ATTACH;FMTTYPE=image/jpeg:https://meadangels.org/wp-content/uploads/male-reading-scaled.jpg
ORGANIZER;CN="Deacon Chris Hora":MAILTO:deacon.chris@meadangels.org
END:VEVENT
BEGIN:VEVENT
DTSTART;VALUE=DATE:20240629
DTEND;VALUE=DATE:20240923
DTSTAMP:20260421T160907
CREATED:20240630T002140Z
LAST-MODIFIED:20240630T002232Z
UID:10001834-1719619200-1727049599@meadangels.org
SUMMARY:Registration Now Open for the Catholic Women Conference
DESCRIPTION:Are you ready to set yourself apart as a woman of Christ? Do you find life feeling out of balance? Join us at this year’s conference to gain a deeper understanding of “Grace in the Everyday” and discover how to find it in the mundane duties of life and within your womanhood. Through the grace of God\, you can be set apart and empowered with the courage to desire this transformation. \n  \nGuardian Angels will cover the registration fee for the first 20 women from Guardian Angels parish who register. Contact Sandy Gross if you are interested in attending.\n  \nEvent Details: \n\nDate: September 28\, 2024\nTime: 8:00-5:30 pm\nLocation: DCSD Legacy Campus\, Lone Tree\, CO\n\n  \nKeynote Speaker: Carrie Gress\nGuest Speaker: Daniel Campbell \n  \nMass | Adoration | Confession | Shopping | Breakout Sessions | Vocations Well \nREGISTER HERE\nWe can’t wait for you to join us.
URL:https://meadangels.org/event/registration-now-open-for-the-catholic-women-conference/
CATEGORIES:Faith Outreach,Women's Group
ATTACH;FMTTYPE=image/jpeg:https://meadangels.org/wp-content/uploads/2024-Women-Conference-Registration.jpg
END:VEVENT
BEGIN:VEVENT
DTSTART;VALUE=DATE:20240629
DTEND;VALUE=DATE:20240701
DTSTAMP:20260421T160907
CREATED:20240630T003721Z
LAST-MODIFIED:20240630T003721Z
UID:10001835-1719619200-1719791999@meadangels.org
SUMMARY:Peter's Pence Collection this weekend
DESCRIPTION:Peter’s Pence Collection: As a tithing parish\, a portion of the regular offertory collected this weekend will benefit Peter’s Pence. “The faithful’s offerings to the Holy Father through the Peter’s Pence Collection are destined to Church needs\, to humanitarian initiatives and social promotion projects\, as well as to the support of the Holy See.”(from www.vatican.va/roman_curia/secretariat_state/obolo_spietro/documents/actual_en.html \n  \nYou can donate directly here: https://www.obolodisanpietro.va/en/dona.html
URL:https://meadangels.org/event/peters-pence-collection-this-weekend/
END:VEVENT
BEGIN:VEVENT
DTSTART;VALUE=DATE:20240629
DTEND;VALUE=DATE:20241001
DTSTAMP:20260421T160907
CREATED:20240630T004631Z
LAST-MODIFIED:20240630T004841Z
UID:10001836-1719619200-1727740799@meadangels.org
SUMMARY:Read the Urgent Message from the Colorado Bishops on the 2024 Ballot Initiatives
DESCRIPTION:We urge you to read the letter from the Colorado bishops regarding two critical ballot initiatives this November. These measures threaten the sanctity of life\, the family\, and religious liberty. Your informed vote is crucial in defending these core values. \n  \nBe informed. Defend life.
URL:https://meadangels.org/event/read-the-urgent-message-from-the-colorado-bishops-on-the-2024-ballot-initiatives/
END:VEVENT
END:VCALENDAR