BEGIN:VCALENDAR
VERSION:2.0
PRODID:-//Guardian Angels Catholic Church - ECPv6.15.20//NONSGML v1.0//EN
CALSCALE:GREGORIAN
METHOD:PUBLISH
X-ORIGINAL-URL:https://meadangels.org
X-WR-CALDESC:Events for Guardian Angels Catholic Church
REFRESH-INTERVAL;VALUE=DURATION:PT1H
X-Robots-Tag:noindex
X-PUBLISHED-TTL:PT1H
BEGIN:VTIMEZONE
TZID:America/Denver
BEGIN:DAYLIGHT
TZOFFSETFROM:-0700
TZOFFSETTO:-0600
TZNAME:MDT
DTSTART:20250309T090000
END:DAYLIGHT
BEGIN:STANDARD
TZOFFSETFROM:-0600
TZOFFSETTO:-0700
TZNAME:MST
DTSTART:20251102T080000
END:STANDARD
BEGIN:DAYLIGHT
TZOFFSETFROM:-0700
TZOFFSETTO:-0600
TZNAME:MDT
DTSTART:20260308T090000
END:DAYLIGHT
BEGIN:STANDARD
TZOFFSETFROM:-0600
TZOFFSETTO:-0700
TZNAME:MST
DTSTART:20261101T080000
END:STANDARD
BEGIN:DAYLIGHT
TZOFFSETFROM:-0700
TZOFFSETTO:-0600
TZNAME:MDT
DTSTART:20270314T090000
END:DAYLIGHT
BEGIN:STANDARD
TZOFFSETFROM:-0600
TZOFFSETTO:-0700
TZNAME:MST
DTSTART:20271107T080000
END:STANDARD
BEGIN:DAYLIGHT
TZOFFSETFROM:-0700
TZOFFSETTO:-0600
TZNAME:MDT
DTSTART:20280312T090000
END:DAYLIGHT
BEGIN:STANDARD
TZOFFSETFROM:-0600
TZOFFSETTO:-0700
TZNAME:MST
DTSTART:20281105T080000
END:STANDARD
END:VTIMEZONE
BEGIN:VEVENT
DTSTART;VALUE=DATE:20260406
DTEND;VALUE=DATE:20270811
DTSTAMP:20260419T101413
CREATED:20260403T203854Z
LAST-MODIFIED:20260403T214238Z
UID:10003136-1775433600-1817942399@meadangels.org
SUMMARY:Save the Date: Pilgrimage to World Youth Day 2027
DESCRIPTION:Journey in Faith to South Korea\nOur Lady of the Valley invites you to take part in a life changing pilgrimage to World Youth Day 2027 in South Korea 🇰🇷. \nEvent Details\n\n📍 South Korea\n📆 August 1 to August 10\, 2027\n\nAbout the Pilgrimage\n\nParticipate in World Youth Day with pilgrims from around the world\nGrow deeper in your Catholic faith\nExperience the culture and beauty of Korea\nBuild lasting friendships rooted in Christ\n\nLearn More\nVisit the link for full details and registration information
URL:https://meadangels.org/event/save-the-date-pilgrimage-to-world-youth-day-2027/
CATEGORIES:Youth Formation (9th-12th)
END:VEVENT
BEGIN:VEVENT
DTSTART;VALUE=DATE:20260418
DTEND;VALUE=DATE:20261207
DTSTAMP:20260419T101413
CREATED:20260418T055545Z
LAST-MODIFIED:20260418T055641Z
UID:10003161-1776470400-1796601599@meadangels.org
SUMMARY:Archbishop's Catholic Appeal 2026
DESCRIPTION:Put your faith into action and prayerfully commit to this year’s Archbishop’s Catholic Appeal. Commitment cards will be available at Mass this weekend. Watch this year’s video. \n  \n\n    Donate Today\n     \n 
URL:https://meadangels.org/event/archbishops-catholic-appeal-2026/
END:VEVENT
BEGIN:VEVENT
DTSTART;TZID=America/Denver:20260514T190000
DTEND;TZID=America/Denver:20260514T200000
DTSTAMP:20260419T101413
CREATED:20251003T154016Z
LAST-MODIFIED:20260320T082403Z
UID:10003064-1778785200-1778788800@meadangels.org
SUMMARY:Join Our Thursday Night 🎶 Choir Rehearsals
DESCRIPTION:Choir rehearsals are on Thursday evenings from 7:00 to 8:00 PM in the church. Whether you’re a seasoned singer or just starting out\, we warmly welcome you to join our choir. \n  \nRehearsals provide a wonderful opportunity to improve your vocal skills\, enjoy fellowship\, and contribute to our vibrant musical worship. No prior experience is necessary – all you need is a love for singing and a willingness to learn. \n  \nFor more information or to express your interest\, please reach out to Laura Davis at music@meadangels.org. \n  \nWe look forward to making beautiful music with you.
URL:https://meadangels.org/event/join-our-thursday-night-choir-rehearsals-2/2026-05-14/
LOCATION:Guardian Angels Catholic Church\, 109 S. 3rd Street\, Mead\, 80542\, United States
CATEGORIES:Music | Choir
ATTACH;FMTTYPE=image/jpeg:https://meadangels.org/wp-content/uploads/choir-small-scaled.jpg
END:VEVENT
END:VCALENDAR