BEGIN:VCALENDAR
VERSION:2.0
PRODID:-//Guardian Angels Catholic Church - ECPv6.15.20//NONSGML v1.0//EN
CALSCALE:GREGORIAN
METHOD:PUBLISH
X-ORIGINAL-URL:https://meadangels.org
X-WR-CALDESC:Events for Guardian Angels Catholic Church
REFRESH-INTERVAL;VALUE=DURATION:PT1H
X-Robots-Tag:noindex
X-PUBLISHED-TTL:PT1H
BEGIN:VTIMEZONE
TZID:America/Denver
BEGIN:DAYLIGHT
TZOFFSETFROM:-0700
TZOFFSETTO:-0600
TZNAME:MDT
DTSTART:20250309T090000
END:DAYLIGHT
BEGIN:STANDARD
TZOFFSETFROM:-0600
TZOFFSETTO:-0700
TZNAME:MST
DTSTART:20251102T080000
END:STANDARD
BEGIN:DAYLIGHT
TZOFFSETFROM:-0700
TZOFFSETTO:-0600
TZNAME:MDT
DTSTART:20260308T090000
END:DAYLIGHT
BEGIN:STANDARD
TZOFFSETFROM:-0600
TZOFFSETTO:-0700
TZNAME:MST
DTSTART:20261101T080000
END:STANDARD
BEGIN:DAYLIGHT
TZOFFSETFROM:-0700
TZOFFSETTO:-0600
TZNAME:MDT
DTSTART:20270314T090000
END:DAYLIGHT
BEGIN:STANDARD
TZOFFSETFROM:-0600
TZOFFSETTO:-0700
TZNAME:MST
DTSTART:20271107T080000
END:STANDARD
END:VTIMEZONE
BEGIN:VEVENT
DTSTART;VALUE=DATE:20260228
DTEND;VALUE=DATE:20260405
DTSTAMP:20260419T083709
CREATED:20260220T171038Z
LAST-MODIFIED:20260220T171707Z
UID:10003048-1772236800-1775347199@meadangels.org
SUMMARY:Catholic Charities Diaper Drive
DESCRIPTION:February 28 through April 4\nAs a parish Lenten service project\, Guardian Angels will collect diapers\, wipes\, and adult incontinence supplies to support families in need through Catholic Charities of Denver. Your generosity helps provide essential items that many families struggle to afford. \nMost Needed Items\n\nDiapers sizes 5 and 6\n4T to 5T Pull ups\n\nHow to Donate\n\nPlace donations in the bin located in the narthex\nBring items to the parish office\nMail contributions to Catholic Charities Bottom Line Diaper Bank\, 6240 Smith Road\, Denver\, CO 80216\n\nThank you for serving our neighbors with compassion during this Lenten season.
URL:https://meadangels.org/event/catholic-charities-diaper-drive/
END:VEVENT
BEGIN:VEVENT
DTSTART;VALUE=DATE:20260329
DTEND;VALUE=DATE:20260406
DTSTAMP:20260419T083709
CREATED:20260313T035609Z
LAST-MODIFIED:20260320T071312Z
UID:10003122-1774742400-1775433599@meadangels.org
SUMMARY:✝️ Holy Week Liturgies
DESCRIPTION:Join our parish community as we enter into the most sacred week of the Church year and commemorate the Passion\, death\, and Resurrection of Jesus Christ. All are invited to participate in these beautiful and prayerful liturgies. \nHoly Week Schedule\n\nSunday\, March 29 \n\nTenebrae 6 pm\n \n\nTenebrae is a Latin word meaning “shadows” or “darkness.” Enter into Holy Week with this beautiful service of readings and chant.\n\n\n\nHoly Thursday\, April 2 \n\nMass of the Lord’s Supper and Adoration 7 pm\n\nGood Friday\, April 3 \n\nGood Friday Service 7 pm\n\nHoly Saturday\, April 4 \n\nBlessing of Easter Food 1 pm\nEaster Vigil 8 pm\n\nEaster Sunday\, April 5 \n\nMass 9 am\nMass 11 am\n\nThese liturgies lead us through the sacred celebration of the Passion of Christ and the joy of the Resurrection on Easter. \nAll parishioners and visitors are welcome to join us in prayer during this holy time. \n 
URL:https://meadangels.org/event/%e2%9c%9d%ef%b8%8f-holy-week-liturgies/
LOCATION:Guardian Angels Catholic Church\, 109 S. 3rd Street\, Mead\, 80542\, United States
ATTACH;FMTTYPE=image/png:https://meadangels.org/wp-content/uploads/holyWeek.png
END:VEVENT
BEGIN:VEVENT
DTSTART;VALUE=DATE:20260401
DTEND;VALUE=DATE:20260501
DTSTAMP:20260419T083709
CREATED:20251205T225617Z
LAST-MODIFIED:20260412T170551Z
UID:10002859-1775001600-1777593599@meadangels.org
SUMMARY:Honor a Loved One with a Living Commemoration 🌲🧱
DESCRIPTION:Create a lasting tribute that honors a loved one and enriches our parish grounds for years to come. Trees 🌳🌲 and commemorative bricks 🧱 are still available as part of our Living Commemorations program. These living memorials will flourish year after year\, offering beauty\, shade\, and a sacred reminder of God’s ongoing creation. \nCommemoration Opportunities\n\nTrees available for dedication in honor or memory of a loved one\nCommemorative bricks available as a permanent tribute\nA meaningful way to celebrate faith\, family\, and legacy\nA lasting gift that enhances our parish community\n\nContact the parish office to learn more about honoring a loved one through one of these special memorial opportunities.
URL:https://meadangels.org/event/honor-a-loved-one-with-a-parish-commemoration-%f0%9f%8e%84%f0%9f%a7%b1/
END:VEVENT
BEGIN:VEVENT
DTSTART;VALUE=DATE:20260401
DTEND;VALUE=DATE:20260501
DTSTAMP:20260419T083709
CREATED:20260403T212925Z
LAST-MODIFIED:20260406T061514Z
UID:10003137-1775001600-1777593599@meadangels.org
SUMMARY:April is Child Abuse Prevention Month
DESCRIPTION:Support Children and Strengthen Families\nJoin the movement to protect children and promote safe\, nurturing environments where every child can thrive. \nHow You Can Help\n\nWear blue to show your support and raise awareness\nSupport family centered policies in your community\nTalk about the importance of early support and intervention\nEncourage safe and healthy environments for children\n\nWhy It Matters\n\nStrong families help children grow up safe and secure\nEarly support can prevent abuse and neglect\nCommunities play a vital role in protecting children\n\nGet Involved\nTake action this April by spreading awareness\, supporting families\, and being a voice for children in need.
URL:https://meadangels.org/event/april-is-child-abuse-prevention-month/
END:VEVENT
END:VCALENDAR