BEGIN:VCALENDAR
VERSION:2.0
PRODID:-//Guardian Angels Catholic Church - ECPv6.15.20//NONSGML v1.0//EN
CALSCALE:GREGORIAN
METHOD:PUBLISH
X-ORIGINAL-URL:https://meadangels.org
X-WR-CALDESC:Events for Guardian Angels Catholic Church
REFRESH-INTERVAL;VALUE=DURATION:PT1H
X-Robots-Tag:noindex
X-PUBLISHED-TTL:PT1H
BEGIN:VTIMEZONE
TZID:America/Denver
BEGIN:DAYLIGHT
TZOFFSETFROM:-0700
TZOFFSETTO:-0600
TZNAME:MDT
DTSTART:20250309T090000
END:DAYLIGHT
BEGIN:STANDARD
TZOFFSETFROM:-0600
TZOFFSETTO:-0700
TZNAME:MST
DTSTART:20251102T080000
END:STANDARD
BEGIN:DAYLIGHT
TZOFFSETFROM:-0700
TZOFFSETTO:-0600
TZNAME:MDT
DTSTART:20260308T090000
END:DAYLIGHT
BEGIN:STANDARD
TZOFFSETFROM:-0600
TZOFFSETTO:-0700
TZNAME:MST
DTSTART:20261101T080000
END:STANDARD
BEGIN:DAYLIGHT
TZOFFSETFROM:-0700
TZOFFSETTO:-0600
TZNAME:MDT
DTSTART:20270314T090000
END:DAYLIGHT
BEGIN:STANDARD
TZOFFSETFROM:-0600
TZOFFSETTO:-0700
TZNAME:MST
DTSTART:20271107T080000
END:STANDARD
END:VTIMEZONE
BEGIN:VEVENT
DTSTART;VALUE=DATE:20260130
DTEND;VALUE=DATE:20260301
DTSTAMP:20260419T105545
CREATED:20260131T003417Z
LAST-MODIFIED:20260131T003417Z
UID:10002944-1769731200-1772323199@meadangels.org
SUMMARY:St. Francis of Assisi Jubilee Year Pilgrimage Site
DESCRIPTION:In honor of the 800th anniversary of the death of St. Francis of Assisi\, the Church is celebrating a special Jubilee Year dedicated to his life and legacy. Pope Leo XIV has designated 2026 as a Jubilee Year of St. Francis\, inviting the faithful to deeper conversion\, prayer\, and renewal. \n  \n\nSt. Francis of Assisi Catholic Church in Longmont has once again been named an official pilgrimage site for the Archdiocese of Denver\nPilgrims are invited to visit the church throughout the Jubilee Year to pray and reflect on the witness of St. Francis\nThe Jubilee Year is a special opportunity to receive abundant graces through pilgrimage\, prayer\, and the sacraments\nInformation on how to obtain a plenary indulgence is available in the guide located on the hospitality cart
URL:https://meadangels.org/event/st-francis-of-assisi-jubilee-year-pilgrimage-site/
LOCATION:St. Francis of Assisi Roman Catholic Church\, 3791 Pike Rd\, Longmont\, CO\, 80503\, United States
END:VEVENT
BEGIN:VEVENT
DTSTART;VALUE=DATE:20260221
DTEND;VALUE=DATE:20260222
DTSTAMP:20260419T105545
CREATED:20251206T190843Z
LAST-MODIFIED:20260220T180853Z
UID:10002866-1771632000-1771718399@meadangels.org
SUMMARY:Denver Summit: Building Men of Faith
DESCRIPTION:Men are invited to attend the 4th Annual Denver Summit\, a powerful day dedicated to strengthening faith\, leadership\, and discipleship. Hosted at Immaculate Heart of Mary Parish\, this summit gathers Catholic men from across Northern Colorado to grow in their relationship with Jesus and His Church. \n  \nThe mission of Summit Men of Northern Colorado is to inspire and equip men to disciple other men in every parish and in the community\, helping them live out Christ’s Great Commission. \n  \nMass will be celebrated by Bishop Jorge Rodriguez at 8:00 am. \n  \nGuardian Angels will cover half of the registration cost to support men who wish to attend. \n  \nEvent Details\n\nDate: Saturday\, February 21\nLocation: Immaculate Heart of Mary Parish in Northglenn\nCost: $160 with Guardian Angels paying half\nMass at 8:00 am celebrated by Bishop Jorge Rodriguez\nRegister at summitmen.co\n\n  \nTake this opportunity to deepen your faith and be equipped to lead and serve with courage.
URL:https://meadangels.org/event/denver-summit-building-men-of-faith/
LOCATION:Immaculate Heart of Mary Catholic Parish\, 11385 Grant Drive\, Northglenn\, CO\, 80233\, United States
CATEGORIES:Men's Group
END:VEVENT
BEGIN:VEVENT
DTSTART;VALUE=DATE:20260221
DTEND;VALUE=DATE:20260223
DTSTAMP:20260419T105546
CREATED:20260219T050338Z
LAST-MODIFIED:20260219T073922Z
UID:10002968-1771632000-1771804799@meadangels.org
SUMMARY:Giving Weekend: Veterans Community Project
DESCRIPTION:This weekend\, our parish will support Veterans Community Project (VCP) — an organization dedicated to serving homeless and at-risk veterans with dignity\, housing\, and supportive services. \nYour generosity will help provide practical\, everyday essentials that make a real difference in the lives of those who have served our country. \n🏠 About Veterans Community Project\nVeterans Community Project provides: \n\nTransitional tiny-home housing for veterans\nCase management and support services\nAccess to employment\, healthcare\, and long-term housing resources\nA community built on dignity and respect\n\nLearn more about their mission and full donation list here:👉 https://vcp.org/take-action/ways-to-give/donate-goods/ \nMost Needed Items for This Weekend\nIn addition to their online wish list\, VCP is specifically requesting: \n\nWalmart Gift Cards – $25 and $50 denominations\nMen’s and Women’s Socks (new only)\nMen’s Shampoo\nHand\, Feet\, and Body Warmers (such as HotHands brand)\n\nThese items help veterans stay warm\, clean\, and cared for — especially during colder months. \nHow You Can Help\n\nPurchase one or more of the requested items\nBring donations to church this weekend\nPray for the veterans being served through VCP\n\nEvery donation\, no matter the size\, makes an impact. \nThank you for supporting our veterans and helping us serve those who have sacrificed so much. 🇺🇸
URL:https://meadangels.org/event/giving-weekend-veterans-community-project-2/
END:VEVENT
BEGIN:VEVENT
DTSTART;VALUE=DATE:20260221
DTEND;VALUE=DATE:20260223
DTSTAMP:20260419T105546
CREATED:20260219T051708Z
LAST-MODIFIED:20260219T074012Z
UID:10002969-1771632000-1771804799@meadangels.org
SUMMARY:Black and Indian Missions Collection
DESCRIPTION:This weekend\, our parish will support the 142nd Annual Black and Indian Mission Collection. As a tithing community\, a portion of the regular offertory will be dedicated to helping build the Church in African American\, Native American\, and Alaska Native communities across the United States. Your generosity ensures that schools\, parish religious education programs\, and diocesan ministries have the resources they need to spread the Gospel of Jesus Christ. \nHow Your Support Makes a Difference\n\nStrengthens faith communities from coast to coast\nSupports schools and education programs for children and adults\nProvides resources for parish religious education programs\nAssists diocesan ministries in meeting unmet needs\nHelps share the message of Jesus Christ in communities with limited resources\n\nLearn more about the collection and how to give at Black and Indian Mission Office.
URL:https://meadangels.org/event/black-and-indian-missions-collection/
END:VEVENT
END:VCALENDAR