BEGIN:VCALENDAR
VERSION:2.0
PRODID:-//Guardian Angels Catholic Church - ECPv6.15.20//NONSGML v1.0//EN
CALSCALE:GREGORIAN
METHOD:PUBLISH
X-ORIGINAL-URL:https://meadangels.org
X-WR-CALDESC:Events for Guardian Angels Catholic Church
REFRESH-INTERVAL;VALUE=DURATION:PT1H
X-Robots-Tag:noindex
X-PUBLISHED-TTL:PT1H
BEGIN:VTIMEZONE
TZID:America/Denver
BEGIN:DAYLIGHT
TZOFFSETFROM:-0700
TZOFFSETTO:-0600
TZNAME:MDT
DTSTART:20250309T090000
END:DAYLIGHT
BEGIN:STANDARD
TZOFFSETFROM:-0600
TZOFFSETTO:-0700
TZNAME:MST
DTSTART:20251102T080000
END:STANDARD
BEGIN:DAYLIGHT
TZOFFSETFROM:-0700
TZOFFSETTO:-0600
TZNAME:MDT
DTSTART:20260308T090000
END:DAYLIGHT
BEGIN:STANDARD
TZOFFSETFROM:-0600
TZOFFSETTO:-0700
TZNAME:MST
DTSTART:20261101T080000
END:STANDARD
BEGIN:DAYLIGHT
TZOFFSETFROM:-0700
TZOFFSETTO:-0600
TZNAME:MDT
DTSTART:20270314T090000
END:DAYLIGHT
BEGIN:STANDARD
TZOFFSETFROM:-0600
TZOFFSETTO:-0700
TZNAME:MST
DTSTART:20271107T080000
END:STANDARD
END:VTIMEZONE
BEGIN:VEVENT
DTSTART;VALUE=DATE:20260130
DTEND;VALUE=DATE:20260301
DTSTAMP:20260419T193843
CREATED:20260131T003417Z
LAST-MODIFIED:20260131T003417Z
UID:10002944-1769731200-1772323199@meadangels.org
SUMMARY:St. Francis of Assisi Jubilee Year Pilgrimage Site
DESCRIPTION:In honor of the 800th anniversary of the death of St. Francis of Assisi\, the Church is celebrating a special Jubilee Year dedicated to his life and legacy. Pope Leo XIV has designated 2026 as a Jubilee Year of St. Francis\, inviting the faithful to deeper conversion\, prayer\, and renewal. \n  \n\nSt. Francis of Assisi Catholic Church in Longmont has once again been named an official pilgrimage site for the Archdiocese of Denver\nPilgrims are invited to visit the church throughout the Jubilee Year to pray and reflect on the witness of St. Francis\nThe Jubilee Year is a special opportunity to receive abundant graces through pilgrimage\, prayer\, and the sacraments\nInformation on how to obtain a plenary indulgence is available in the guide located on the hospitality cart
URL:https://meadangels.org/event/st-francis-of-assisi-jubilee-year-pilgrimage-site/
LOCATION:St. Francis of Assisi Roman Catholic Church\, 3791 Pike Rd\, Longmont\, CO\, 80503\, United States
END:VEVENT
BEGIN:VEVENT
DTSTART;TZID=America/Denver:20260216T090000
DTEND;TZID=America/Denver:20260216T110000
DTSTAMP:20260419T193843
CREATED:20240409T214444Z
LAST-MODIFIED:20250110T183320Z
UID:10000301-1771232400-1771239600@meadangels.org
SUMMARY:Caring Hands Crafters Meeting
DESCRIPTION:We create handmade items with love and care to bring comfort and support to those in need within our Catholic community. Whether you’re an experienced crafter or just starting out\, there’s a place for you to make a difference in our community. New members of all ages (women and men) and talents (woodworkers\, metal workers\, artists\, crafters) are welcome. Caring Hands Crafters meet every Monday at 9 – 11 am in the Catechetical Center (CC Center). \n 
URL:https://meadangels.org/event/caring-hands-crafters-meeting/2026-02-16/
LOCATION:Guardian Angels Catholic Church: Catechetical Center (CC Center)\, 109 S. 3rd Street\, Mead\, CO\, 80542\, United States
CATEGORIES:Caring Hands Crafters
ATTACH;FMTTYPE=image/jpeg:https://meadangels.org/wp-content/uploads/IMG_7847.jpeg
END:VEVENT
BEGIN:VEVENT
DTSTART;TZID=America/Denver:20260216T113000
DTEND;TZID=America/Denver:20260216T130000
DTSTAMP:20260419T193843
CREATED:20251219T142330Z
LAST-MODIFIED:20260131T013447Z
UID:10002670-1771241400-1771246800@meadangels.org
SUMMARY:Bible Study Every Monday
DESCRIPTION:When: Mondays\, 11:30 AM – 1:00 PM\nWhere: CC Center\nLed by: Sandy Gross \nJoin us for an enriching time of fellowship and learning as we dive into the Word of God together. Led by Sandy Gross\, this weekly Bible study offers an opportunity to explore scripture\, deepen your faith\, and connect with others in a supportive and welcoming environment. \nWhether you’re new to Bible study or have been attending for years\, all are welcome to participate. Bring your Bible\, your questions\, and an open heart. We look forward to seeing you there.
URL:https://meadangels.org/event/bible-study-every-monday-3-2-2/2026-02-16/
LOCATION:Guardian Angels Catholic Church: Catechetical Center (CC Center)\, 109 S. 3rd Street\, Mead\, CO\, 80542\, United States
CATEGORIES:Faith Outreach
ATTACH;FMTTYPE=image/jpeg:https://meadangels.org/wp-content/uploads/Bible-Study-2026.jpg
ORGANIZER;CN="Sandy Gross":MAILTO:faithOutreach@meadangels.org
END:VEVENT
END:VCALENDAR