BEGIN:VCALENDAR
VERSION:2.0
PRODID:-//Guardian Angels Catholic Church - ECPv6.15.20//NONSGML v1.0//EN
CALSCALE:GREGORIAN
METHOD:PUBLISH
X-WR-CALNAME:Guardian Angels Catholic Church
X-ORIGINAL-URL:https://meadangels.org
X-WR-CALDESC:Events for Guardian Angels Catholic Church
REFRESH-INTERVAL;VALUE=DURATION:PT1H
X-Robots-Tag:noindex
X-PUBLISHED-TTL:PT1H
BEGIN:VTIMEZONE
TZID:America/Denver
BEGIN:DAYLIGHT
TZOFFSETFROM:-0700
TZOFFSETTO:-0600
TZNAME:MDT
DTSTART:20250309T090000
END:DAYLIGHT
BEGIN:STANDARD
TZOFFSETFROM:-0600
TZOFFSETTO:-0700
TZNAME:MST
DTSTART:20251102T080000
END:STANDARD
BEGIN:DAYLIGHT
TZOFFSETFROM:-0700
TZOFFSETTO:-0600
TZNAME:MDT
DTSTART:20260308T090000
END:DAYLIGHT
BEGIN:STANDARD
TZOFFSETFROM:-0600
TZOFFSETTO:-0700
TZNAME:MST
DTSTART:20261101T080000
END:STANDARD
BEGIN:DAYLIGHT
TZOFFSETFROM:-0700
TZOFFSETTO:-0600
TZNAME:MDT
DTSTART:20270314T090000
END:DAYLIGHT
BEGIN:STANDARD
TZOFFSETFROM:-0600
TZOFFSETTO:-0700
TZNAME:MST
DTSTART:20271107T080000
END:STANDARD
END:VTIMEZONE
BEGIN:VEVENT
DTSTART;VALUE=DATE:20260116
DTEND;VALUE=DATE:20260117
DTSTAMP:20260419T193510
CREATED:20251206T182354Z
LAST-MODIFIED:20260126T210528Z
UID:10002864-1768521600-1768607999@meadangels.org
SUMMARY:Explore Holy Family High School and Scholarship Opportunities
DESCRIPTION:If you are an 8th grader seeking a high school community built on faith\, learning\, and tradition\, Holy Family High School invites you to begin your journey. \nYour path to Holy Family starts here. Visit www.holyfamilyhs.com/admissions to learn more. The application deadline is December 12. \nFor questions or to schedule a tour\, call the Admissions Office at 303.410.1411. The school is located at 5195 W. 144th Ave. in Broomfield Colorado. \nHoly Family High School also offers three scholarships for incoming Catholic freshmen who demonstrate financial need. These scholarships require a parish nomination. Please contact the parish office for information and details about submitting a nomination. Scholarship submissions are due January 16.
URL:https://meadangels.org/event/explore-holy-family-high-school-and-scholarship-opportunities/
LOCATION:Holy Family High School\, 5195 W 144th Ave\, Broomfield\, CO\, 80023\, United States
END:VEVENT
END:VCALENDAR