BEGIN:VCALENDAR
VERSION:2.0
PRODID:-//Guardian Angels Catholic Church - ECPv6.15.20//NONSGML v1.0//EN
CALSCALE:GREGORIAN
METHOD:PUBLISH
X-WR-CALNAME:Guardian Angels Catholic Church
X-ORIGINAL-URL:https://meadangels.org
X-WR-CALDESC:Events for Guardian Angels Catholic Church
REFRESH-INTERVAL;VALUE=DURATION:PT1H
X-Robots-Tag:noindex
X-PUBLISHED-TTL:PT1H
BEGIN:VTIMEZONE
TZID:America/Denver
BEGIN:DAYLIGHT
TZOFFSETFROM:-0700
TZOFFSETTO:-0600
TZNAME:MDT
DTSTART:20240310T090000
END:DAYLIGHT
BEGIN:STANDARD
TZOFFSETFROM:-0600
TZOFFSETTO:-0700
TZNAME:MST
DTSTART:20241103T080000
END:STANDARD
BEGIN:DAYLIGHT
TZOFFSETFROM:-0700
TZOFFSETTO:-0600
TZNAME:MDT
DTSTART:20250309T090000
END:DAYLIGHT
BEGIN:STANDARD
TZOFFSETFROM:-0600
TZOFFSETTO:-0700
TZNAME:MST
DTSTART:20251102T080000
END:STANDARD
BEGIN:DAYLIGHT
TZOFFSETFROM:-0700
TZOFFSETTO:-0600
TZNAME:MDT
DTSTART:20260308T090000
END:DAYLIGHT
BEGIN:STANDARD
TZOFFSETFROM:-0600
TZOFFSETTO:-0700
TZNAME:MST
DTSTART:20261101T080000
END:STANDARD
END:VTIMEZONE
BEGIN:VEVENT
DTSTART;VALUE=DATE:20251129
DTEND;VALUE=DATE:20251215
DTSTAMP:20260419T193534
CREATED:20251115T220736Z
LAST-MODIFIED:20251115T222133Z
UID:10002853-1764374400-1765756799@meadangels.org
SUMMARY:Giving Tree 🌲
DESCRIPTION:Ornaments for this year’s Giving Tree will be available to sign out November 29–30 in Bakhita Hall. We are blessed to support the residents of Berthoud Care & Rehab Center\, children from local schools\, Marisol Health of Northern Colorado\, and the St. Vincent de Paul Society of Guardian Angels. \nPlease return all gifts unwrapped\, with the ornament attached\, by Sunday\, December 14. \nIf you have any questions\, please contact Susie at smf224@msn.com. \nThank you for helping make Christmas a little brighter for those in need!
URL:https://meadangels.org/event/giving-tree-%f0%9f%8c%b2/
LOCATION:Guardian Angels Catholic Church (Bakhita Hall)\, 109 S. 3rd Street\, Mead\, CO\, 80542\, United States
END:VEVENT
BEGIN:VEVENT
DTSTART;VALUE=DATE:20251209
DTEND;VALUE=DATE:20251212
DTSTAMP:20260419T193534
CREATED:20251205T201232Z
LAST-MODIFIED:20251205T201506Z
UID:10002857-1765238400-1765497599@meadangels.org
SUMMARY:Kitchen Volunteers 👩🏻‍🍳👨🏽‍🍳 Needed for Las Posadas
DESCRIPTION:The Women’s Group needs help with food prepping and cooking for Las Posadas on December 9\, 10 and 11 from 3 – 6 pm. \n  \nContact Juliette at juliettelepine5@gmail.com with questions. Thank you.
URL:https://meadangels.org/event/kitchen-volunteers-needed-for-las-posadas/
CATEGORIES:Women's Group
END:VEVENT
BEGIN:VEVENT
DTSTART;TZID=America/Denver:20251211T190000
DTEND;TZID=America/Denver:20251211T201500
DTSTAMP:20260419T193534
CREATED:20250908T162340Z
LAST-MODIFIED:20250908T164747Z
UID:10002755-1765479600-1765484100@meadangels.org
SUMMARY:New Fall Bible Studies for Men
DESCRIPTION:Looking to deepen your faith this fall? Join us for an enriching Bible study led by Tim Gross. Together\, we’ll discover deeper insights into Scripture\, grow spiritually\, and connect with a supportive community of faith. \n\n📅 Thursdays\, 7:00 – 8:15 PM\n🗓 Beginning September 11\n\nAll are welcome—whether you are new to Bible study or have been attending for years. \n📩 Questions? Email: faithoutreach@meadangels.org
URL:https://meadangels.org/event/new-fall-bible-studies/2025-12-11/
LOCATION:Guardian Angels Catholic Church\, 109 S. 3rd Street\, Mead\, 80542\, United States
CATEGORIES:Faith Outreach
END:VEVENT
END:VCALENDAR