BEGIN:VCALENDAR
VERSION:2.0
PRODID:-//Guardian Angels Catholic Church - ECPv6.15.20//NONSGML v1.0//EN
CALSCALE:GREGORIAN
METHOD:PUBLISH
X-WR-CALNAME:Guardian Angels Catholic Church
X-ORIGINAL-URL:https://meadangels.org
X-WR-CALDESC:Events for Guardian Angels Catholic Church
REFRESH-INTERVAL;VALUE=DURATION:PT1H
X-Robots-Tag:noindex
X-PUBLISHED-TTL:PT1H
BEGIN:VTIMEZONE
TZID:America/Denver
BEGIN:DAYLIGHT
TZOFFSETFROM:-0700
TZOFFSETTO:-0600
TZNAME:MDT
DTSTART:20240310T090000
END:DAYLIGHT
BEGIN:STANDARD
TZOFFSETFROM:-0600
TZOFFSETTO:-0700
TZNAME:MST
DTSTART:20241103T080000
END:STANDARD
BEGIN:DAYLIGHT
TZOFFSETFROM:-0700
TZOFFSETTO:-0600
TZNAME:MDT
DTSTART:20250309T090000
END:DAYLIGHT
BEGIN:STANDARD
TZOFFSETFROM:-0600
TZOFFSETTO:-0700
TZNAME:MST
DTSTART:20251102T080000
END:STANDARD
BEGIN:DAYLIGHT
TZOFFSETFROM:-0700
TZOFFSETTO:-0600
TZNAME:MDT
DTSTART:20260308T090000
END:DAYLIGHT
BEGIN:STANDARD
TZOFFSETFROM:-0600
TZOFFSETTO:-0700
TZNAME:MST
DTSTART:20261101T080000
END:STANDARD
END:VTIMEZONE
BEGIN:VEVENT
DTSTART;VALUE=DATE:20251025
DTEND;VALUE=DATE:20251202
DTSTAMP:20260419T193537
CREATED:20251025T071513Z
LAST-MODIFIED:20251025T071608Z
UID:10002844-1761350400-1764633599@meadangels.org
SUMMARY:Calling All Kids Ages 5–14: Keep Christ in Christmas 🎄 Poster Contest
DESCRIPTION:The Knights of Columbus invite all children ages 5 through 14 to share their creativity and faith by entering the Keep Christ in Christmas Poster Contest! Participants will use their artistic talents to express the true meaning of Christmas. \nThree winners will be selected in three age categories\, and winners may advance to district\, regional\, state\, and even international levels! \nSubmissions are due to Guardian Angels by December 1\, and winners will be announced December 14. More details coming soon. \nFor more information\, contact Tommy Thoene at tommythoene@gmail.com.Sharpen your pencils and start creating!
URL:https://meadangels.org/event/calling-all-kids-ages-5-14-keep-christ-in-christmas-%f0%9f%8e%84-poster-contest/
CATEGORIES:Children Formation,Knights of Columbus,Youth Formation (6th-8th)
END:VEVENT
BEGIN:VEVENT
DTSTART;VALUE=DATE:20251129
DTEND;VALUE=DATE:20251215
DTSTAMP:20260419T193537
CREATED:20251115T220736Z
LAST-MODIFIED:20251115T222133Z
UID:10002853-1764374400-1765756799@meadangels.org
SUMMARY:Giving Tree 🌲
DESCRIPTION:Ornaments for this year’s Giving Tree will be available to sign out November 29–30 in Bakhita Hall. We are blessed to support the residents of Berthoud Care & Rehab Center\, children from local schools\, Marisol Health of Northern Colorado\, and the St. Vincent de Paul Society of Guardian Angels. \nPlease return all gifts unwrapped\, with the ornament attached\, by Sunday\, December 14. \nIf you have any questions\, please contact Susie at smf224@msn.com. \nThank you for helping make Christmas a little brighter for those in need!
URL:https://meadangels.org/event/giving-tree-%f0%9f%8c%b2/
LOCATION:Guardian Angels Catholic Church (Bakhita Hall)\, 109 S. 3rd Street\, Mead\, CO\, 80542\, United States
END:VEVENT
BEGIN:VEVENT
DTSTART;TZID=America/Denver:20251201T090000
DTEND;TZID=America/Denver:20251201T110000
DTSTAMP:20260419T193537
CREATED:20240409T214444Z
LAST-MODIFIED:20250110T183320Z
UID:10000290-1764579600-1764586800@meadangels.org
SUMMARY:Caring Hands Crafters Meeting
DESCRIPTION:We create handmade items with love and care to bring comfort and support to those in need within our Catholic community. Whether you’re an experienced crafter or just starting out\, there’s a place for you to make a difference in our community. New members of all ages (women and men) and talents (woodworkers\, metal workers\, artists\, crafters) are welcome. Caring Hands Crafters meet every Monday at 9 – 11 am in the Catechetical Center (CC Center). \n 
URL:https://meadangels.org/event/caring-hands-crafters-meeting/2025-12-01/
LOCATION:Guardian Angels Catholic Church: Catechetical Center (CC Center)\, 109 S. 3rd Street\, Mead\, CO\, 80542\, United States
CATEGORIES:Caring Hands Crafters
ATTACH;FMTTYPE=image/jpeg:https://meadangels.org/wp-content/uploads/IMG_7847.jpeg
END:VEVENT
BEGIN:VEVENT
DTSTART;TZID=America/Denver:20251201T113000
DTEND;TZID=America/Denver:20251201T130000
DTSTAMP:20260419T193537
CREATED:20250628T233827Z
LAST-MODIFIED:20250628T234044Z
UID:10002659-1764588600-1764594000@meadangels.org
SUMMARY:Bible Study Every Monday
DESCRIPTION:When: Mondays\, 11:30 AM – 1:00 PM\nWhere: CC Center\nLed by: Sandy Gross \nJoin us for an enriching time of fellowship and learning as we dive into the Word of God together. Led by Sandy Gross\, this weekly Bible study offers an opportunity to explore scripture\, deepen your faith\, and connect with others in a supportive and welcoming environment. \nWhether you’re new to Bible study or have been attending for years\, all are welcome to participate. Bring your Bible\, your questions\, and an open heart. We look forward to seeing you there.
URL:https://meadangels.org/event/bible-study-every-monday-3/2025-12-01/
LOCATION:Guardian Angels Catholic Church: Catechetical Center (CC Center)\, 109 S. 3rd Street\, Mead\, CO\, 80542\, United States
CATEGORIES:Faith Outreach
ATTACH;FMTTYPE=image/jpeg:https://meadangels.org/wp-content/uploads/IMG_8145.jpeg
ORGANIZER;CN="Sandy Gross":MAILTO:faithOutreach@meadangels.org
END:VEVENT
BEGIN:VEVENT
DTSTART;TZID=America/Denver:20251201T183000
DTEND;TZID=America/Denver:20251201T200000
DTSTAMP:20260419T193537
CREATED:20250908T160228Z
LAST-MODIFIED:20250908T160755Z
UID:10002739-1764613800-1764619200@meadangels.org
SUMMARY:O.C.I.A (Order of Christian Initiation of Adults)
DESCRIPTION:Are you seeking to deepen your faith or begin your journey in the Catholic Church? \n\n\nNeed to prepare to receive a sacrament? \n\n\nInterested in becoming Catholic? \n\n\nWant to learn more about the Catholic faith? \n\n\nThe Order of Christian Initiation of Adults (O.C.I.A.) is for you. \n\n📅 Mondays\, 6:30 – 8:00 PM\n📍 Bakhita Hall\n🗓 Beginning September 8\n\nSessions are led by Deacon Tim McCann and provide an opportunity to grow in faith\, ask questions\, and walk with others on the same journey. \n👉 For more information\, please email Deacon Tim.
URL:https://meadangels.org/event/o-c-i-a-order-of-christian-initiation-of-adults/2025-12-01/
LOCATION:Guardian Angels Catholic Church (Bakhita Hall)\, 109 S. 3rd Street\, Mead\, CO\, 80542\, United States
CATEGORIES:OCIA (Order of Christian Initiation for Adults)
END:VEVENT
END:VCALENDAR