BEGIN:VCALENDAR
VERSION:2.0
PRODID:-//Guardian Angels Catholic Church - ECPv6.15.20//NONSGML v1.0//EN
CALSCALE:GREGORIAN
METHOD:PUBLISH
X-WR-CALNAME:Guardian Angels Catholic Church
X-ORIGINAL-URL:https://meadangels.org
X-WR-CALDESC:Events for Guardian Angels Catholic Church
REFRESH-INTERVAL;VALUE=DURATION:PT1H
X-Robots-Tag:noindex
X-PUBLISHED-TTL:PT1H
BEGIN:VTIMEZONE
TZID:America/Denver
BEGIN:DAYLIGHT
TZOFFSETFROM:-0700
TZOFFSETTO:-0600
TZNAME:MDT
DTSTART:20240310T090000
END:DAYLIGHT
BEGIN:STANDARD
TZOFFSETFROM:-0600
TZOFFSETTO:-0700
TZNAME:MST
DTSTART:20241103T080000
END:STANDARD
BEGIN:DAYLIGHT
TZOFFSETFROM:-0700
TZOFFSETTO:-0600
TZNAME:MDT
DTSTART:20250309T090000
END:DAYLIGHT
BEGIN:STANDARD
TZOFFSETFROM:-0600
TZOFFSETTO:-0700
TZNAME:MST
DTSTART:20251102T080000
END:STANDARD
BEGIN:DAYLIGHT
TZOFFSETFROM:-0700
TZOFFSETTO:-0600
TZNAME:MDT
DTSTART:20260308T090000
END:DAYLIGHT
BEGIN:STANDARD
TZOFFSETFROM:-0600
TZOFFSETTO:-0700
TZNAME:MST
DTSTART:20261101T080000
END:STANDARD
END:VTIMEZONE
BEGIN:VEVENT
DTSTART;VALUE=DATE:20251025
DTEND;VALUE=DATE:20251202
DTSTAMP:20260419T211441
CREATED:20251025T071513Z
LAST-MODIFIED:20251025T071608Z
UID:10002844-1761350400-1764633599@meadangels.org
SUMMARY:Calling All Kids Ages 5–14: Keep Christ in Christmas 🎄 Poster Contest
DESCRIPTION:The Knights of Columbus invite all children ages 5 through 14 to share their creativity and faith by entering the Keep Christ in Christmas Poster Contest! Participants will use their artistic talents to express the true meaning of Christmas. \nThree winners will be selected in three age categories\, and winners may advance to district\, regional\, state\, and even international levels! \nSubmissions are due to Guardian Angels by December 1\, and winners will be announced December 14. More details coming soon. \nFor more information\, contact Tommy Thoene at tommythoene@gmail.com.Sharpen your pencils and start creating!
URL:https://meadangels.org/event/calling-all-kids-ages-5-14-keep-christ-in-christmas-%f0%9f%8e%84-poster-contest/
CATEGORIES:Children Formation,Knights of Columbus,Youth Formation (6th-8th)
END:VEVENT
BEGIN:VEVENT
DTSTART;VALUE=DATE:20251102
DTEND;VALUE=DATE:20251109
DTSTAMP:20260419T211441
CREATED:20251107T221307Z
LAST-MODIFIED:20251107T221307Z
UID:10002851-1762041600-1762646399@meadangels.org
SUMMARY:Vocation Awareness Week
DESCRIPTION:November 2 to 8 is Vocation Awareness Week\, a time to pray that young people will hear and respond to God’s call in their lives. We are all invited to encourage and support them as they discern vocations to the priesthood and consecrated life.
URL:https://meadangels.org/event/vocation-awareness-week/
CATEGORIES:Holy Orders
END:VEVENT
BEGIN:VEVENT
DTSTART;VALUE=DATE:20251108
DTEND;VALUE=DATE:20251110
DTSTAMP:20260419T211441
CREATED:20250110T193424Z
LAST-MODIFIED:20251107T211512Z
UID:10002522-1762560000-1762732799@meadangels.org
SUMMARY:Get your Breakfast Burritos 🌯 this weekend
DESCRIPTION:Get Your Breakfast Burritos 🌯 after each Mass in the Narthex \n\n$4 each or 5 for $18\n\nThe Knights of Columbus have been busy making delicious breakfast burritos this week. Don’t miss out—get them while they last this weekend. \n  \nYummy and made with care. Perfect for breakfast or a quick snack—grab yours before they’re gone. Enjoy and support a great cause.
URL:https://meadangels.org/event/get-your-breakfast-burritos-%f0%9f%8c%af/
LOCATION:Guardian Angels Catholic Church\, 109 S. 3rd Street\, Mead\, 80542\, United States
CATEGORIES:Knights of Columbus
ATTACH;FMTTYPE=image/jpeg:https://meadangels.org/wp-content/uploads/knights-burritos-scaled.jpeg
END:VEVENT
BEGIN:VEVENT
DTSTART;VALUE=DATE:20251108
DTEND;VALUE=DATE:20251110
DTSTAMP:20260419T211441
CREATED:20251003T161659Z
LAST-MODIFIED:20251008T191541Z
UID:10002807-1762560000-1762732799@meadangels.org
SUMMARY:Guardian Angels Ministry Fair
DESCRIPTION:November 8 – 9 | After All Masses | Bakhita Hall \nDiscover the many ways you can share your time\, talents\, and gifts at Guardian Angels. \nJoin us after all Masses the weekend of November 8–9 in Bakhita Hall for our annual Ministry Fair. Representatives from a variety of ministries will be on hand to answer questions\, provide information\, and help you find opportunities to get involved. Whether you’re looking to grow in faith\, serve others\, or build community\, there’s a place for you. \nCome\, explore\, and see where God is calling you to serve.
URL:https://meadangels.org/event/guardian-angels-ministry-fair/
LOCATION:Guardian Angels Catholic Church (Bakhita Hall)\, 109 S. 3rd Street\, Mead\, CO\, 80542\, United States
ATTACH;FMTTYPE=image/jpeg:https://meadangels.org/wp-content/uploads/IMG_0216.jpeg
END:VEVENT
BEGIN:VEVENT
DTSTART;VALUE=DATE:20251108
DTEND;VALUE=DATE:20251117
DTSTAMP:20260419T211441
CREATED:20251107T215908Z
LAST-MODIFIED:20251107T220059Z
UID:10002847-1762560000-1763337599@meadangels.org
SUMMARY:Annual Seminaries' Appeal
DESCRIPTION:The Annual Seminaries’ Appeal is taking place this weekend and next. We are invited to support the formation of future priests who will guide and serve our parishes as tomorrow’s shepherds. Your generosity helps prepare faithful men to lead the Church with devotion and love. \nDonate today at archden.org/futurepriests or call 303-867-0614.
URL:https://meadangels.org/event/annual-seminaries-appeal/
END:VEVENT
END:VCALENDAR