BEGIN:VCALENDAR
VERSION:2.0
PRODID:-//Guardian Angels Catholic Church - ECPv6.15.20//NONSGML v1.0//EN
CALSCALE:GREGORIAN
METHOD:PUBLISH
X-WR-CALNAME:Guardian Angels Catholic Church
X-ORIGINAL-URL:https://meadangels.org
X-WR-CALDESC:Events for Guardian Angels Catholic Church
REFRESH-INTERVAL;VALUE=DURATION:PT1H
X-Robots-Tag:noindex
X-PUBLISHED-TTL:PT1H
BEGIN:VTIMEZONE
TZID:America/Denver
BEGIN:DAYLIGHT
TZOFFSETFROM:-0700
TZOFFSETTO:-0600
TZNAME:MDT
DTSTART:20240310T090000
END:DAYLIGHT
BEGIN:STANDARD
TZOFFSETFROM:-0600
TZOFFSETTO:-0700
TZNAME:MST
DTSTART:20241103T080000
END:STANDARD
BEGIN:DAYLIGHT
TZOFFSETFROM:-0700
TZOFFSETTO:-0600
TZNAME:MDT
DTSTART:20250309T090000
END:DAYLIGHT
BEGIN:STANDARD
TZOFFSETFROM:-0600
TZOFFSETTO:-0700
TZNAME:MST
DTSTART:20251102T080000
END:STANDARD
BEGIN:DAYLIGHT
TZOFFSETFROM:-0700
TZOFFSETTO:-0600
TZNAME:MDT
DTSTART:20260308T090000
END:DAYLIGHT
BEGIN:STANDARD
TZOFFSETFROM:-0600
TZOFFSETTO:-0700
TZNAME:MST
DTSTART:20261101T080000
END:STANDARD
END:VTIMEZONE
BEGIN:VEVENT
DTSTART;VALUE=DATE:20250924
DTEND;VALUE=DATE:20251103
DTSTAMP:20260419T224734
CREATED:20251003T164454Z
LAST-MODIFIED:20251003T164623Z
UID:10002808-1758672000-1762127999@meadangels.org
SUMMARY:40 Days for Life
DESCRIPTION:September 24 – November 2\n\nJoin thousands of people around the world in the 40 Days for Life campaign\, a peaceful\, prayerful effort to end abortion in our communities. Through prayer and fasting\, community outreach\, and a continuous vigil\, we stand together for the protection of life. Visit www.40daysforlife.com to learn more and get involved.
URL:https://meadangels.org/event/40-days-for-life/
ATTACH;FMTTYPE=image/png:https://meadangels.org/wp-content/uploads/Screenshot-2025-10-03-at-9.28.19-AM.png
END:VEVENT
BEGIN:VEVENT
DTSTART;VALUE=DATE:20251018
DTEND;VALUE=DATE:20251020
DTSTAMP:20260419T224734
CREATED:20251018T181544Z
LAST-MODIFIED:20251018T181653Z
UID:10002810-1760745600-1760918399@meadangels.org
SUMMARY:Giving Weekend Benefits Seminarians and the Samaritan House
DESCRIPTION:Sponsored by GA Youth Group \nThis October\, our Youth Group is leading Giving Weekend to support our local seminarians and the Samaritan House. With your generous donations\, they will create care packages for seminarians and provide blankets to those in need. \nPlease bring your donations to Mass this weekend and help make a difference! \nWish List:Blankets • Tea Bags • Instant Coffee Packs • Pens • Small Notebooks • Individually Wrapped Trail Mix or Granola Bars • Disposable Razors • Black Socks (various sizes) • Breath Fresheners (mints or gum) • Gift Cards to King Soopers\, Walmart\, Safeway\, or Amazon.
URL:https://meadangels.org/event/giving-weekend-benefits-seminarians-and-the-samaritan-house/
CATEGORIES:Youth Formation (6th-8th),Youth Formation (9th-12th)
ATTACH;FMTTYPE=image/png:https://meadangels.org/wp-content/uploads/Screenshot-2025-10-19-at-2.03.51-AM.png
END:VEVENT
BEGIN:VEVENT
DTSTART;VALUE=DATE:20251019
DTEND;VALUE=DATE:20251020
DTSTAMP:20260419T224734
CREATED:20251018T183746Z
LAST-MODIFIED:20251018T183914Z
UID:10002812-1760832000-1760918399@meadangels.org
SUMMARY:World Mission Sunday
DESCRIPTION:“Missionaries of Hope Among All Peoples” \nJoin Catholics around the world in celebrating World Mission Sunday\, a day dedicated to supporting the Church’s missionary work through prayer\, sacrifice\, and generosity. As a tithing parish\, a portion of our regular offertory this weekend will benefit global mission organizations. \nThank you for helping share hope and faith among all peoples.
URL:https://meadangels.org/event/world-mission-sunday/
ATTACH;FMTTYPE=image/png:https://meadangels.org/wp-content/uploads/Screenshot-2025-10-19-at-2.04.41-AM.png
END:VEVENT
BEGIN:VEVENT
DTSTART;TZID=America/Denver:20251019T083000
DTEND;TZID=America/Denver:20251019T120000
DTSTAMP:20260419T224734
CREATED:20240519T205507Z
LAST-MODIFIED:20251219T141520Z
UID:10001637-1760862600-1760875200@meadangels.org
SUMMARY:Enjoy Ziggi's coffee and treats after Mass
DESCRIPTION:Indulge in the perfect post-Mass treat with Ziggi’s coffee and treats. Savor brewed coffee and pastries while sharing in the warmth of community and conversation. Join us for a sweet Sunday tradition (every 3rd Sunday of the month) for Ziggi’s coffee and treats.
URL:https://meadangels.org/event/enjoy-ziggis-coffee-and-treats-after-mass/2025-10-19/
LOCATION:Guardian Angels Catholic Church (Bakhita Hall)\, 109 S. 3rd Street\, Mead\, CO\, 80542\, United States
ATTACH;FMTTYPE=image/png:https://meadangels.org/wp-content/uploads/Ziggis-Coffee.png
END:VEVENT
BEGIN:VEVENT
DTSTART;TZID=America/Denver:20251019T150000
DTEND;TZID=America/Denver:20251019T203000
DTSTAMP:20260419T224734
CREATED:20251018T175050Z
LAST-MODIFIED:20251018T175933Z
UID:10002809-1760886000-1760905800@meadangels.org
SUMMARY:Youth Group Trip to Anderson Farms
DESCRIPTION:Sunday\, October 19\, 2025 | 3:00–8:30 PM \nWe’re heading to Anderson Farms in Erie\, CO for an afternoon of fall fun—corn mazes\, wagon rides\, pumpkins\, and more!Wear comfortable shoes\, bring a water bottle\, and dress in layers for the cooler evening weather. \nCome ready for fun\, laughter\, and a great time with friends.
URL:https://meadangels.org/event/youth-group-trip-to-anderson-farms/
LOCATION:Anderson Farms\, 6728 County Rd 3 1/4\, Erie\, CO\, 80516\, United States
CATEGORIES:Youth Formation (6th-8th),Youth Formation (9th-12th)
ATTACH;FMTTYPE=image/png:https://meadangels.org/wp-content/uploads/Screenshot-2025-10-19-at-1.44.45-AM.png
END:VEVENT
END:VCALENDAR