BEGIN:VCALENDAR
VERSION:2.0
PRODID:-//Guardian Angels Catholic Church - ECPv6.15.20//NONSGML v1.0//EN
CALSCALE:GREGORIAN
METHOD:PUBLISH
X-WR-CALNAME:Guardian Angels Catholic Church
X-ORIGINAL-URL:https://meadangels.org
X-WR-CALDESC:Events for Guardian Angels Catholic Church
REFRESH-INTERVAL;VALUE=DURATION:PT1H
X-Robots-Tag:noindex
X-PUBLISHED-TTL:PT1H
BEGIN:VTIMEZONE
TZID:America/Denver
BEGIN:DAYLIGHT
TZOFFSETFROM:-0700
TZOFFSETTO:-0600
TZNAME:MDT
DTSTART:20240310T090000
END:DAYLIGHT
BEGIN:STANDARD
TZOFFSETFROM:-0600
TZOFFSETTO:-0700
TZNAME:MST
DTSTART:20241103T080000
END:STANDARD
BEGIN:DAYLIGHT
TZOFFSETFROM:-0700
TZOFFSETTO:-0600
TZNAME:MDT
DTSTART:20250309T090000
END:DAYLIGHT
BEGIN:STANDARD
TZOFFSETFROM:-0600
TZOFFSETTO:-0700
TZNAME:MST
DTSTART:20251102T080000
END:STANDARD
BEGIN:DAYLIGHT
TZOFFSETFROM:-0700
TZOFFSETTO:-0600
TZNAME:MDT
DTSTART:20260308T090000
END:DAYLIGHT
BEGIN:STANDARD
TZOFFSETFROM:-0600
TZOFFSETTO:-0700
TZNAME:MST
DTSTART:20261101T080000
END:STANDARD
END:VTIMEZONE
BEGIN:VEVENT
DTSTART;VALUE=DATE:20250924
DTEND;VALUE=DATE:20251103
DTSTAMP:20260419T224744
CREATED:20251003T164454Z
LAST-MODIFIED:20251003T164623Z
UID:10002808-1758672000-1762127999@meadangels.org
SUMMARY:40 Days for Life
DESCRIPTION:September 24 – November 2\n\nJoin thousands of people around the world in the 40 Days for Life campaign\, a peaceful\, prayerful effort to end abortion in our communities. Through prayer and fasting\, community outreach\, and a continuous vigil\, we stand together for the protection of life. Visit www.40daysforlife.com to learn more and get involved.
URL:https://meadangels.org/event/40-days-for-life/
ATTACH;FMTTYPE=image/png:https://meadangels.org/wp-content/uploads/Screenshot-2025-10-03-at-9.28.19-AM.png
END:VEVENT
BEGIN:VEVENT
DTSTART;TZID=America/Denver:20251016T190000
DTEND;TZID=America/Denver:20251016T200000
DTSTAMP:20260419T224744
CREATED:20240409T204821Z
LAST-MODIFIED:20240508T040819Z
UID:10000866-1760641200-1760644800@meadangels.org
SUMMARY:Society of St. Vincent de Paul Meeting
DESCRIPTION:The St. Vincent de Paul Society conference at Guardian Angels was formed in October 2021. Since that time our group has learned much about each other and our neighbors in need. We continue to provide assistance to neighbors in Mead\, Berthoud\, Longmont\, Platteville\, and other nearby communities. We provide not only material assistance such as rent\, utilities\, telephone bills\, fuel\, and groceries but also offer friendship\, understanding\, and prayer. \n  \nMost of the financial assistance we provide comes from the generosity of Guardian Angels parishioners. We provided almost $8000 in rent assistance locally over the previous year thanks\, in large part to the generosity of Guardian Angels parishioners. With growing needs\, we have already exceeded $8000 in rent assistance in the six months of the current fiscal year. \n  \nAttend this meeting to join our Society of St. Vincent de Paul at Guardian Angels so we can do more for those in need in our community. We meet on the first and third Thursdays of each month at 7 pm in the parish conference room and on Zoom.
URL:https://meadangels.org/event/society-of-st-vincent-de-paul-meeting-2/2025-10-16/
LOCATION:Guardian Angels Catholic Church (Parish Conference Room)\, 109 S. 3rd Street\, Mead\, CO\, 10016\, United States
CATEGORIES:St. Vincent de Paul Society
ATTACH;FMTTYPE=image/jpeg:https://meadangels.org/wp-content/uploads/svdp-pink-small-scaled.jpg
ORGANIZER;CN="Rich Chopyak":MAILTO:svdp@meadangels.org
END:VEVENT
BEGIN:VEVENT
DTSTART;TZID=America/Denver:20251016T190000
DTEND;TZID=America/Denver:20251016T201500
DTSTAMP:20260419T224744
CREATED:20250908T162340Z
LAST-MODIFIED:20250908T164747Z
UID:10002747-1760641200-1760645700@meadangels.org
SUMMARY:New Fall Bible Studies for Men
DESCRIPTION:Looking to deepen your faith this fall? Join us for an enriching Bible study led by Tim Gross. Together\, we’ll discover deeper insights into Scripture\, grow spiritually\, and connect with a supportive community of faith. \n\n📅 Thursdays\, 7:00 – 8:15 PM\n🗓 Beginning September 11\n\nAll are welcome—whether you are new to Bible study or have been attending for years. \n📩 Questions? Email: faithoutreach@meadangels.org
URL:https://meadangels.org/event/new-fall-bible-studies/2025-10-16/
LOCATION:Guardian Angels Catholic Church\, 109 S. 3rd Street\, Mead\, 80542\, United States
CATEGORIES:Faith Outreach
END:VEVENT
END:VCALENDAR