BEGIN:VCALENDAR
VERSION:2.0
PRODID:-//Guardian Angels Catholic Church - ECPv6.15.20//NONSGML v1.0//EN
CALSCALE:GREGORIAN
METHOD:PUBLISH
X-ORIGINAL-URL:https://meadangels.org
X-WR-CALDESC:Events for Guardian Angels Catholic Church
REFRESH-INTERVAL;VALUE=DURATION:PT1H
X-Robots-Tag:noindex
X-PUBLISHED-TTL:PT1H
BEGIN:VTIMEZONE
TZID:America/Denver
BEGIN:DAYLIGHT
TZOFFSETFROM:-0700
TZOFFSETTO:-0600
TZNAME:MDT
DTSTART:20240310T090000
END:DAYLIGHT
BEGIN:STANDARD
TZOFFSETFROM:-0600
TZOFFSETTO:-0700
TZNAME:MST
DTSTART:20241103T080000
END:STANDARD
BEGIN:DAYLIGHT
TZOFFSETFROM:-0700
TZOFFSETTO:-0600
TZNAME:MDT
DTSTART:20250309T090000
END:DAYLIGHT
BEGIN:STANDARD
TZOFFSETFROM:-0600
TZOFFSETTO:-0700
TZNAME:MST
DTSTART:20251102T080000
END:STANDARD
BEGIN:DAYLIGHT
TZOFFSETFROM:-0700
TZOFFSETTO:-0600
TZNAME:MDT
DTSTART:20260308T090000
END:DAYLIGHT
BEGIN:STANDARD
TZOFFSETFROM:-0600
TZOFFSETTO:-0700
TZNAME:MST
DTSTART:20261101T080000
END:STANDARD
END:VTIMEZONE
BEGIN:VEVENT
DTSTART;VALUE=DATE:20250924
DTEND;VALUE=DATE:20251103
DTSTAMP:20260420T003250
CREATED:20251003T164454Z
LAST-MODIFIED:20251003T164623Z
UID:10002808-1758672000-1762127999@meadangels.org
SUMMARY:40 Days for Life
DESCRIPTION:September 24 – November 2\n\nJoin thousands of people around the world in the 40 Days for Life campaign\, a peaceful\, prayerful effort to end abortion in our communities. Through prayer and fasting\, community outreach\, and a continuous vigil\, we stand together for the protection of life. Visit www.40daysforlife.com to learn more and get involved.
URL:https://meadangels.org/event/40-days-for-life/
ATTACH;FMTTYPE=image/png:https://meadangels.org/wp-content/uploads/Screenshot-2025-10-03-at-9.28.19-AM.png
END:VEVENT
BEGIN:VEVENT
DTSTART;VALUE=DATE:20251004
DTEND;VALUE=DATE:20251013
DTSTAMP:20260420T003250
CREATED:20251003T160620Z
LAST-MODIFIED:20251003T163737Z
UID:10002806-1759536000-1760313599@meadangels.org
SUMMARY:Mountain Madness: February 13–15\, 2026
DESCRIPTION:Calling all middle schoolers! Don’t miss Mountain Madness over Presidents’ Weekend at the YMCA of the Rockies in Estes Park. This unforgettable retreat is packed with: \n\nLive worship band\nLate-night fun with friends\nSnacks\, games\, and activities galore\nTime to grow closer to Jesus\, your very best friend.\n\nYou don’t need to be part of the Youth Group to join. Everyone is welcome! \n \n📅 Important Date: Turn in your interest form (no money due yet) to the parish office or Deacon Tim by October 5. \n💲 Cost Estimate: Approximately $240 per person🤝 Financial aid available \nCome be part of the fun\, faith\, and friendship at Mountain Madness!
URL:https://meadangels.org/event/mountain-madness-february-13-15-2026/
LOCATION:YMCA of the Rockies\, 2515 Tunnel Road\, Estes Park\, CO\, 80511\, United States
CATEGORIES:Youth Formation (6th-8th)
ATTACH;FMTTYPE=image/png:https://meadangels.org/wp-content/uploads/Screenshot-2025-10-03-at-9.27.12-AM.png
END:VEVENT
BEGIN:VEVENT
DTSTART;TZID=America/Denver:20251006T090000
DTEND;TZID=America/Denver:20251006T110000
DTSTAMP:20260420T003250
CREATED:20240409T214444Z
LAST-MODIFIED:20250110T183320Z
UID:10000282-1759741200-1759748400@meadangels.org
SUMMARY:Caring Hands Crafters Meeting
DESCRIPTION:We create handmade items with love and care to bring comfort and support to those in need within our Catholic community. Whether you’re an experienced crafter or just starting out\, there’s a place for you to make a difference in our community. New members of all ages (women and men) and talents (woodworkers\, metal workers\, artists\, crafters) are welcome. Caring Hands Crafters meet every Monday at 9 – 11 am in the Catechetical Center (CC Center). \n 
URL:https://meadangels.org/event/caring-hands-crafters-meeting/2025-10-06/
LOCATION:Guardian Angels Catholic Church: Catechetical Center (CC Center)\, 109 S. 3rd Street\, Mead\, CO\, 80542\, United States
CATEGORIES:Caring Hands Crafters
ATTACH;FMTTYPE=image/jpeg:https://meadangels.org/wp-content/uploads/IMG_7847.jpeg
END:VEVENT
BEGIN:VEVENT
DTSTART;TZID=America/Denver:20251006T113000
DTEND;TZID=America/Denver:20251006T130000
DTSTAMP:20260420T003250
CREATED:20250628T233827Z
LAST-MODIFIED:20250628T234044Z
UID:10002651-1759750200-1759755600@meadangels.org
SUMMARY:Bible Study Every Monday
DESCRIPTION:When: Mondays\, 11:30 AM – 1:00 PM\nWhere: CC Center\nLed by: Sandy Gross \nJoin us for an enriching time of fellowship and learning as we dive into the Word of God together. Led by Sandy Gross\, this weekly Bible study offers an opportunity to explore scripture\, deepen your faith\, and connect with others in a supportive and welcoming environment. \nWhether you’re new to Bible study or have been attending for years\, all are welcome to participate. Bring your Bible\, your questions\, and an open heart. We look forward to seeing you there.
URL:https://meadangels.org/event/bible-study-every-monday-3/2025-10-06/
LOCATION:Guardian Angels Catholic Church: Catechetical Center (CC Center)\, 109 S. 3rd Street\, Mead\, CO\, 80542\, United States
CATEGORIES:Faith Outreach
ATTACH;FMTTYPE=image/jpeg:https://meadangels.org/wp-content/uploads/IMG_8145.jpeg
ORGANIZER;CN="Sandy Gross":MAILTO:faithOutreach@meadangels.org
END:VEVENT
BEGIN:VEVENT
DTSTART;TZID=America/Denver:20251006T183000
DTEND;TZID=America/Denver:20251006T200000
DTSTAMP:20260420T003250
CREATED:20250908T160228Z
LAST-MODIFIED:20250908T160755Z
UID:10002731-1759775400-1759780800@meadangels.org
SUMMARY:O.C.I.A (Order of Christian Initiation of Adults)
DESCRIPTION:Are you seeking to deepen your faith or begin your journey in the Catholic Church? \n\n\nNeed to prepare to receive a sacrament? \n\n\nInterested in becoming Catholic? \n\n\nWant to learn more about the Catholic faith? \n\n\nThe Order of Christian Initiation of Adults (O.C.I.A.) is for you. \n\n📅 Mondays\, 6:30 – 8:00 PM\n📍 Bakhita Hall\n🗓 Beginning September 8\n\nSessions are led by Deacon Tim McCann and provide an opportunity to grow in faith\, ask questions\, and walk with others on the same journey. \n👉 For more information\, please email Deacon Tim.
URL:https://meadangels.org/event/o-c-i-a-order-of-christian-initiation-of-adults/2025-10-06/
LOCATION:Guardian Angels Catholic Church (Bakhita Hall)\, 109 S. 3rd Street\, Mead\, CO\, 80542\, United States
CATEGORIES:OCIA (Order of Christian Initiation for Adults)
END:VEVENT
END:VCALENDAR