BEGIN:VCALENDAR
VERSION:2.0
PRODID:-//Guardian Angels Catholic Church - ECPv6.15.20//NONSGML v1.0//EN
CALSCALE:GREGORIAN
METHOD:PUBLISH
X-ORIGINAL-URL:https://meadangels.org
X-WR-CALDESC:Events for Guardian Angels Catholic Church
REFRESH-INTERVAL;VALUE=DURATION:PT1H
X-Robots-Tag:noindex
X-PUBLISHED-TTL:PT1H
BEGIN:VTIMEZONE
TZID:America/Denver
BEGIN:DAYLIGHT
TZOFFSETFROM:-0700
TZOFFSETTO:-0600
TZNAME:MDT
DTSTART:20240310T090000
END:DAYLIGHT
BEGIN:STANDARD
TZOFFSETFROM:-0600
TZOFFSETTO:-0700
TZNAME:MST
DTSTART:20241103T080000
END:STANDARD
BEGIN:DAYLIGHT
TZOFFSETFROM:-0700
TZOFFSETTO:-0600
TZNAME:MDT
DTSTART:20250309T090000
END:DAYLIGHT
BEGIN:STANDARD
TZOFFSETFROM:-0600
TZOFFSETTO:-0700
TZNAME:MST
DTSTART:20251102T080000
END:STANDARD
BEGIN:DAYLIGHT
TZOFFSETFROM:-0700
TZOFFSETTO:-0600
TZNAME:MDT
DTSTART:20260308T090000
END:DAYLIGHT
BEGIN:STANDARD
TZOFFSETFROM:-0600
TZOFFSETTO:-0700
TZNAME:MST
DTSTART:20261101T080000
END:STANDARD
END:VTIMEZONE
BEGIN:VEVENT
DTSTART;VALUE=DATE:20250601
DTEND;VALUE=DATE:20250901
DTSTAMP:20260420T120023
CREATED:20250601T230007Z
LAST-MODIFIED:20250725T202944Z
UID:10002623-1748736000-1756684799@meadangels.org
SUMMARY:Summer with the Saints
DESCRIPTION:Walk with the Saints This Summer—Faith-Filled Stories for the Whole Family \nThis summer\, help your family grow closer to Christ through inspiring stories of the saints—brought to you by Formed.org. Whether you’re on vacation or relaxing at home\, Summer with the Saints makes it easy to keep faith at the center of your summer. \nWhat is Summer with the Saints?From June through August\, receive a weekly email featuring a Formed video that highlights a saint and their powerful witness to the Catholic faith.Choose your path: \n\n\n📩 Adult Series \n\n\n📩 Kids Series \n\n\nEach email also includes fun and meaningful family activities to help bring the saint’s example to life and keep your summer both faith-filled and engaging. \nWhat is Formed?Formed.org is a dynamic Catholic platform offering high-quality\, faith-informed content for all ages. Whether you’re just starting your faith journey or deepening your spiritual life\, Formed provides trusted\, inspiring resources that guide you closer to Christ—anytime\, anywhere. \n🔗 Sign up and learn more at: Formed.org/Summer-with-the-Saints \nLet this be a summer of grace\, learning\, and inspiration for your whole family.
URL:https://meadangels.org/event/summer-with-the-saints/
CATEGORIES:Children Formation,Youth Formation (6th-8th),Youth Formation (9th-12th)
ATTACH;FMTTYPE=image/jpeg:https://meadangels.org/wp-content/uploads/IMG_8110.jpeg
END:VEVENT
BEGIN:VEVENT
DTSTART;VALUE=DATE:20250823
DTEND;VALUE=DATE:20250824
DTSTAMP:20260420T120023
CREATED:20250705T020948Z
LAST-MODIFIED:20250815T133631Z
UID:10002700-1755907200-1755993599@meadangels.org
SUMMARY:Knights of Columbus "Pull the Plane" Fundraiser
DESCRIPTION:📅 Saturday\, August 23 \n📍 Denver International Airport (DIA) \nSupport a great cause and enjoy a one-of-a-kind experience at the “Pull the Plane” fundraiser with the Guardian Angels Knights of Columbus! Held at Denver International Airport\, this family-friendly event invites teams to work together to pull a full-size airplane across the tarmac—yes\, a real plane. \nOpen to all ages and abilities\, this fun and energetic event helps raise funds for local charities supported by the Knights. It’s a day of teamwork\, community\, and giving back. \nSee the hallway flyer for details.
URL:https://meadangels.org/event/save-the-date-knights-of-columbus-pull-the-plane-fundraiser-august-23/
CATEGORIES:Knights of Columbus
END:VEVENT
BEGIN:VEVENT
DTSTART;TZID=America/Denver:20250823T090000
DTEND;TZID=America/Denver:20250823T143000
DTSTAMP:20260420T120023
CREATED:20250705T020631Z
LAST-MODIFIED:20250815T064918Z
UID:10002699-1755939600-1755959400@meadangels.org
SUMMARY:Women's Retreat at the Abbey of St. Walburga
DESCRIPTION:📅 Saturday\, August 23\n📍 Abby of St. Walburga\n⏰ Approximate Time: 9 am – 2:30 pm \n  \nAll women of Guardian Angels Parish—and friends—are invited to a peaceful and uplifting Women’s Retreat at the serene Abbey of St. Walburga in Virginia Dale. \nLed by one of the holy Benedictine nuns\, this retreat offers a beautiful opportunity to step away from daily distractions\, spend time in prayer and reflection\, and deepen your faith in the company of other women from our parish. \n💲Cost: $15 – fully covered by Guardian Angels🥪 Bring your own lunch🚗 Carpools available \nThis is a rejuvenating and joyful day you won’t want to miss.Contact the parish office to reserve your spot.
URL:https://meadangels.org/event/save-the-date-womens-retreat-at-the-abbey-of-st-walburga/
LOCATION:Abbey of St. Walburga\, 1029 Benedictine Wy\, Virginia Dale\, CO\, 80536\, United States
CATEGORIES:Women's Group
ATTACH;FMTTYPE=image/png:https://meadangels.org/wp-content/uploads/WomensRetreat-AbbeyStWalburga-2025.png
END:VEVENT
END:VCALENDAR