BEGIN:VCALENDAR
VERSION:2.0
PRODID:-//Guardian Angels Catholic Church - ECPv6.15.20//NONSGML v1.0//EN
CALSCALE:GREGORIAN
METHOD:PUBLISH
X-ORIGINAL-URL:https://meadangels.org
X-WR-CALDESC:Events for Guardian Angels Catholic Church
REFRESH-INTERVAL;VALUE=DURATION:PT1H
X-Robots-Tag:noindex
X-PUBLISHED-TTL:PT1H
BEGIN:VTIMEZONE
TZID:America/Denver
BEGIN:DAYLIGHT
TZOFFSETFROM:-0700
TZOFFSETTO:-0600
TZNAME:MDT
DTSTART:20240310T090000
END:DAYLIGHT
BEGIN:STANDARD
TZOFFSETFROM:-0600
TZOFFSETTO:-0700
TZNAME:MST
DTSTART:20241103T080000
END:STANDARD
BEGIN:DAYLIGHT
TZOFFSETFROM:-0700
TZOFFSETTO:-0600
TZNAME:MDT
DTSTART:20250309T090000
END:DAYLIGHT
BEGIN:STANDARD
TZOFFSETFROM:-0600
TZOFFSETTO:-0700
TZNAME:MST
DTSTART:20251102T080000
END:STANDARD
BEGIN:DAYLIGHT
TZOFFSETFROM:-0700
TZOFFSETTO:-0600
TZNAME:MDT
DTSTART:20260308T090000
END:DAYLIGHT
BEGIN:STANDARD
TZOFFSETFROM:-0600
TZOFFSETTO:-0700
TZNAME:MST
DTSTART:20261101T080000
END:STANDARD
END:VTIMEZONE
BEGIN:VEVENT
DTSTART;VALUE=DATE:20250601
DTEND;VALUE=DATE:20250701
DTSTAMP:20260419T195853
CREATED:20250601T224952Z
LAST-MODIFIED:20250601T225054Z
UID:10002622-1748736000-1751327999@meadangels.org
SUMMARY:Advertise in Our Bulletin & Digital Spaces
DESCRIPTION:Support Our Church While Growing Your Business \nWe invite local businesses and professionals to advertise in our weekly bulletin and digital platforms. This is a wonderful opportunity to reach a loyal and supportive community while helping our parish thrive. \nSuzie Moore with LPi\, our trusted bulletin publisher\, is currently securing new advertisers for both print and digital spaces. Your ad not only promotes your business but also helps offset the cost of our bulletin—making it a true win-win. \n📣 Why Advertise? \n\n\nBuild trust with a faith-filled audience \n\n\nSupport your local church community \n\n\nGain visibility in both print and online channels \n\n\nAffordable and effective local marketing \n\n\n  \n📞 To learn more or reserve your spot\, contact: \n\n\nParish Office at 970.535.0721 \n\n\nSuzie Moore (LPi) at 800.950.9952 x2601 \n\n\n📧 Email: SMoore@4lpi.com \n\n\nThank you for supporting our mission and strengthening our parish through your generosity.
URL:https://meadangels.org/event/advertise-in-our-bulletin-digital-spaces/
END:VEVENT
BEGIN:VEVENT
DTSTART;VALUE=DATE:20250601
DTEND;VALUE=DATE:20250901
DTSTAMP:20260419T195853
CREATED:20250601T230007Z
LAST-MODIFIED:20250725T202944Z
UID:10002623-1748736000-1756684799@meadangels.org
SUMMARY:Summer with the Saints
DESCRIPTION:Walk with the Saints This Summer—Faith-Filled Stories for the Whole Family \nThis summer\, help your family grow closer to Christ through inspiring stories of the saints—brought to you by Formed.org. Whether you’re on vacation or relaxing at home\, Summer with the Saints makes it easy to keep faith at the center of your summer. \nWhat is Summer with the Saints?From June through August\, receive a weekly email featuring a Formed video that highlights a saint and their powerful witness to the Catholic faith.Choose your path: \n\n\n📩 Adult Series \n\n\n📩 Kids Series \n\n\nEach email also includes fun and meaningful family activities to help bring the saint’s example to life and keep your summer both faith-filled and engaging. \nWhat is Formed?Formed.org is a dynamic Catholic platform offering high-quality\, faith-informed content for all ages. Whether you’re just starting your faith journey or deepening your spiritual life\, Formed provides trusted\, inspiring resources that guide you closer to Christ—anytime\, anywhere. \n🔗 Sign up and learn more at: Formed.org/Summer-with-the-Saints \nLet this be a summer of grace\, learning\, and inspiration for your whole family.
URL:https://meadangels.org/event/summer-with-the-saints/
CATEGORIES:Children Formation,Youth Formation (6th-8th),Youth Formation (9th-12th)
ATTACH;FMTTYPE=image/jpeg:https://meadangels.org/wp-content/uploads/IMG_8110.jpeg
END:VEVENT
BEGIN:VEVENT
DTSTART;TZID=America/Denver:20250616T090000
DTEND;TZID=America/Denver:20250616T110000
DTSTAMP:20260419T195853
CREATED:20240409T214444Z
LAST-MODIFIED:20250110T183320Z
UID:10000266-1750064400-1750071600@meadangels.org
SUMMARY:Caring Hands Crafters Meeting
DESCRIPTION:We create handmade items with love and care to bring comfort and support to those in need within our Catholic community. Whether you’re an experienced crafter or just starting out\, there’s a place for you to make a difference in our community. New members of all ages (women and men) and talents (woodworkers\, metal workers\, artists\, crafters) are welcome. Caring Hands Crafters meet every Monday at 9 – 11 am in the Catechetical Center (CC Center). \n 
URL:https://meadangels.org/event/caring-hands-crafters-meeting/2025-06-16/
LOCATION:Guardian Angels Catholic Church: Catechetical Center (CC Center)\, 109 S. 3rd Street\, Mead\, CO\, 80542\, United States
CATEGORIES:Caring Hands Crafters
ATTACH;FMTTYPE=image/jpeg:https://meadangels.org/wp-content/uploads/IMG_7847.jpeg
END:VEVENT
BEGIN:VEVENT
DTSTART;TZID=America/Denver:20250616T180000
DTEND;TZID=America/Denver:20250616T193000
DTSTAMP:20260419T195853
CREATED:20241205T230634Z
LAST-MODIFIED:20250120T211835Z
UID:10002040-1750096800-1750102200@meadangels.org
SUMMARY:Pray the Rosary with the Fatima Rosary Group
DESCRIPTION:Recitation of the Rosary – every 3rd Monday of the month\, 6 PM \nJoin the Fatima Rosary Group on Monday\, October 20\, at 6 PM for an evening of prayer and fellowship. Meeting every 3rd Monday of the month\, we gather in the church to recite the Rosary and reflect together. \nAll are welcome to participate in this special time of devotion. We hope to see you there.
URL:https://meadangels.org/event/pray-the-rosary-with-the-fatima-rosary-group-2/2025-06-16/
LOCATION:Guardian Angels Catholic Church\, 109 S. 3rd Street\, Mead\, 80542\, United States
ATTACH;FMTTYPE=image/jpeg:https://meadangels.org/wp-content/uploads/lady-fatima.jpg
END:VEVENT
END:VCALENDAR