BEGIN:VCALENDAR
VERSION:2.0
PRODID:-//Guardian Angels Catholic Church - ECPv6.15.20//NONSGML v1.0//EN
CALSCALE:GREGORIAN
METHOD:PUBLISH
X-WR-CALNAME:Guardian Angels Catholic Church
X-ORIGINAL-URL:https://meadangels.org
X-WR-CALDESC:Events for Guardian Angels Catholic Church
REFRESH-INTERVAL;VALUE=DURATION:PT1H
X-Robots-Tag:noindex
X-PUBLISHED-TTL:PT1H
BEGIN:VTIMEZONE
TZID:America/Denver
BEGIN:DAYLIGHT
TZOFFSETFROM:-0700
TZOFFSETTO:-0600
TZNAME:MDT
DTSTART:20240310T090000
END:DAYLIGHT
BEGIN:STANDARD
TZOFFSETFROM:-0600
TZOFFSETTO:-0700
TZNAME:MST
DTSTART:20241103T080000
END:STANDARD
BEGIN:DAYLIGHT
TZOFFSETFROM:-0700
TZOFFSETTO:-0600
TZNAME:MDT
DTSTART:20250309T090000
END:DAYLIGHT
BEGIN:STANDARD
TZOFFSETFROM:-0600
TZOFFSETTO:-0700
TZNAME:MST
DTSTART:20251102T080000
END:STANDARD
BEGIN:DAYLIGHT
TZOFFSETFROM:-0700
TZOFFSETTO:-0600
TZNAME:MDT
DTSTART:20260308T090000
END:DAYLIGHT
BEGIN:STANDARD
TZOFFSETFROM:-0600
TZOFFSETTO:-0700
TZNAME:MST
DTSTART:20261101T080000
END:STANDARD
END:VTIMEZONE
BEGIN:VEVENT
DTSTART;VALUE=DATE:20250502
DTEND;VALUE=DATE:20250608
DTSTAMP:20260420T225546
CREATED:20250502T163451Z
LAST-MODIFIED:20250507T174854Z
UID:10002619-1746144000-1749340799@meadangels.org
SUMMARY:Incoming 6th Graders Elevate Rally
DESCRIPTION:Location: St. John Paul the Great High School (2230 S. Sherman St.\, Denver 80210)Cost: $30 per personRegistration Deadline: May 23 \nDo you have a rising 6th grader? Let’s get our kids together for an unforgettable day of faith\, fun\, and fellowship at the Elevate Rally on Saturday\, June 7. \nHosted at St. John Paul the Great High School\, this full-day rally will feature:✨ Catholic speaker and magician Giancarlo Bernini🎶 Live worship music🎯 Games and activities✝️ Celebration of the Mass…and more! \nTransportation: Janine is driving and has space for five more kids in her vehicle. \nIf you and/or your child would like to attend\, please email communications@meadangels.org to sign up. \nSpots are limited and registration closes on May 23\, so don’t wait.
URL:https://meadangels.org/event/incoming-6th-graders-elevate-rally/
LOCATION:St. John Paul the Great High School\, 2330 S Sherman St\, Denver\, CO\, 80210\, United States
CATEGORIES:Youth Formation (6th-8th)
ATTACH;FMTTYPE=image/jpeg:https://meadangels.org/wp-content/uploads/IMG_8046.jpeg
END:VEVENT
BEGIN:VEVENT
DTSTART;TZID=America/Denver:20250522T190000
DTEND;TZID=America/Denver:20250522T200000
DTSTAMP:20260420T225546
CREATED:20241212T184953Z
LAST-MODIFIED:20241217T042136Z
UID:10002252-1747940400-1747944000@meadangels.org
SUMMARY:Join Our Thursday Night Choir Rehearsals
DESCRIPTION:We are excited to announce that starting in January 2025\, choir rehearsals will be on Thursday evenings from 7:00 to 8:00 PM in the sanctuary. Whether you’re a seasoned singer or just starting out\, we warmly welcome you to join our choir. \n  \nRehearsals provide a wonderful opportunity to improve your vocal skills\, enjoy fellowship\, and contribute to our vibrant musical worship. No prior experience is necessary – all you need is a love for singing and a willingness to learn. \n  \nFor more information or to express your interest\, please reach out to Laura Davis at music@meadangels.org. \n  \nWe look forward to making beautiful music with you.
URL:https://meadangels.org/event/join-our-thursday-night-choir-rehearsals/2025-05-22/
LOCATION:Guardian Angels Catholic Church\, 109 S. 3rd Street\, Mead\, 80542\, United States
CATEGORIES:Music | Choir
ATTACH;FMTTYPE=image/jpeg:https://meadangels.org/wp-content/uploads/choir-small-scaled.jpg
END:VEVENT
END:VCALENDAR