BEGIN:VCALENDAR
VERSION:2.0
PRODID:-//Guardian Angels Catholic Church - ECPv6.15.20//NONSGML v1.0//EN
CALSCALE:GREGORIAN
METHOD:PUBLISH
X-ORIGINAL-URL:https://meadangels.org
X-WR-CALDESC:Events for Guardian Angels Catholic Church
REFRESH-INTERVAL;VALUE=DURATION:PT1H
X-Robots-Tag:noindex
X-PUBLISHED-TTL:PT1H
BEGIN:VTIMEZONE
TZID:America/Denver
BEGIN:DAYLIGHT
TZOFFSETFROM:-0700
TZOFFSETTO:-0600
TZNAME:MDT
DTSTART:20240310T090000
END:DAYLIGHT
BEGIN:STANDARD
TZOFFSETFROM:-0600
TZOFFSETTO:-0700
TZNAME:MST
DTSTART:20241103T080000
END:STANDARD
BEGIN:DAYLIGHT
TZOFFSETFROM:-0700
TZOFFSETTO:-0600
TZNAME:MDT
DTSTART:20250309T090000
END:DAYLIGHT
BEGIN:STANDARD
TZOFFSETFROM:-0600
TZOFFSETTO:-0700
TZNAME:MST
DTSTART:20251102T080000
END:STANDARD
BEGIN:DAYLIGHT
TZOFFSETFROM:-0700
TZOFFSETTO:-0600
TZNAME:MDT
DTSTART:20260308T090000
END:DAYLIGHT
BEGIN:STANDARD
TZOFFSETFROM:-0600
TZOFFSETTO:-0700
TZNAME:MST
DTSTART:20261101T080000
END:STANDARD
END:VTIMEZONE
BEGIN:VEVENT
DTSTART;VALUE=DATE:20250412
DTEND;VALUE=DATE:20250505
DTSTAMP:20260420T150846
CREATED:20250413T002852Z
LAST-MODIFIED:20250413T002852Z
UID:10002599-1744416000-1746403199@meadangels.org
SUMMARY:Catholic Charities Stuffed Animal Drive
DESCRIPTION:Bringing Comfort to Children at Samaritan House \n\nWhen children arrive at Samaritan House\, they are often tired\, overwhelmed\, and uncertain. One small gesture—a stuffed animal to call their own—can bring them immediate comfort and a sense of safety during a difficult time. \n\nCan you help? We’re collecting new or gently used (and clean) stuffed animals to provide these little ones with a cozy companion they can hold onto. \n\nPlease place your donations in or around the Cozy Companions boxes located in the narthex and the CC Center. Your kindness makes a big difference in a child’s life.
URL:https://meadangels.org/event/catholic-charities-stuffed-animal-drive/
CATEGORIES:Children Formation,Youth Formation (6th-8th),Youth Formation (9th-12th)
ATTACH;FMTTYPE=image/png:https://meadangels.org/wp-content/uploads/Catholic-Charities-Stuffed-Animal-Drive-2025.png
END:VEVENT
BEGIN:VEVENT
DTSTART;TZID=America/Denver:20250428T090000
DTEND;TZID=America/Denver:20250428T110000
DTSTAMP:20260420T150846
CREATED:20240409T214444Z
LAST-MODIFIED:20250110T183320Z
UID:10000259-1745830800-1745838000@meadangels.org
SUMMARY:Caring Hands Crafters Meeting
DESCRIPTION:We create handmade items with love and care to bring comfort and support to those in need within our Catholic community. Whether you’re an experienced crafter or just starting out\, there’s a place for you to make a difference in our community. New members of all ages (women and men) and talents (woodworkers\, metal workers\, artists\, crafters) are welcome. Caring Hands Crafters meet every Monday at 9 – 11 am in the Catechetical Center (CC Center). \n 
URL:https://meadangels.org/event/caring-hands-crafters-meeting/2025-04-28/
LOCATION:Guardian Angels Catholic Church: Catechetical Center (CC Center)\, 109 S. 3rd Street\, Mead\, CO\, 80542\, United States
CATEGORIES:Caring Hands Crafters
ATTACH;FMTTYPE=image/jpeg:https://meadangels.org/wp-content/uploads/IMG_7847.jpeg
END:VEVENT
BEGIN:VEVENT
DTSTART;TZID=America/Denver:20250428T113000
DTEND;TZID=America/Denver:20250428T130000
DTSTAMP:20260420T150846
CREATED:20250423T201459Z
LAST-MODIFIED:20250423T201500Z
UID:10002272-1745839800-1745845200@meadangels.org
SUMMARY:Bible Study Every Monday
DESCRIPTION:When: Mondays\, 11:30 AM – 1:00 PM\nWhere: CC Center\nLed by: Sandy Gross \nJoin us for an enriching time of fellowship and learning as we dive into the Word of God together. Led by Sandy Gross\, this weekly Bible study offers an opportunity to explore scripture\, deepen your faith\, and connect with others in a supportive and welcoming environment. \nWhether you’re new to Bible study or have been attending for years\, all are welcome to participate. Bring your Bible\, your questions\, and an open heart. We look forward to seeing you there.
URL:https://meadangels.org/event/bible-study-every-monday-2-2-2/2025-04-28/
LOCATION:Guardian Angels Catholic Church: Catechetical Center (CC Center)\, 109 S. 3rd Street\, Mead\, CO\, 80542\, United States
CATEGORIES:Faith Outreach
ATTACH;FMTTYPE=image/jpeg:https://meadangels.org/wp-content/uploads/Generic-Bible-Study.jpg
END:VEVENT
END:VCALENDAR