BEGIN:VCALENDAR
VERSION:2.0
PRODID:-//Guardian Angels Catholic Church - ECPv6.15.20//NONSGML v1.0//EN
CALSCALE:GREGORIAN
METHOD:PUBLISH
X-WR-CALNAME:Guardian Angels Catholic Church
X-ORIGINAL-URL:https://meadangels.org
X-WR-CALDESC:Events for Guardian Angels Catholic Church
REFRESH-INTERVAL;VALUE=DURATION:PT1H
X-Robots-Tag:noindex
X-PUBLISHED-TTL:PT1H
BEGIN:VTIMEZONE
TZID:America/Denver
BEGIN:DAYLIGHT
TZOFFSETFROM:-0700
TZOFFSETTO:-0600
TZNAME:MDT
DTSTART:20240310T090000
END:DAYLIGHT
BEGIN:STANDARD
TZOFFSETFROM:-0600
TZOFFSETTO:-0700
TZNAME:MST
DTSTART:20241103T080000
END:STANDARD
BEGIN:DAYLIGHT
TZOFFSETFROM:-0700
TZOFFSETTO:-0600
TZNAME:MDT
DTSTART:20250309T090000
END:DAYLIGHT
BEGIN:STANDARD
TZOFFSETFROM:-0600
TZOFFSETTO:-0700
TZNAME:MST
DTSTART:20251102T080000
END:STANDARD
BEGIN:DAYLIGHT
TZOFFSETFROM:-0700
TZOFFSETTO:-0600
TZNAME:MDT
DTSTART:20260308T090000
END:DAYLIGHT
BEGIN:STANDARD
TZOFFSETFROM:-0600
TZOFFSETTO:-0700
TZNAME:MST
DTSTART:20261101T080000
END:STANDARD
END:VTIMEZONE
BEGIN:VEVENT
DTSTART;VALUE=DATE:20250412
DTEND;VALUE=DATE:20250505
DTSTAMP:20260420T181423
CREATED:20250413T002852Z
LAST-MODIFIED:20250413T002852Z
UID:10002599-1744416000-1746403199@meadangels.org
SUMMARY:Catholic Charities Stuffed Animal Drive
DESCRIPTION:Bringing Comfort to Children at Samaritan House \n\nWhen children arrive at Samaritan House\, they are often tired\, overwhelmed\, and uncertain. One small gesture—a stuffed animal to call their own—can bring them immediate comfort and a sense of safety during a difficult time. \n\nCan you help? We’re collecting new or gently used (and clean) stuffed animals to provide these little ones with a cozy companion they can hold onto. \n\nPlease place your donations in or around the Cozy Companions boxes located in the narthex and the CC Center. Your kindness makes a big difference in a child’s life.
URL:https://meadangels.org/event/catholic-charities-stuffed-animal-drive/
CATEGORIES:Children Formation,Youth Formation (6th-8th),Youth Formation (9th-12th)
ATTACH;FMTTYPE=image/png:https://meadangels.org/wp-content/uploads/Catholic-Charities-Stuffed-Animal-Drive-2025.png
END:VEVENT
BEGIN:VEVENT
DTSTART;TZID=America/Denver:20250427T180000
DTEND;TZID=America/Denver:20250427T193000
DTSTAMP:20260420T181423
CREATED:20250110T192324Z
LAST-MODIFIED:20250412T223541Z
UID:10002517-1745776800-1745782200@meadangels.org
SUMMARY:Youth Formation (9th-12th Grade) Ministry Meets Every Sunday Night
DESCRIPTION:📅 Join the Youth Formation Ministry (9th–12th Grade) Ministry\nHigh school youth group meets every Sunday night from 6:00 PM – 7:30 PM during the school year. Teens will participate in faith-based games\, service projects\, and social events. Be sure to check the weekly bulletin for important updates on dates and times. \n  \n✨ Empowering Teenagers in Faith \nWe guide high school students on their faith journey with engaging discussions\, activities\, and a welcoming community. \n💛 About Us\nOur ministry creates a supportive space where teenagers can explore their faith\, build relationships\, and deepen their connection with God. \n📖 What We Do\nWe focus on catechesis\, sacramental preparation\, and helping teens build a strong\, personal relationship with God. \n🌟 Benefits of Joining\nMake an impact\, grow spiritually\, and form lasting friendships. Get involved with your parish while having fun and meeting new people. \nWe can’t wait to see you there.
URL:https://meadangels.org/event/youth-formation-9th-12th-grade-ministry-meets-every-sunday-night/2025-04-27/
CATEGORIES:Youth Formation (9th-12th)
END:VEVENT
BEGIN:VEVENT
DTSTART;TZID=America/Denver:20250427T180000
DTEND;TZID=America/Denver:20250427T193000
DTSTAMP:20260420T181423
CREATED:20250117T224641Z
LAST-MODIFIED:20250412T223637Z
UID:10002497-1745776800-1745782200@meadangels.org
SUMMARY:Youth Formation (6th-8th Grade) Ministry Meets Every Sunday Night
DESCRIPTION:📅 Join the Youth Formation (6th-8th Grade) Ministry\nMiddle school youth group meets every Sunday night from 6:00 PM – 7:30 PM during the school year. Check the weekly bulletin for updates on dates and times. \n  \n✨ Engaging Young Hearts in Faith \nWe invite young adolescents to deepen their faith journey through interactive lessons\, activities\, and a supportive community. \n💛 About Us\nOur youth group offers a nurturing environment where middle schoolers can grow spiritually and gain a deeper understanding of the Catholic faith. \n📖 What We Do\nWe focus on catechesis\, sacramental preparation\, and instilling Christian values through faith-based games\, service projects\, and social activities. \n  \nCome for the fun\, stay for the faith. We look forward to welcoming your child into our community.
URL:https://meadangels.org/event/youth-formation-6th-8th-grade-ministry-meets-every-sunday-night-2/2025-04-27/
CATEGORIES:Youth Formation (6th-8th)
END:VEVENT
END:VCALENDAR