BEGIN:VCALENDAR
VERSION:2.0
PRODID:-//Guardian Angels Catholic Church - ECPv6.15.20//NONSGML v1.0//EN
CALSCALE:GREGORIAN
METHOD:PUBLISH
X-WR-CALNAME:Guardian Angels Catholic Church
X-ORIGINAL-URL:https://meadangels.org
X-WR-CALDESC:Events for Guardian Angels Catholic Church
REFRESH-INTERVAL;VALUE=DURATION:PT1H
X-Robots-Tag:noindex
X-PUBLISHED-TTL:PT1H
BEGIN:VTIMEZONE
TZID:America/Denver
BEGIN:DAYLIGHT
TZOFFSETFROM:-0700
TZOFFSETTO:-0600
TZNAME:MDT
DTSTART:20240310T090000
END:DAYLIGHT
BEGIN:STANDARD
TZOFFSETFROM:-0600
TZOFFSETTO:-0700
TZNAME:MST
DTSTART:20241103T080000
END:STANDARD
BEGIN:DAYLIGHT
TZOFFSETFROM:-0700
TZOFFSETTO:-0600
TZNAME:MDT
DTSTART:20250309T090000
END:DAYLIGHT
BEGIN:STANDARD
TZOFFSETFROM:-0600
TZOFFSETTO:-0700
TZNAME:MST
DTSTART:20251102T080000
END:STANDARD
BEGIN:DAYLIGHT
TZOFFSETFROM:-0700
TZOFFSETTO:-0600
TZNAME:MDT
DTSTART:20260308T090000
END:DAYLIGHT
BEGIN:STANDARD
TZOFFSETFROM:-0600
TZOFFSETTO:-0700
TZNAME:MST
DTSTART:20261101T080000
END:STANDARD
END:VTIMEZONE
BEGIN:VEVENT
DTSTART;VALUE=DATE:20250412
DTEND;VALUE=DATE:20250505
DTSTAMP:20260420T154241
CREATED:20250413T002852Z
LAST-MODIFIED:20250413T002852Z
UID:10002599-1744416000-1746403199@meadangels.org
SUMMARY:Catholic Charities Stuffed Animal Drive
DESCRIPTION:Bringing Comfort to Children at Samaritan House \n\nWhen children arrive at Samaritan House\, they are often tired\, overwhelmed\, and uncertain. One small gesture—a stuffed animal to call their own—can bring them immediate comfort and a sense of safety during a difficult time. \n\nCan you help? We’re collecting new or gently used (and clean) stuffed animals to provide these little ones with a cozy companion they can hold onto. \n\nPlease place your donations in or around the Cozy Companions boxes located in the narthex and the CC Center. Your kindness makes a big difference in a child’s life.
URL:https://meadangels.org/event/catholic-charities-stuffed-animal-drive/
CATEGORIES:Children Formation,Youth Formation (6th-8th),Youth Formation (9th-12th)
ATTACH;FMTTYPE=image/png:https://meadangels.org/wp-content/uploads/Catholic-Charities-Stuffed-Animal-Drive-2025.png
END:VEVENT
BEGIN:VEVENT
DTSTART;VALUE=DATE:20250423
DTEND;VALUE=DATE:20250427
DTSTAMP:20260420T154241
CREATED:20250401T171633Z
LAST-MODIFIED:20250401T171633Z
UID:10002595-1745366400-1745711999@meadangels.org
SUMMARY:Upcoming Events for Students in Grades 5-8
DESCRIPTION:It’s Not Too Early to Plan Your Next Step! \nFamilies with 5th – 8th grade students are invited to Holy Family’s Information Night for Middle School Students on Wednesday\, April 23 at 6:00 PM. This is a fantastic opportunity to meet our administration\, current students\, parents\, and alumni. Our Admissions team will walk you through the next steps in your student’s journey toward high school. \nAll 7th graders interested in Holy Family are also encouraged to sign up for the Pre-High School Placement Test on Saturday\, April 26. This is a great way for students to become familiar with the official High School Placement Test they will take in December of their 8th grade year. The practice exam will be scored using 7th-grade norms\, giving students valuable insight into their strengths and areas for growth. \nCome and discover what makes our community special and how Holy Family can be a part of your student’s future. You Belong Here. \nRegister today at: www.holyfamilyhs.com/inquire
URL:https://meadangels.org/event/upcoming-events-for-students-in-grades-5-8/
CATEGORIES:Children Formation,Youth Formation (6th-8th)
ATTACH;FMTTYPE=image/jpeg:https://meadangels.org/wp-content/uploads/IMG_7996-e1743527734391.jpeg
END:VEVENT
BEGIN:VEVENT
DTSTART;TZID=America/Denver:20250423T180000
DTEND;TZID=America/Denver:20250423T191500
DTSTAMP:20260420T154241
CREATED:20250212T204327Z
LAST-MODIFIED:20250412T224023Z
UID:10002542-1745431200-1745435700@meadangels.org
SUMMARY:Children Formation (Kindergarten-5th Grade) Ministry Meets Every Wednesday Night
DESCRIPTION:📅 Join the Children Formation (Kindergarten-5th Grade) Ministry\nJoin us Wednesday nights from 6:00–7:15 PM (September–April) to learn about Jesus and His incredible love for you. Meet new friends\, sing\, pray\, giggle\, and grow in faith. \n  \n✨ Nurturing Young Catholics’ Faith \nWe offer engaging programs and educational opportunities to help children grow in their Catholic faith. \n📖 About Us\nWe provide age-appropriate instruction that fosters a strong sense of belonging within the Catholic community. \n🌟 What We Do\nThrough religious education\, sacramental preparation\, and special events\, we empower children to grow spiritually. Look forward to fun events throughout the year: \n\nSaints in the Graveyard\nPet Blessings\nThanksgiving Service Project\nChristmas Program\nStations of the Cross\nIce Cream Socials\n\nWe can’t wait to see you there.
URL:https://meadangels.org/event/children-formation-kindergarten-5th-grade-ministry-meets-every-wednesday-night-2/2025-04-23/
CATEGORIES:Children Formation
ATTACH;FMTTYPE=image/jpeg:https://meadangels.org/wp-content/uploads/childrenFormation-scaled.jpg
END:VEVENT
BEGIN:VEVENT
DTSTART;TZID=America/Denver:20250423T180500
DTEND;TZID=America/Denver:20250423T191000
DTSTAMP:20260420T154241
CREATED:20250212T204600Z
LAST-MODIFIED:20250412T224223Z
UID:10002424-1745431500-1745435400@meadangels.org
SUMMARY:Adult / Teen Faith Formation Every Wednesday Night
DESCRIPTION:📅  When: Every Wednesday \n⏰  Time: 6:05 PM – 7:10 PM\n📍  Where: Bakihta Hall\n👩‍🏫  Led by: Sandy Gross \nJoin us for a meaningful evening of fellowship and learning as we explore the Word of God together. Led by Sandy Gross\, this weekly faith formation session provides an opportunity to grow in your faith\, reflect on scripture\, and connect with a welcoming community. \nAll are welcome. Bring your Bible\, your questions\, and an open heart. We look forward to growing in faith with you.
URL:https://meadangels.org/event/adult-teen-faith-formation-every-wednesday-night-2/2025-04-23/
LOCATION:Guardian Angels Catholic Church (Bakhita Hall)\, 109 S. 3rd Street\, Mead\, CO\, 80542\, United States
CATEGORIES:Faith Outreach,Youth Formation (9th-12th)
ORGANIZER;CN="Sandy Gross":MAILTO:faithOutreach@meadangels.org
END:VEVENT
END:VCALENDAR