BEGIN:VCALENDAR
VERSION:2.0
PRODID:-//Guardian Angels Catholic Church - ECPv6.15.20//NONSGML v1.0//EN
CALSCALE:GREGORIAN
METHOD:PUBLISH
X-WR-CALNAME:Guardian Angels Catholic Church
X-ORIGINAL-URL:https://meadangels.org
X-WR-CALDESC:Events for Guardian Angels Catholic Church
REFRESH-INTERVAL;VALUE=DURATION:PT1H
X-Robots-Tag:noindex
X-PUBLISHED-TTL:PT1H
BEGIN:VTIMEZONE
TZID:America/Denver
BEGIN:DAYLIGHT
TZOFFSETFROM:-0700
TZOFFSETTO:-0600
TZNAME:MDT
DTSTART:20240310T090000
END:DAYLIGHT
BEGIN:STANDARD
TZOFFSETFROM:-0600
TZOFFSETTO:-0700
TZNAME:MST
DTSTART:20241103T080000
END:STANDARD
BEGIN:DAYLIGHT
TZOFFSETFROM:-0700
TZOFFSETTO:-0600
TZNAME:MDT
DTSTART:20250309T090000
END:DAYLIGHT
BEGIN:STANDARD
TZOFFSETFROM:-0600
TZOFFSETTO:-0700
TZNAME:MST
DTSTART:20251102T080000
END:STANDARD
BEGIN:DAYLIGHT
TZOFFSETFROM:-0700
TZOFFSETTO:-0600
TZNAME:MDT
DTSTART:20260308T090000
END:DAYLIGHT
BEGIN:STANDARD
TZOFFSETFROM:-0600
TZOFFSETTO:-0700
TZNAME:MST
DTSTART:20261101T080000
END:STANDARD
END:VTIMEZONE
BEGIN:VEVENT
DTSTART;VALUE=DATE:20250402
DTEND;VALUE=DATE:20250418
DTSTAMP:20260420T223545
CREATED:20250401T175635Z
LAST-MODIFIED:20250402T023019Z
UID:10002596-1743552000-1744934399@meadangels.org
SUMMARY:2025 Lenten Confessions Around the Boulder Deanery
DESCRIPTION:GUARDIAN ANGLES\n109 3rd St\, Mead\n\nTuesday | 9:00-9:45 am\nWednesday | 4:00-5:00 pm\nThursday | 9:00-9:45 am\nSaturday | 3:00-4:30 pm\n\nIMMACULATE CONCEPTION\n715 Cabrini Dr\, Lafayette\n\nSaturday | 8:30-10:00 am\n\nNATIVITY OF OUR LORD\n900 W Midway Blvd\, Broomfield\n\nThursday | 5:00-6:00 pm\nSaturday | 8:00-9:30am & 3:00-4:30 pm\nSunday | 30 minutes prior to Mass\n\nSACRED HEART OF JESUS\n1318 Mapleton Ave\, Boulder\n\nMonday | 11:30 am-12:00 pm\nTuesday | 11:30 am-12:00 pm\nThursday | 11:30 am-12:00 pm\nFriday | 11:30 am-12:00 pm & 5:00-7:00 pm\nSaturday | 11:30 am-1:00 pm\nSunday | 12:00 pm-1:00 pm (Spanish)\n\nSACRED HEART OF MARY\n6739 S Boulder Rd #101\, Boulder\n\nTuesday-Friday | 8:00 am\nTuesday | 11:45 am-12:30 pm\nSaturday | 8:30-9:30 am\, 3:00-4:00 pm\nSunday | 12:15-1:00 pm\n\nST. FRANCIS OF ASSISI\n3791 Pike Rd\, Longmont\n\nMonday | 8:30-9:30 am\nFriday | 9:00 – 10:00 am\nSaturday | 3:00-4:15 pm\n\nST. SCHOLASTICA\n575 Wells St\, Erie\n\nTuesday | 5:00-6:00 pm\nThursday | 5:00-6:00 pm\nFriday | 5:00-8:30 pm\nSaturday | 7:00-7:30 am\, 3:00-4:00 pm\, 5:30-8:30 pm\nSunday | 7:30-8:15 am\, 10:30-11:15 am\, 4:45-5:15 pm\n\nST. THOMAS AQUINAS\n898 14th St\, Boulder\n\nTuesday | 4:40-5:10 pm\, 8:00-9:00 pm\nWednesday-Friday | 11:40 am-12:10 pm\, 4:40-5:10 pm\nSaturday | 3:30-4:50 pm\nSunday | 5:00-6:00 pm
URL:https://meadangels.org/event/2025-lenten-confessions-around-the-boulder-deanery/
CATEGORIES:Reconciliation
ATTACH;FMTTYPE=image/jpeg:https://meadangels.org/wp-content/uploads/IMG_7997.jpeg
END:VEVENT
BEGIN:VEVENT
DTSTART;TZID=America/Denver:20250408T070000
DTEND;TZID=America/Denver:20250408T080000
DTSTAMP:20260420T223546
CREATED:20250110T194152Z
LAST-MODIFIED:20250110T195515Z
UID:10000517-1744095600-1744099200@meadangels.org
SUMMARY:Mead Angels Men's Bible Study Every Tuesday
DESCRIPTION:Discover the Mead Angels Men’s Bible Study. Join us every Tuesday from 7-8 am in Bakhita Hall. Led by Deacon Chris\, this session is a chance for men to delve into Scripture\, grow in faith\, and build community. All are welcome\, whether you’re a seasoned Bible scholar or new to studying God’s Word. Come for engaging discussions\, prayer\, and fellowship as we strengthen our spiritual journey together.
URL:https://meadangels.org/event/mead-angels-mens-bible-study-every-tuesday-3-2/2025-04-08/
LOCATION:Guardian Angels Catholic Church (Bakhita Hall)\, 109 S. 3rd Street\, Mead\, CO\, 80542\, United States
CATEGORIES:Faith Outreach,Men's Group
ATTACH;FMTTYPE=image/jpeg:https://meadangels.org/wp-content/uploads/IMG_7845.jpeg
ORGANIZER;CN="Deacon Chris Hora":MAILTO:deacon.chris@meadangels.org
END:VEVENT
BEGIN:VEVENT
DTSTART;TZID=America/Denver:20250408T100000
DTEND;TZID=America/Denver:20250408T120000
DTSTAMP:20260420T223546
CREATED:20241205T225804Z
LAST-MODIFIED:20260131T013224Z
UID:10002189-1744106400-1744113600@meadangels.org
SUMMARY:Silvers: A Social Group for Ages 60+
DESCRIPTION:📅 When: 2nd and 4th Tuesdays of the month\n⏰ Time: 10 am\n\nSilvers is a welcoming group for anyone aged 60 and up. Join us for coffee ☕️\, card games\, and plenty of laughter. Connect with friends and enjoy a relaxing morning in great company.
URL:https://meadangels.org/event/silvers-a-social-group-for-ages-60-2/2025-04-08/
ATTACH;FMTTYPE=image/jpeg:https://meadangels.org/wp-content/uploads/IMG_8031.jpeg
END:VEVENT
BEGIN:VEVENT
DTSTART;TZID=America/Denver:20250408T183000
DTEND;TZID=America/Denver:20250408T203000
DTSTAMP:20260420T223546
CREATED:20241205T231531Z
LAST-MODIFIED:20241205T232906Z
UID:10002219-1744137000-1744144200@meadangels.org
SUMMARY:Join Us for the Knights of Columbus Business Meeting
DESCRIPTION:When: Every 2nd Tuesday of the month\nTime: 6:30 PM – 8:30 PM \nThe Knights of Columbus business meeting is a time to come together\, strengthen our bonds\, and make impactful decisions that support our mission of charity\, unity\, and fraternity. \nWhether you’re a long-time member or new to our council\, your voice and participation are vital to our success. Together\, we plan events\, discuss charitable initiatives\, and celebrate the shared commitment that defines the Knights of Columbus. \nBring your ideas\, enthusiasm\, and dedication as we work to serve our church and community. Refreshments may be provided\, and camaraderie is guaranteed. \nWe look forward to seeing you there. \nFor more information or questions\, please contact Lou Bustamante at 720.530.4520 or Knights15857@outlook.com.
URL:https://meadangels.org/event/join-us-for-the-knights-of-columbus-business-meeting/2025-04-08/
CATEGORIES:Knights of Columbus
END:VEVENT
END:VCALENDAR