BEGIN:VCALENDAR
VERSION:2.0
PRODID:-//Guardian Angels Catholic Church - ECPv6.15.20//NONSGML v1.0//EN
CALSCALE:GREGORIAN
METHOD:PUBLISH
X-WR-CALNAME:Guardian Angels Catholic Church
X-ORIGINAL-URL:https://meadangels.org
X-WR-CALDESC:Events for Guardian Angels Catholic Church
REFRESH-INTERVAL;VALUE=DURATION:PT1H
X-Robots-Tag:noindex
X-PUBLISHED-TTL:PT1H
BEGIN:VTIMEZONE
TZID:America/Denver
BEGIN:DAYLIGHT
TZOFFSETFROM:-0700
TZOFFSETTO:-0600
TZNAME:MDT
DTSTART:20230312T090000
END:DAYLIGHT
BEGIN:STANDARD
TZOFFSETFROM:-0600
TZOFFSETTO:-0700
TZNAME:MST
DTSTART:20231105T080000
END:STANDARD
BEGIN:DAYLIGHT
TZOFFSETFROM:-0700
TZOFFSETTO:-0600
TZNAME:MDT
DTSTART:20240310T090000
END:DAYLIGHT
BEGIN:STANDARD
TZOFFSETFROM:-0600
TZOFFSETTO:-0700
TZNAME:MST
DTSTART:20241103T080000
END:STANDARD
BEGIN:DAYLIGHT
TZOFFSETFROM:-0700
TZOFFSETTO:-0600
TZNAME:MDT
DTSTART:20250309T090000
END:DAYLIGHT
BEGIN:STANDARD
TZOFFSETFROM:-0600
TZOFFSETTO:-0700
TZNAME:MST
DTSTART:20251102T080000
END:STANDARD
BEGIN:DAYLIGHT
TZOFFSETFROM:-0700
TZOFFSETTO:-0600
TZNAME:MDT
DTSTART:20260308T090000
END:DAYLIGHT
BEGIN:STANDARD
TZOFFSETFROM:-0600
TZOFFSETTO:-0700
TZNAME:MST
DTSTART:20261101T080000
END:STANDARD
END:VTIMEZONE
BEGIN:VEVENT
DTSTART;VALUE=DATE:20240407
DTEND;VALUE=DATE:20250408
DTSTAMP:20260421T015952
CREATED:20240410T115908Z
LAST-MODIFIED:20241203T201508Z
UID:10000162-1712448000-1744070399@meadangels.org
SUMMARY:2024 Archbishop's Catholic Appeal
DESCRIPTION:The Archbishop’s Catholic Appeal is a vital initiative that supports the ministries and programs of our Catholic community. While most donations give hope\, support education\, and impart faith as they support 40+ ministries\, the Archdiocese allows our donations to be applied to our mortgage loan payment. \n  \nThe current loan balance is $1\,930\,250. Last year\, $93\,271 was applied to our loan. Our Acrhbishop’s Catholic Appeal (ACA) Goal for 2023 was $68\,752.  Thank you for your generosity. Our ACA Goal for 2024 is $69\,325. To give again visit www.archden.org/givetoday or call 303.867.0614. \n  \nArchbishop’s Catholic Appeal 2024\n\nGoal: $69\,325\nPledged to date: $104\,911\n% of Goal: 151.3 %\n\n  \n \n  \nAbout the Archbishop’s Catholic Appeal \nThe Archbishop’s Catholic Appeal is an annual fundraising campaign launched by our archdiocese to provide essential resources for the diverse ministries and programs that serve our parishioners and communities. \n  \nWhat the Archbishop’s Catholic Appeal Does \nThrough the generosity of donors like you\, the Archbishop’s Catholic Appeal supports various ministries\, including education\, outreach\, pastoral care\, and social services. Your contributions help fund initiatives that promote spiritual growth\, provide assistance to those in need\, and foster a vibrant Catholic community. \n  \nJoin the Archbishop’s Catholic Appeal \nParticipate in spreading Christ’s love and teachings by supporting the Appeal. \n  \nBenefits of Joining \n\nMake a difference\nStrengthen the Church\nExperience the joy of giving\n\n  \nWays to Contribute \nYou can support the Archbishop’s Catholic Appeal through one-time donations\, recurring pledges\, or planned giving options. Every contribution\, regardless of size\, makes a meaningful impact on the lives of others. \n  \nContact the Archbishop’s Catholic Appeal \nFor more information about the Archbishop’s Catholic Appeal or to make a donation\, please visit the Archdiocese of Denver’s website. \nThank you for your generous support. Together\, let us continue to build a stronger\, more vibrant Catholic community.
URL:https://meadangels.org/event/2024-archbishops-catholic-appeal/
CATEGORIES:Altar Linens,Altar Servers,Caring Hands Crafters,Children Formation,Collection Counters,Eucharistic Ministers,Facility Maintenance,Faith Outreach,Finance Council,FOCCUS,Hospitality,Knights of Columbus,Lectors,Liturgical Environment,MEADANGELS Ambassadors,Men's Group,Music | Choir,OCIA (Order of Christian Initiation for Adults),Sacristan,St. Vincent de Paul Society,Women's Group,Youth Formation (6th-8th),Youth Formation (9th-12th)
ATTACH;FMTTYPE=image/jpeg:https://meadangels.org/wp-content/uploads/postimage_collections.jpg
END:VEVENT
BEGIN:VEVENT
DTSTART;VALUE=DATE:20250114
DTEND;VALUE=DATE:20250224
DTSTAMP:20260421T015952
CREATED:20250114T194423Z
LAST-MODIFIED:20250215T183336Z
UID:10002550-1736812800-1740355199@meadangels.org
SUMMARY:Save the Date: Chili Bingo on Sunday\, February 23
DESCRIPTION:Join us for an afternoon of great food\, fun\, and fellowship at the 28th Annual Chili Bingo! Enjoy a delicious chili meal\, exciting bingo games\, door prizes\, prize baskets\, a silent auction\, and plenty of community spirit. \n  \n📅 Sunday\, February 23  \n⏰ at Noon in Bakhita Hall \n  \n\n\n\n\nTickets are SOLD OUT\, but help is still needed. Please volunteer. \n  \nBingo Cards:\nBingo cards will be available for purchase at the event: $5 for all 10 games. \n  \nVolunteer or Donate:\nWant to be part of the fun? Sign up to volunteer before and/or during the event.\nSign up to donate prizes for our raffle and silent auction. \n  \nHave Questions?\nEmail us at meadangelswomen@gmail.com. \n  \nBrought to you by the Guardian Angels Women’s Group\nWe can’t wait to see you there for a day full of excitement and community.
URL:https://meadangels.org/event/%f0%9f%93%85-save-the-date-chili-bingo-on-sunday-february-23/
CATEGORIES:Women's Group
ATTACH;FMTTYPE=image/jpeg:https://meadangels.org/wp-content/uploads/IMG_7870.jpeg
END:VEVENT
BEGIN:VEVENT
DTSTART;VALUE=DATE:20250114
DTEND;VALUE=DATE:20250325
DTSTAMP:20260421T015952
CREATED:20250114T193629Z
LAST-MODIFIED:20250118T204352Z
UID:10002549-1736812800-1742860799@meadangels.org
SUMMARY:Enroll Today at John Paul II High School in Windsor
DESCRIPTION:2025-26 Enrollment is Now Open \nAt John Paul II High School\, we are proud to announce a three-year tuition freeze\, ensuring that the cost of attending our school will remain unchanged through 2028. This commitment reflects our dedication to making Catholic education accessible and affordable for all families. \nAs our school president\, Mr. Gallic\, shares:\n“Catholic schools represent the best of what we are. During the formative years of high school\, being surrounded by the salvific news of Christ Jesus\, while being encouraged to grow into the full expression of the person HE made you to be\, is the birthright of all men and women.” \n  \nCONTACT INFORMATION \n📞 For questions about enrollment or the application process\, contact Emma Ward at 970.205.9141 or email eward@jp2hs.com. \n🌟 Visit www.jp2hs.com to learn more about our mission and programs. \nJoin us in shaping the future—enroll today. \n  \nIMPORTANT DATES \nJANUARY 26\, 2025: OPEN HOUSE\, following the 10:00am Mass at Our Lady of the Valley \nMARCH 8\, 2025: CLT PLACEMENT TEST\, 9:00am at Our Lady of the Valley Parish- please register by emailing eward@jp2hs.com \nMARCH 24\, 2025: REGULAR APPLICATION DEADLINE \n*APPLICANTS WHO APPLY AFTER MARCH 24 WILL BE PUT ON A WAITLIST AND BE ADMITTED ON A FIRST COME\, FIRST SERVED BASIS.
URL:https://meadangels.org/event/enroll-today-at-john-paul-ii-high-school-in-windsor/
ATTACH;FMTTYPE=image/jpeg:https://meadangels.org/wp-content/uploads/IMG_7858.jpeg
END:VEVENT
BEGIN:VEVENT
DTSTART;VALUE=DATE:20250131
DTEND;VALUE=DATE:20250301
DTSTAMP:20260421T015952
CREATED:20250131T202026Z
LAST-MODIFIED:20250131T203146Z
UID:10002577-1738281600-1740787199@meadangels.org
SUMMARY:Pray the Rosary with Seniors – Volunteers Needed
DESCRIPTION:Bring comfort and companionship to seniors by praying the Rosary with them. Volunteers are needed to join teams of two\, dedicating just one hour a week to leading group prayer. Training is provided\, and with over 500 volunteers already involved\, many seniors are still waiting for a Rosary Team. \n Make a difference through prayer 🙏🏼\nSign up at www.therosaryteam.org or email contact@therosaryteam.org. \n  \nEndorsed by Archbishop Aquila – Watch The Rosary Team in action\, as featured on EWTN:
URL:https://meadangels.org/event/pray-the-rosary-with-seniors-volunteers-needed/
END:VEVENT
BEGIN:VEVENT
DTSTART;VALUE=DATE:20250131
DTEND;VALUE=DATE:20250301
DTSTAMP:20260421T015952
CREATED:20250131T180900Z
LAST-MODIFIED:20250131T180922Z
UID:10002576-1738281600-1740787199@meadangels.org
SUMMARY:Weld Food Bank Needs Volunteers – Make a Difference Today 🥫
DESCRIPTION:Weld Food Bank is in urgent need of volunteers to help support their mission of feeding those in need. Volunteer shifts are available Monday through Friday during the day: \n  \n📅 Shifts:\n🕗 7:50 AM – 12:00 PM\n🕝 12:50 PM – 4:00 PM \n📍 Location: Weld Food Bank\, 1108 H Street\, Greeley \n  \nVolunteer numbers tend to drop early in the year\, but the need remains high. Whether you’re looking to bank service hours or simply want to give back to your community\, your help makes a difference. Volunteers under 18 are welcome with an accompanying adult (21+). \n  \n🔗 Sign up for a shift today: Register Here \nThank you for lending a hand to those who need it most. ❤️🥫
URL:https://meadangels.org/event/weld-food-bank-needs-volunteers-make-a-difference-today/
LOCATION:Weld Food Bank\, 1108 H Street\, Greeley\, CO\, 80631\, United States
END:VEVENT
BEGIN:VEVENT
DTSTART;TZID=America/Denver:20250204T070000
DTEND;TZID=America/Denver:20250204T080000
DTSTAMP:20260421T015952
CREATED:20250110T194152Z
LAST-MODIFIED:20250110T195515Z
UID:10000508-1738652400-1738656000@meadangels.org
SUMMARY:Mead Angels Men's Bible Study Every Tuesday
DESCRIPTION:Discover the Mead Angels Men’s Bible Study. Join us every Tuesday from 7-8 am in Bakhita Hall. Led by Deacon Chris\, this session is a chance for men to delve into Scripture\, grow in faith\, and build community. All are welcome\, whether you’re a seasoned Bible scholar or new to studying God’s Word. Come for engaging discussions\, prayer\, and fellowship as we strengthen our spiritual journey together.
URL:https://meadangels.org/event/mead-angels-mens-bible-study-every-tuesday-3-2/2025-02-04/
LOCATION:Guardian Angels Catholic Church (Bakhita Hall)\, 109 S. 3rd Street\, Mead\, CO\, 80542\, United States
CATEGORIES:Faith Outreach,Men's Group
ATTACH;FMTTYPE=image/jpeg:https://meadangels.org/wp-content/uploads/IMG_7845.jpeg
ORGANIZER;CN="Deacon Chris Hora":MAILTO:deacon.chris@meadangels.org
END:VEVENT
BEGIN:VEVENT
DTSTART;TZID=America/Denver:20250204T183000
DTEND;TZID=America/Denver:20250204T200000
DTSTAMP:20260421T015952
CREATED:20241107T172906Z
LAST-MODIFIED:20250401T165111Z
UID:10002148-1738693800-1738699200@meadangels.org
SUMMARY:Women's Group Meeting
DESCRIPTION:All ladies of the parish are welcome to attend the Women’s Group Meeting. Every woman in the parish is an automatic member. The Women’s Group meets the 1st Tuesdays monthly from 7 – 8 pm (September – May). Socializing begins at 6:30 pm and the meeting begins at 7 pm.
URL:https://meadangels.org/event/womens-group-meeting/2025-02-04/
LOCATION:Guardian Angels Catholic Church\, 109 S. 3rd Street\, Mead\, 80542\, United States
CATEGORIES:Women's Group
END:VEVENT
END:VCALENDAR