BEGIN:VCALENDAR
VERSION:2.0
PRODID:-//Guardian Angels Catholic Church - ECPv6.15.20//NONSGML v1.0//EN
CALSCALE:GREGORIAN
METHOD:PUBLISH
X-WR-CALNAME:Guardian Angels Catholic Church
X-ORIGINAL-URL:https://meadangels.org
X-WR-CALDESC:Events for Guardian Angels Catholic Church
REFRESH-INTERVAL;VALUE=DURATION:PT1H
X-Robots-Tag:noindex
X-PUBLISHED-TTL:PT1H
BEGIN:VTIMEZONE
TZID:America/Denver
BEGIN:DAYLIGHT
TZOFFSETFROM:-0700
TZOFFSETTO:-0600
TZNAME:MDT
DTSTART:20230312T090000
END:DAYLIGHT
BEGIN:STANDARD
TZOFFSETFROM:-0600
TZOFFSETTO:-0700
TZNAME:MST
DTSTART:20231105T080000
END:STANDARD
BEGIN:DAYLIGHT
TZOFFSETFROM:-0700
TZOFFSETTO:-0600
TZNAME:MDT
DTSTART:20240310T090000
END:DAYLIGHT
BEGIN:STANDARD
TZOFFSETFROM:-0600
TZOFFSETTO:-0700
TZNAME:MST
DTSTART:20241103T080000
END:STANDARD
BEGIN:DAYLIGHT
TZOFFSETFROM:-0700
TZOFFSETTO:-0600
TZNAME:MDT
DTSTART:20250309T090000
END:DAYLIGHT
BEGIN:STANDARD
TZOFFSETFROM:-0600
TZOFFSETTO:-0700
TZNAME:MST
DTSTART:20251102T080000
END:STANDARD
BEGIN:DAYLIGHT
TZOFFSETFROM:-0700
TZOFFSETTO:-0600
TZNAME:MDT
DTSTART:20260308T090000
END:DAYLIGHT
BEGIN:STANDARD
TZOFFSETFROM:-0600
TZOFFSETTO:-0700
TZNAME:MST
DTSTART:20261101T080000
END:STANDARD
END:VTIMEZONE
BEGIN:VEVENT
DTSTART;VALUE=DATE:20240407
DTEND;VALUE=DATE:20250408
DTSTAMP:20260420T153910
CREATED:20240410T115908Z
LAST-MODIFIED:20241203T201508Z
UID:10000162-1712448000-1744070399@meadangels.org
SUMMARY:2024 Archbishop's Catholic Appeal
DESCRIPTION:The Archbishop’s Catholic Appeal is a vital initiative that supports the ministries and programs of our Catholic community. While most donations give hope\, support education\, and impart faith as they support 40+ ministries\, the Archdiocese allows our donations to be applied to our mortgage loan payment. \n  \nThe current loan balance is $1\,930\,250. Last year\, $93\,271 was applied to our loan. Our Acrhbishop’s Catholic Appeal (ACA) Goal for 2023 was $68\,752.  Thank you for your generosity. Our ACA Goal for 2024 is $69\,325. To give again visit www.archden.org/givetoday or call 303.867.0614. \n  \nArchbishop’s Catholic Appeal 2024\n\nGoal: $69\,325\nPledged to date: $104\,911\n% of Goal: 151.3 %\n\n  \n \n  \nAbout the Archbishop’s Catholic Appeal \nThe Archbishop’s Catholic Appeal is an annual fundraising campaign launched by our archdiocese to provide essential resources for the diverse ministries and programs that serve our parishioners and communities. \n  \nWhat the Archbishop’s Catholic Appeal Does \nThrough the generosity of donors like you\, the Archbishop’s Catholic Appeal supports various ministries\, including education\, outreach\, pastoral care\, and social services. Your contributions help fund initiatives that promote spiritual growth\, provide assistance to those in need\, and foster a vibrant Catholic community. \n  \nJoin the Archbishop’s Catholic Appeal \nParticipate in spreading Christ’s love and teachings by supporting the Appeal. \n  \nBenefits of Joining \n\nMake a difference\nStrengthen the Church\nExperience the joy of giving\n\n  \nWays to Contribute \nYou can support the Archbishop’s Catholic Appeal through one-time donations\, recurring pledges\, or planned giving options. Every contribution\, regardless of size\, makes a meaningful impact on the lives of others. \n  \nContact the Archbishop’s Catholic Appeal \nFor more information about the Archbishop’s Catholic Appeal or to make a donation\, please visit the Archdiocese of Denver’s website. \nThank you for your generous support. Together\, let us continue to build a stronger\, more vibrant Catholic community.
URL:https://meadangels.org/event/2024-archbishops-catholic-appeal/
CATEGORIES:Altar Linens,Altar Servers,Caring Hands Crafters,Children Formation,Collection Counters,Eucharistic Ministers,Facility Maintenance,Faith Outreach,Finance Council,FOCCUS,Hospitality,Knights of Columbus,Lectors,Liturgical Environment,MEADANGELS Ambassadors,Men's Group,Music | Choir,OCIA (Order of Christian Initiation for Adults),Sacristan,St. Vincent de Paul Society,Women's Group,Youth Formation (6th-8th),Youth Formation (9th-12th)
ATTACH;FMTTYPE=image/jpeg:https://meadangels.org/wp-content/uploads/postimage_collections.jpg
END:VEVENT
BEGIN:VEVENT
DTSTART;VALUE=DATE:20241126
DTEND;VALUE=DATE:20241226
DTSTAMP:20260420T153910
CREATED:20241127T042607Z
LAST-MODIFIED:20241127T043506Z
UID:10002160-1732579200-1735171199@meadangels.org
SUMMARY:Advent Opportunities for the Whole Family
DESCRIPTION:This Advent season\, enrich your spiritual journey with inspiring and family-friendly online offerings designed to deepen your faith and bring the season to life. Discover these meaningful opportunities: \n\nDaily Episodes of A Christmas Carol\nRelevant Radio is bringing Charles Dickens’ timeless classic to your inbox. Subscribe to receive daily episodes of A Christmas Carol and journey with Ebenezer Scrooge as he learns about hope\, generosity\, and redemption.\nEngaging Podcasts from The Merry Beggars\nDelight in captivating podcasts that bring the lives of saints to life. Perfect for listeners of all ages\, these stories are an inspiring way to reflect on holiness and courage throughout the Advent season.\nRediscover the Jesse Tree with Rooted\nExplore Rooted: Rediscover the Jesse Tree on Formed.org. In just 7 minutes a day\, delve into Scripture\, uncover the rich stories of Christ’s ancestors\, and enjoy meaningful reflections that connect your faith to everyday life.\n\n\nNeed assistance connecting to these resources?\nReach out to the parish office—we’re happy to help guide you on your Advent journey. Make this Advent a time of spiritual growth\, joy\, and togetherness for the whole family.
URL:https://meadangels.org/event/advent-opportunities-for-the-whole-family/
END:VEVENT
BEGIN:VEVENT
DTSTART;VALUE=DATE:20241203
DTEND;VALUE=DATE:20241223
DTSTAMP:20260420T153910
CREATED:20241203T161640Z
LAST-MODIFIED:20241203T201229Z
UID:10002163-1733184000-1734911999@meadangels.org
SUMMARY:Bell Ringers Needed 🔔
DESCRIPTION:Help Spread Holiday Cheer 🎄 \nWe need 60 spots filled for bell ringers at two local King Soopers locations. This is a wonderful opportunity to bring joy to the community while supporting a great cause. \n📅 Event Details\nDecember 13 – 15\n📍 Longmont King Soopers\nPace & 17th Ave \nDecember 20 – 22\n📍 Firestone King Soopers\n6110 Firestone Blvd \n⏰ Flexible Shifts\n\nTwo-hour shifts available\nBring a friend or family member—kids are welcome to ring with a parent.\n\nThis opportunity is open to the entire parish\, so let’s come together to make this a memorable holiday season. \nHow to Sign Up\nSecure your spot today or scan QR code below. \nGot questions?\nContact Gerry Place at 720.630.1790 or gerry_place@yahoo.com. \nLet’s make the season bright—one ring at a time. 🌟
URL:https://meadangels.org/event/bell-ringers-needed/
CATEGORIES:Children Formation,Men's Group,Women's Group,Youth Formation (6th-8th),Youth Formation (9th-12th)
ATTACH;FMTTYPE=image/jpeg:https://meadangels.org/wp-content/uploads/IMG_7731.jpeg
END:VEVENT
BEGIN:VEVENT
DTSTART;VALUE=DATE:20241216
DTEND;VALUE=DATE:20250120
DTSTAMP:20260420T153910
CREATED:20241217T002125Z
LAST-MODIFIED:20241217T024612Z
UID:10002296-1734307200-1737331199@meadangels.org
SUMMARY:Gathering of Men Retreat
DESCRIPTION:January 24–26\, 2025\nYMCA of the Rockies\n2515 Tunnel Road\, Estes Park\, CO 80511 \nJoin Catholic and Christian men from across the region for an inspiring and transformative retreat designed to deepen your faith and strengthen your relationship with God. \nThis year’s theme\, “I will never leave you nor forsake you”\, provides a powerful foundation for reflection\, connection\, and renewal. Together\, we’ll explore the challenges of living a Christian life in today’s world\, while embracing the hope and encouragement found in Christ’s promise. \nRetreat Highlights\n\nShare honest reflections about your spiritual journey.\nBuild supportive relationships with like-minded men of faith.\nBe encouraged to live a more prayerful and holy life.\nExperience peace and renewal in the beautiful Rocky Mountain setting.\n\nThis retreat is more than a getaway—it’s an opportunity to grow closer to God and rediscover the joy of your Christian faith. \nRegistration Details\nVisit www.coloradocatholicretreats.org/gathering-of-men-registration to register online. \nFor questions or additional information\, contact us at ColoradoCatholicRetreats@gmail.com or call 720.924.6359 before completing the registration form. \nWe hope to see you there. Let’s walk this faith journey together.
URL:https://meadangels.org/event/gathering-of-men-retreat/
CATEGORIES:Men's Group
ATTACH;FMTTYPE=image/jpeg:https://meadangels.org/wp-content/uploads/IMG_7779.jpeg
END:VEVENT
BEGIN:VEVENT
DTSTART;VALUE=DATE:20241216
DTEND;VALUE=DATE:20250201
DTSTAMP:20260420T153910
CREATED:20241216T210009Z
LAST-MODIFIED:20241217T025336Z
UID:10002295-1734307200-1738367999@meadangels.org
SUMMARY:How Is God Calling You? Get Involved in a Guardian Angels Ministry.
DESCRIPTION:God calls each of us to live out our faith in service to others and to deepen our relationship with Him. At Guardian Angels\, there are countless ways to answer that call by sharing your time\, talents\, and passion by joining a Guardian Angels Ministry. Whether through worship\, community\, or outreach\, you’ll find opportunities to grow spiritually and make a meaningful impact. \nWays to Get Involved\nLiturgical Ministries:\n\nAltar Linens: Assist in the care of sacred linens used during Mass.\nAltar Servers: Help during Mass by serving at the altar.\nChoir/Music Ministry: Thursdays at 7 PM. Share your musical talents and lift hearts in worship.\nExtraordinary Ministers of Communion: Distribute the Eucharist with reverence.\nLectors: Proclaim the Word of God during Mass.\nLiturgical Environment: Help prepare the worship space for liturgical seasons.\nMoney Counters: Help with the stewardship of church offerings.\nSacristans: Prepare and organize for Mass celebrations.\n\nFaith Formation and Fellowship:\n\nBible Study: Mondays at 11:30 AM and Wednesdays at 6:05 PM.\nFaith Formation for Adults (OCIA): Mondays at 6:30 PM\, September–May.\nFaith Formation K-5: Wednesdays at 6 PM\, September–May.\nMen’s Group:\n\nBible Study: Tuesdays at 7 AM.\nFellowship: 3rd Thursdays at 6 PM.\n\n\nWomen’s Group: 1st Tuesdays at 7 PM\, September–May.\nYouth Group (6th-8th): Sundays at 6 PM\, September–May.\nYouth Group (9th-12th): Sundays at 6 PM\, September–May.\n\nCommunity Outreach and Service:\n\nCaring Hands Crafters: Mondays at 9 AM. Create handmade items for those in need.\nHospitality: Welcome and serve others at church events.\nKnights of Columbus: 2nd Tuesdays at 7 PM. Join this fraternal organization dedicated to charity and service.\nSaint Vincent de Paul Society: 1st and 3rd Thursdays at 7 PM. Serve the less fortunate in our community.\nSilvers (Over 60 Group): Fellowship on the 2nd and 4th Tuesdays at 10 AM.\n\nPrayer and Devotion:\n\nFatima Rosary Group: Gather in prayer to honor Our Lady of Fatima.\nPrayer Before Masses: Join in prayerful preparation before the liturgy.\n\nSpecial Ministries:\n\nEvent Help: Assist with planning and hosting parish events.\nGarden Team: Beautify the church grounds through gardening.\n\nReady to Answer God’s Call?\nNo matter your interests\, skills\, or availability\, there’s a place for you here at our various ministries in Guardian Angels. Together\, we can serve our community and grow in faith. \nContact Us Today\n📞 Call the church office at 970.535.0721\n📧 Email: info@meadangels.org\n🌐 Visit: www.meadangels.org \nDiscover how God is calling you and become part of this vibrant\, faith-filled community. We can’t wait to welcome you.
URL:https://meadangels.org/event/how-is-god-calling-you-get-involved-in-a-guardian-angels-ministry/
CATEGORIES:Altar Linens,Altar Servers,Caring Hands Crafters,Children Formation,Collection Counters,Eucharistic Ministers,Facility Maintenance,Faith Outreach,Hospitality,Knights of Columbus,Lectors,Liturgical Environment,Men's Group,Music | Choir,OCIA (Order of Christian Initiation for Adults),Sacristan,St. Vincent de Paul Society,Women's Group,Youth Formation (6th-8th),Youth Formation (9th-12th)
ATTACH;FMTTYPE=image/jpeg:https://meadangels.org/wp-content/uploads/IMG_7778.jpeg
END:VEVENT
BEGIN:VEVENT
DTSTART;TZID=America/Denver:20241217T070000
DTEND;TZID=America/Denver:20241217T080000
DTSTAMP:20260420T153910
CREATED:20240909T165502Z
LAST-MODIFIED:20241216T200139Z
UID:10000501-1734418800-1734422400@meadangels.org
SUMMARY:Mead Angels Men's Bible Study Every Tuesday
DESCRIPTION:Discover the Mead Angels Men’s Bible Study. Join us every Tuesday from 7-8 am in Bakhita Hall. Led by Deacon Chris\, this session is a chance for men to delve into Scripture\, grow in faith\, and build community. All are welcome\, whether you’re a seasoned Bible scholar or new to studying God’s Word. Come for engaging discussions\, prayer\, and fellowship as we strengthen our spiritual journey together.
URL:https://meadangels.org/event/mead-angels-mens-bible-study-every-tuesday-3/2024-12-17/
LOCATION:Guardian Angels Catholic Church (Bakhita Hall)\, 109 S. 3rd Street\, Mead\, CO\, 80542\, United States
CATEGORIES:Faith Outreach,Men's Group
ATTACH;FMTTYPE=image/jpeg:https://meadangels.org/wp-content/uploads/male-reading-scaled.jpg
ORGANIZER;CN="Deacon Chris Hora":MAILTO:deacon.chris@meadangels.org
END:VEVENT
BEGIN:VEVENT
DTSTART;TZID=America/Denver:20241217T190000
DTEND;TZID=America/Denver:20241217T200000
DTSTAMP:20260420T153910
CREATED:20240910T051613Z
LAST-MODIFIED:20241216T200304Z
UID:10001871-1734462000-1734465600@meadangels.org
SUMMARY:Join Our Tuesday Night Choir Rehearsals
DESCRIPTION:We are excited to announce that our Tuesday night choir rehearsals will resume on August 20th from 7:00 to 8:00 PM in the sanctuary. Whether you’re a seasoned singer or just starting out\, we warmly welcome you to join our choir. \n  \nRehearsals provide a wonderful opportunity to improve your vocal skills\, enjoy fellowship\, and contribute to our vibrant musical worship. No prior experience is necessary – all you need is a love for singing and a willingness to learn. \n  \nFor more information or to express your interest\, please reach out to Laura Davis at music@meadangels.org. \n  \nWe look forward to making beautiful music with you.
URL:https://meadangels.org/event/join-our-tuesday-night-choir-rehearsals-2/2024-12-17/
LOCATION:Guardian Angels Catholic Church\, 109 S. 3rd Street\, Mead\, 80542\, United States
CATEGORIES:Music | Choir
ATTACH;FMTTYPE=image/jpeg:https://meadangels.org/wp-content/uploads/choir-small-scaled.jpg
END:VEVENT
END:VCALENDAR