BEGIN:VCALENDAR
VERSION:2.0
PRODID:-//Guardian Angels Catholic Church - ECPv6.15.20//NONSGML v1.0//EN
CALSCALE:GREGORIAN
METHOD:PUBLISH
X-WR-CALNAME:Guardian Angels Catholic Church
X-ORIGINAL-URL:https://meadangels.org
X-WR-CALDESC:Events for Guardian Angels Catholic Church
REFRESH-INTERVAL;VALUE=DURATION:PT1H
X-Robots-Tag:noindex
X-PUBLISHED-TTL:PT1H
BEGIN:VTIMEZONE
TZID:America/Denver
BEGIN:DAYLIGHT
TZOFFSETFROM:-0700
TZOFFSETTO:-0600
TZNAME:MDT
DTSTART:20230312T090000
END:DAYLIGHT
BEGIN:STANDARD
TZOFFSETFROM:-0600
TZOFFSETTO:-0700
TZNAME:MST
DTSTART:20231105T080000
END:STANDARD
BEGIN:DAYLIGHT
TZOFFSETFROM:-0700
TZOFFSETTO:-0600
TZNAME:MDT
DTSTART:20240310T090000
END:DAYLIGHT
BEGIN:STANDARD
TZOFFSETFROM:-0600
TZOFFSETTO:-0700
TZNAME:MST
DTSTART:20241103T080000
END:STANDARD
BEGIN:DAYLIGHT
TZOFFSETFROM:-0700
TZOFFSETTO:-0600
TZNAME:MDT
DTSTART:20250309T090000
END:DAYLIGHT
BEGIN:STANDARD
TZOFFSETFROM:-0600
TZOFFSETTO:-0700
TZNAME:MST
DTSTART:20251102T080000
END:STANDARD
BEGIN:DAYLIGHT
TZOFFSETFROM:-0700
TZOFFSETTO:-0600
TZNAME:MDT
DTSTART:20260308T090000
END:DAYLIGHT
BEGIN:STANDARD
TZOFFSETFROM:-0600
TZOFFSETTO:-0700
TZNAME:MST
DTSTART:20261101T080000
END:STANDARD
END:VTIMEZONE
BEGIN:VEVENT
DTSTART;VALUE=DATE:20240407
DTEND;VALUE=DATE:20250408
DTSTAMP:20260420T141330
CREATED:20240410T115908Z
LAST-MODIFIED:20241203T201508Z
UID:10000162-1712448000-1744070399@meadangels.org
SUMMARY:2024 Archbishop's Catholic Appeal
DESCRIPTION:The Archbishop’s Catholic Appeal is a vital initiative that supports the ministries and programs of our Catholic community. While most donations give hope\, support education\, and impart faith as they support 40+ ministries\, the Archdiocese allows our donations to be applied to our mortgage loan payment. \n  \nThe current loan balance is $1\,930\,250. Last year\, $93\,271 was applied to our loan. Our Acrhbishop’s Catholic Appeal (ACA) Goal for 2023 was $68\,752.  Thank you for your generosity. Our ACA Goal for 2024 is $69\,325. To give again visit www.archden.org/givetoday or call 303.867.0614. \n  \nArchbishop’s Catholic Appeal 2024\n\nGoal: $69\,325\nPledged to date: $104\,911\n% of Goal: 151.3 %\n\n  \n \n  \nAbout the Archbishop’s Catholic Appeal \nThe Archbishop’s Catholic Appeal is an annual fundraising campaign launched by our archdiocese to provide essential resources for the diverse ministries and programs that serve our parishioners and communities. \n  \nWhat the Archbishop’s Catholic Appeal Does \nThrough the generosity of donors like you\, the Archbishop’s Catholic Appeal supports various ministries\, including education\, outreach\, pastoral care\, and social services. Your contributions help fund initiatives that promote spiritual growth\, provide assistance to those in need\, and foster a vibrant Catholic community. \n  \nJoin the Archbishop’s Catholic Appeal \nParticipate in spreading Christ’s love and teachings by supporting the Appeal. \n  \nBenefits of Joining \n\nMake a difference\nStrengthen the Church\nExperience the joy of giving\n\n  \nWays to Contribute \nYou can support the Archbishop’s Catholic Appeal through one-time donations\, recurring pledges\, or planned giving options. Every contribution\, regardless of size\, makes a meaningful impact on the lives of others. \n  \nContact the Archbishop’s Catholic Appeal \nFor more information about the Archbishop’s Catholic Appeal or to make a donation\, please visit the Archdiocese of Denver’s website. \nThank you for your generous support. Together\, let us continue to build a stronger\, more vibrant Catholic community.
URL:https://meadangels.org/event/2024-archbishops-catholic-appeal/
CATEGORIES:Altar Linens,Altar Servers,Caring Hands Crafters,Children Formation,Collection Counters,Eucharistic Ministers,Facility Maintenance,Faith Outreach,Finance Council,FOCCUS,Hospitality,Knights of Columbus,Lectors,Liturgical Environment,MEADANGELS Ambassadors,Men's Group,Music | Choir,OCIA (Order of Christian Initiation for Adults),Sacristan,St. Vincent de Paul Society,Women's Group,Youth Formation (6th-8th),Youth Formation (9th-12th)
ATTACH;FMTTYPE=image/jpeg:https://meadangels.org/wp-content/uploads/postimage_collections.jpg
END:VEVENT
BEGIN:VEVENT
DTSTART;VALUE=DATE:20241122
DTEND;VALUE=DATE:20241214
DTSTAMP:20260420T141330
CREATED:20241122T152356Z
LAST-MODIFIED:20241122T152606Z
UID:10002157-1732233600-1734134399@meadangels.org
SUMMARY:Volunteers Needed: Share the Gift of Prayer 🙏🏼
DESCRIPTION:An elderly care center in Longmont is seeking compassionate volunteers to pray the Rosary with residents every Wednesday morning. This is a beautiful opportunity to bring comfort and spiritual support to those who cherish this time of prayer. \nIf you can offer your time\, please contact the parish office\, and we will connect you with the center. Your presence can make a meaningful difference.
URL:https://meadangels.org/event/volunteers-needed-share-the-gift-of-prayer-%f0%9f%99%8f%f0%9f%8f%bc/
CATEGORIES:Men's Group,Women's Group
END:VEVENT
BEGIN:VEVENT
DTSTART;VALUE=DATE:20241123
DTEND;VALUE=DATE:20241216
DTSTAMP:20260420T141330
CREATED:20241122T162108Z
LAST-MODIFIED:20241127T034711Z
UID:10002159-1732320000-1734307199@meadangels.org
SUMMARY:Women’s Group Annual Giving Tree 🎄: Share the Joy of Giving
DESCRIPTION:The Women’s Group is excited to announce the annual Giving Tree\, which will be available for ornament sign-out after all Masses over the next two weekends. Your generous donations will benefit residents of the Berthoud Care & Rehabilitation Center\, local students\, and the St. Vincent de Paul Society of Guardian Angels. Additionally\, diapers and wipes will be collected to support families in need. \n🎄 How to Participate\n\nChoose an ornament from the Giving Tree after Mass.\nPurchase the item listed on the ornament.\nDeadline: Bring your UNWRAPPED donation with the ornament attached by Sunday\, December 15 at noon.\nThe Youth Group will wrap the gifts—feel free to include a gift bag or box.\n\nPlease note that the Giving Tree will replace the December Giving Weekend\, but Ziggi’s will still provide coffee and treats on Sunday\, December 22. \nQuestions?\nContact Susie Finke at 970.518.7349 or email smf224@msn.com. \nThank you for your generosity and support of this heartwarming program that showcases the kindness of GA parishioners.
URL:https://meadangels.org/event/womens-group-annual-giving-tree-share-the-joy-of-giving/
LOCATION:Guardian Angels Catholic Church\, 109 S. 3rd Street\, Mead\, 80542\, United States
CATEGORIES:Men's Group,Women's Group,Youth Formation (6th-8th),Youth Formation (9th-12th)
ATTACH;FMTTYPE=image/jpeg:https://meadangels.org/wp-content/uploads/IMG_7717.jpeg
END:VEVENT
BEGIN:VEVENT
DTSTART;VALUE=DATE:20241126
DTEND;VALUE=DATE:20241226
DTSTAMP:20260420T141330
CREATED:20241127T042607Z
LAST-MODIFIED:20241127T043506Z
UID:10002160-1732579200-1735171199@meadangels.org
SUMMARY:Advent Opportunities for the Whole Family
DESCRIPTION:This Advent season\, enrich your spiritual journey with inspiring and family-friendly online offerings designed to deepen your faith and bring the season to life. Discover these meaningful opportunities: \n\nDaily Episodes of A Christmas Carol\nRelevant Radio is bringing Charles Dickens’ timeless classic to your inbox. Subscribe to receive daily episodes of A Christmas Carol and journey with Ebenezer Scrooge as he learns about hope\, generosity\, and redemption.\nEngaging Podcasts from The Merry Beggars\nDelight in captivating podcasts that bring the lives of saints to life. Perfect for listeners of all ages\, these stories are an inspiring way to reflect on holiness and courage throughout the Advent season.\nRediscover the Jesse Tree with Rooted\nExplore Rooted: Rediscover the Jesse Tree on Formed.org. In just 7 minutes a day\, delve into Scripture\, uncover the rich stories of Christ’s ancestors\, and enjoy meaningful reflections that connect your faith to everyday life.\n\n\nNeed assistance connecting to these resources?\nReach out to the parish office—we’re happy to help guide you on your Advent journey. Make this Advent a time of spiritual growth\, joy\, and togetherness for the whole family.
URL:https://meadangels.org/event/advent-opportunities-for-the-whole-family/
END:VEVENT
BEGIN:VEVENT
DTSTART;VALUE=DATE:20241203
DTEND;VALUE=DATE:20241223
DTSTAMP:20260420T141330
CREATED:20241203T161640Z
LAST-MODIFIED:20241203T201229Z
UID:10002163-1733184000-1734911999@meadangels.org
SUMMARY:Bell Ringers Needed 🔔
DESCRIPTION:Help Spread Holiday Cheer 🎄 \nWe need 60 spots filled for bell ringers at two local King Soopers locations. This is a wonderful opportunity to bring joy to the community while supporting a great cause. \n📅 Event Details\nDecember 13 – 15\n📍 Longmont King Soopers\nPace & 17th Ave \nDecember 20 – 22\n📍 Firestone King Soopers\n6110 Firestone Blvd \n⏰ Flexible Shifts\n\nTwo-hour shifts available\nBring a friend or family member—kids are welcome to ring with a parent.\n\nThis opportunity is open to the entire parish\, so let’s come together to make this a memorable holiday season. \nHow to Sign Up\nSecure your spot today or scan QR code below. \nGot questions?\nContact Gerry Place at 720.630.1790 or gerry_place@yahoo.com. \nLet’s make the season bright—one ring at a time. 🌟
URL:https://meadangels.org/event/bell-ringers-needed/
CATEGORIES:Children Formation,Men's Group,Women's Group,Youth Formation (6th-8th),Youth Formation (9th-12th)
ATTACH;FMTTYPE=image/jpeg:https://meadangels.org/wp-content/uploads/IMG_7731.jpeg
END:VEVENT
BEGIN:VEVENT
DTSTART;VALUE=DATE:20241208
DTEND;VALUE=DATE:20241210
DTSTAMP:20260420T141330
CREATED:20241127T074435Z
LAST-MODIFIED:20241127T085103Z
UID:10002161-1733616000-1733788799@meadangels.org
SUMMARY:The Feast of the Immaculate Conception of the Blessed Virgin Mary
DESCRIPTION:Monday\, December 9\nHoly Day of Obligation/Opportunity \nJoin us as we honor the Feast of the Immaculate Conception\, celebrating the Blessed Virgin Mary’s pure and grace-filled beginning. This holy day is a moment to reflect on Mary’s unique role in God’s plan of salvation and to draw closer to her example of faith and devotion. \nLiturgy Schedule\n\nVigil Mass on Sunday\, December 8 at 6:00 PM\, celebrated by Fr. Coyte.\nMasses on Monday\, December 9\n\n7:00 AM\n6:00 PM\n\n\n\nAdoration and Confession\n\nMonday\, December 9 from 4:00 PM to 5:30 PM\n\nTake this opportunity to spend time in quiet adoration before the Blessed Sacrament and receive the sacrament of reconciliation\, deepening your preparation for this sacred feast. \nLet us come together as a community to honor Our Lady and entrust ourselves to her loving intercession. We look forward to celebrating this joyful feast day with you.
URL:https://meadangels.org/event/the-feast-of-the-immaculate-conception-of-the-blessed-virgin-mary/
LOCATION:Guardian Angels Catholic Church\, 109 S. 3rd Street\, Mead\, 80542\, United States
ATTACH;FMTTYPE=image/jpeg:https://meadangels.org/wp-content/uploads/IMG_7728.jpeg
END:VEVENT
BEGIN:VEVENT
DTSTART;TZID=America/Denver:20241209T090000
DTEND;TZID=America/Denver:20241209T110000
DTSTAMP:20260420T141330
CREATED:20240409T214444Z
LAST-MODIFIED:20250110T183320Z
UID:10000239-1733734800-1733742000@meadangels.org
SUMMARY:Caring Hands Crafters Meeting
DESCRIPTION:We create handmade items with love and care to bring comfort and support to those in need within our Catholic community. Whether you’re an experienced crafter or just starting out\, there’s a place for you to make a difference in our community. New members of all ages (women and men) and talents (woodworkers\, metal workers\, artists\, crafters) are welcome. Caring Hands Crafters meet every Monday at 9 – 11 am in the Catechetical Center (CC Center). \n 
URL:https://meadangels.org/event/caring-hands-crafters-meeting/2024-12-09/
LOCATION:Guardian Angels Catholic Church: Catechetical Center (CC Center)\, 109 S. 3rd Street\, Mead\, CO\, 80542\, United States
CATEGORIES:Caring Hands Crafters
ATTACH;FMTTYPE=image/jpeg:https://meadangels.org/wp-content/uploads/IMG_7847.jpeg
END:VEVENT
END:VCALENDAR