BEGIN:VCALENDAR
VERSION:2.0
PRODID:-//Guardian Angels Catholic Church - ECPv6.15.20//NONSGML v1.0//EN
CALSCALE:GREGORIAN
METHOD:PUBLISH
X-WR-CALNAME:Guardian Angels Catholic Church
X-ORIGINAL-URL:https://meadangels.org
X-WR-CALDESC:Events for Guardian Angels Catholic Church
REFRESH-INTERVAL;VALUE=DURATION:PT1H
X-Robots-Tag:noindex
X-PUBLISHED-TTL:PT1H
BEGIN:VTIMEZONE
TZID:America/Denver
BEGIN:DAYLIGHT
TZOFFSETFROM:-0700
TZOFFSETTO:-0600
TZNAME:MDT
DTSTART:20230312T090000
END:DAYLIGHT
BEGIN:STANDARD
TZOFFSETFROM:-0600
TZOFFSETTO:-0700
TZNAME:MST
DTSTART:20231105T080000
END:STANDARD
BEGIN:DAYLIGHT
TZOFFSETFROM:-0700
TZOFFSETTO:-0600
TZNAME:MDT
DTSTART:20240310T090000
END:DAYLIGHT
BEGIN:STANDARD
TZOFFSETFROM:-0600
TZOFFSETTO:-0700
TZNAME:MST
DTSTART:20241103T080000
END:STANDARD
BEGIN:DAYLIGHT
TZOFFSETFROM:-0700
TZOFFSETTO:-0600
TZNAME:MDT
DTSTART:20250309T090000
END:DAYLIGHT
BEGIN:STANDARD
TZOFFSETFROM:-0600
TZOFFSETTO:-0700
TZNAME:MST
DTSTART:20251102T080000
END:STANDARD
BEGIN:DAYLIGHT
TZOFFSETFROM:-0700
TZOFFSETTO:-0600
TZNAME:MDT
DTSTART:20260308T090000
END:DAYLIGHT
BEGIN:STANDARD
TZOFFSETFROM:-0600
TZOFFSETTO:-0700
TZNAME:MST
DTSTART:20261101T080000
END:STANDARD
END:VTIMEZONE
BEGIN:VEVENT
DTSTART;VALUE=DATE:20240407
DTEND;VALUE=DATE:20250408
DTSTAMP:20260420T153912
CREATED:20240410T115908Z
LAST-MODIFIED:20241203T201508Z
UID:10000162-1712448000-1744070399@meadangels.org
SUMMARY:2024 Archbishop's Catholic Appeal
DESCRIPTION:The Archbishop’s Catholic Appeal is a vital initiative that supports the ministries and programs of our Catholic community. While most donations give hope\, support education\, and impart faith as they support 40+ ministries\, the Archdiocese allows our donations to be applied to our mortgage loan payment. \n  \nThe current loan balance is $1\,930\,250. Last year\, $93\,271 was applied to our loan. Our Acrhbishop’s Catholic Appeal (ACA) Goal for 2023 was $68\,752.  Thank you for your generosity. Our ACA Goal for 2024 is $69\,325. To give again visit www.archden.org/givetoday or call 303.867.0614. \n  \nArchbishop’s Catholic Appeal 2024\n\nGoal: $69\,325\nPledged to date: $104\,911\n% of Goal: 151.3 %\n\n  \n \n  \nAbout the Archbishop’s Catholic Appeal \nThe Archbishop’s Catholic Appeal is an annual fundraising campaign launched by our archdiocese to provide essential resources for the diverse ministries and programs that serve our parishioners and communities. \n  \nWhat the Archbishop’s Catholic Appeal Does \nThrough the generosity of donors like you\, the Archbishop’s Catholic Appeal supports various ministries\, including education\, outreach\, pastoral care\, and social services. Your contributions help fund initiatives that promote spiritual growth\, provide assistance to those in need\, and foster a vibrant Catholic community. \n  \nJoin the Archbishop’s Catholic Appeal \nParticipate in spreading Christ’s love and teachings by supporting the Appeal. \n  \nBenefits of Joining \n\nMake a difference\nStrengthen the Church\nExperience the joy of giving\n\n  \nWays to Contribute \nYou can support the Archbishop’s Catholic Appeal through one-time donations\, recurring pledges\, or planned giving options. Every contribution\, regardless of size\, makes a meaningful impact on the lives of others. \n  \nContact the Archbishop’s Catholic Appeal \nFor more information about the Archbishop’s Catholic Appeal or to make a donation\, please visit the Archdiocese of Denver’s website. \nThank you for your generous support. Together\, let us continue to build a stronger\, more vibrant Catholic community.
URL:https://meadangels.org/event/2024-archbishops-catholic-appeal/
CATEGORIES:Altar Linens,Altar Servers,Caring Hands Crafters,Children Formation,Collection Counters,Eucharistic Ministers,Facility Maintenance,Faith Outreach,Finance Council,FOCCUS,Hospitality,Knights of Columbus,Lectors,Liturgical Environment,MEADANGELS Ambassadors,Men's Group,Music | Choir,OCIA (Order of Christian Initiation for Adults),Sacristan,St. Vincent de Paul Society,Women's Group,Youth Formation (6th-8th),Youth Formation (9th-12th)
ATTACH;FMTTYPE=image/jpeg:https://meadangels.org/wp-content/uploads/postimage_collections.jpg
END:VEVENT
BEGIN:VEVENT
DTSTART;VALUE=DATE:20241116
DTEND;VALUE=DATE:20241118
DTSTAMP:20260420T153912
CREATED:20241101T020853Z
LAST-MODIFIED:20241101T021055Z
UID:10002135-1731715200-1731887999@meadangels.org
SUMMARY:Special Collection for the Archdiocese Seminary Appeal
DESCRIPTION:On the weekend of November 16-17\, the second collection will support the annual Archdiocese Seminary Appeal. We are honored to welcome a seminarian who will be visiting and speaking at each Mass to share insights and the importance of supporting our future priests. \nFor your convenience\, a clearly marked box on the hospitality cart will be available for mortgage donations. Additionally\, a portion of this weekend’s general offertory will support the Catholic Campaign for Human Development\, as directed by the USCCB. Thank you for your generosity and for remembering the mortgage.
URL:https://meadangels.org/event/special-collection-for-the-archdiocese-seminary-appeal/
LOCATION:Guardian Angels Catholic Church\, 109 S. 3rd Street\, Mead\, 80542\, United States
END:VEVENT
BEGIN:VEVENT
DTSTART;VALUE=DATE:20241116
DTEND;VALUE=DATE:20241118
DTSTAMP:20260420T153912
CREATED:20241112T174104Z
LAST-MODIFIED:20241112T174105Z
UID:10002154-1731715200-1731887999@meadangels.org
SUMMARY:Thanksgiving Food Drive – November 16-17 Giving Weekend
DESCRIPTION:Join the Knights of Columbus this Thanksgiving for a special Food Drive to support our local food pantries and families in need! Your donations can make a profound difference in the lives of our neighbors\, helping to provide essential items for those experiencing hardship with access to food. \nSupporting Local Food Pantries: \n\nFeed Mead Food Pantry\nHouse of Neighborly Service in Berthoud\nSt. Nicholas Food Bank in Platteville\n\nMost Needed Non-Perishable Food Items: \n\nHot or cold cereal (non-sugared preferred)\nHearty soups and stews\nChili\nPasta\nPasta sauce\nCanned proteins (tuna\, chicken\, peanut butter\, etc.)\nDried or canned beans (pinto\, kidney\, black)\n\nOther Welcomed Food Items: \n\nCanned fruits and vegetables (preferably low sugar or low salt)\nJelly\nRice\nGranola bars\nHealthy snacks\n\nMost Needed Non-Food Items: \n\nToilet paper (individually wrapped or in 4-6 roll packs)\nShampoo and conditioner (family and travel size)\nToothpaste\nDeodorant\n\nAdditional Non-Food Items Also Welcomed: \n\nWomen’s personal hygiene products\nBaby diapers and wipes\nChapstick\nSunscreen\nMouthwash\nToothbrushes\nBody lotion\nBody wash\nShaving cream\nRazors\n\nCash donations and grocery gift cards are also appreciated. Thank you for your generosity and kindness in making this Thanksgiving a season of abundance for everyone in our community.
URL:https://meadangels.org/event/thanksgiving-food-drive-november-16-17-giving-weekend/
CATEGORIES:Knights of Columbus
END:VEVENT
BEGIN:VEVENT
DTSTART;TZID=America/Denver:20241117T083000
DTEND;TZID=America/Denver:20241117T120000
DTSTAMP:20260420T153912
CREATED:20240519T205507Z
LAST-MODIFIED:20251219T141520Z
UID:10001626-1731832200-1731844800@meadangels.org
SUMMARY:Enjoy Ziggi's coffee and treats after Mass
DESCRIPTION:Indulge in the perfect post-Mass treat with Ziggi’s coffee and treats. Savor brewed coffee and pastries while sharing in the warmth of community and conversation. Join us for a sweet Sunday tradition (every 3rd Sunday of the month) for Ziggi’s coffee and treats.
URL:https://meadangels.org/event/enjoy-ziggis-coffee-and-treats-after-mass/2024-11-17/
LOCATION:Guardian Angels Catholic Church (Bakhita Hall)\, 109 S. 3rd Street\, Mead\, CO\, 80542\, United States
ATTACH;FMTTYPE=image/png:https://meadangels.org/wp-content/uploads/Ziggis-Coffee.png
END:VEVENT
BEGIN:VEVENT
DTSTART;TZID=America/Denver:20241117T180000
DTEND;TZID=America/Denver:20241117T193000
DTSTAMP:20260420T153912
CREATED:20241010T211848Z
LAST-MODIFIED:20241010T212249Z
UID:10002117-1731866400-1731871800@meadangels.org
SUMMARY:Youth Formation (6th-8th) Meeting
DESCRIPTION:All middle school youth group meet on Sunday nights 6 — 7:30 pm during the school year. The middle schoolers work on faith-based games\, service projects\, and socials. Keep an eye on the weekly bulletin for important dates and times.
URL:https://meadangels.org/event/youth-formation-6th-8th-meeting/2024-11-17/
LOCATION:Guardian Angels Catholic Church\, 109 S. 3rd Street\, Mead\, 80542\, United States
ATTACH;FMTTYPE=image/jpeg:https://meadangels.org/wp-content/uploads/youthMiddle-small-scaled.jpg
END:VEVENT
BEGIN:VEVENT
DTSTART;TZID=America/Denver:20241117T180000
DTEND;TZID=America/Denver:20241117T193000
DTSTAMP:20260420T153912
CREATED:20241010T213019Z
LAST-MODIFIED:20241010T213019Z
UID:10002127-1731866400-1731871800@meadangels.org
SUMMARY:Youth Formation (9th-12th) Meeting
DESCRIPTION:Our ministry provides a supportive environment for teenagers to explore and grow in their faith. We focus on catechesis\, sacramental preparation\, and fostering a deep relationship with God. The high schoolers work on faith-based games\, service projects\, and socials. Keep an eye on the weekly bulletin for important dates and times. \n 
URL:https://meadangels.org/event/youth-formation-9th-12th-meeting/2024-11-17/
LOCATION:Guardian Angels Catholic Church\, 109 S. 3rd Street\, Mead\, 80542\, United States
ATTACH;FMTTYPE=image/jpeg:https://meadangels.org/wp-content/uploads/youthHS-small-scaled.jpg
END:VEVENT
END:VCALENDAR